BEGIN:VCALENDAR
VERSION:2.0
PRODID:-//SWLT Egyesület - ECPv6.15.20//NONSGML v1.0//EN
CALSCALE:GREGORIAN
METHOD:PUBLISH
X-ORIGINAL-URL:https://swlt.hu
X-WR-CALDESC:Események SWLT Egyesület
REFRESH-INTERVAL;VALUE=DURATION:PT1H
X-Robots-Tag:noindex
X-PUBLISHED-TTL:PT1H
BEGIN:VTIMEZONE
TZID:UTC
BEGIN:STANDARD
TZOFFSETFROM:+0000
TZOFFSETTO:+0000
TZNAME:UTC
DTSTART:20250101T000000
END:STANDARD
END:VTIMEZONE
BEGIN:VEVENT
DTSTART;TZID=UTC:20261106T160000
DTEND;TZID=UTC:20261108T120000
DTSTAMP:20260421T113716
CREATED:20260217T131910Z
LAST-MODIFIED:20260217T132034Z
UID:2812-1793980800-1794139200@swlt.hu
SUMMARY:Hotel Transwingania 2. - swinger hétvége Gyulán - Újabb kísértések hívásában...
DESCRIPTION:IDÉN NOVEMBERBEN A HOTEL TRANSWINGÁNIA KAPUI ÚJRA FELTÁRULNAK.\n\n\n\n Az árnyak közé húzódó titkos rend tagjai közül néhányan nyomtalanul eltűntek.\n\n\n A kastélyt most ismeretlen\, sötét erő fenyegeti.\n\n\n A Főpapnő hívására lépjetek elő.\n\n\n Egyetlen pillantás a tükörben.\n Egy alig észrevehető érintés.\n És már közelebb is vagytok az igazsághoz.\n\n\n Készen álltok felfedni\, mi lappang a suttogások mögött?\n━━━━━━━━━━━━━━━\n SAVE THE DATE\n 2026. november 6–8.\n Részletek hamarosan…\n\n\nElőregisztráció\, ha nem akarsz lemaradni a legjobb szobákról:\nhttps://form.jotform.com/230092022813039
URL:https://swlt.hu/event/hotel-transwingania-2-swinger-hetvege-gyulan-ujabb-kisertesek-hivasaban/
ATTACH;FMTTYPE=image/png:https://swlt.hu/wp-content/uploads/2026/02/ChatGPT-Image-Feb-17-2026-02_11_21-PM.png
END:VEVENT
END:VCALENDAR