BEGIN:VCALENDAR
VERSION:2.0
PRODID:-//SWLT Egyesület - ECPv6.15.20//NONSGML v1.0//EN
CALSCALE:GREGORIAN
METHOD:PUBLISH
X-ORIGINAL-URL:https://swlt.hu
X-WR-CALDESC:Események SWLT Egyesület
REFRESH-INTERVAL;VALUE=DURATION:PT1H
X-Robots-Tag:noindex
X-PUBLISHED-TTL:PT1H
BEGIN:VTIMEZONE
TZID:UTC
BEGIN:STANDARD
TZOFFSETFROM:+0000
TZOFFSETTO:+0000
TZNAME:UTC
DTSTART:20240101T000000
END:STANDARD
END:VTIMEZONE
BEGIN:VEVENT
DTSTART;TZID=UTC:20251213T180000
DTEND;TZID=UTC:20251214T060000
DTSTAMP:20260421T082801
CREATED:20250811T104443Z
LAST-MODIFIED:20251117T234319Z
UID:2509-1765648800-1765692000@swlt.hu
SUMMARY:SWLT Karácsonyi Swinger GRINCS Party
DESCRIPTION:Immár hagyománynak mondható\, hogy évről évre megrendezzük meghitt hangulatban\, swinger barátok között Karácsonyi Swinger Partynkat.\nA Grincs tematika cinkossága\, pajkossága szívünk csücske lett\, így az idén is maradunk a Grincs témánál 🙂 \nA buli ünnepélyesebb kereteket kap\, így a dresscode ezúttal elegáns partyruha\, avagy bármilyen Grincshez köthető jelmez 🙂 \nKérlek\, hozz magaddal egy-egy ajándékot (párok külön-külön)\, mellyel majd felköszöntöd játékaink során kisrorsolt vendégtársad 🙂 De mi is készülünk meglepetés ajándékkal Nektek! \nIsmét SÜTIVERSENYT hirdetünk!\nNevezz Te is! Minden sütiversenyzőnk 1-1 5 000 Ft értékű SWLT utalványt kap\, míg a nyertesek 15-15 ezer Ft értékű utalványokat vihetnek haza 🙂 \nJelmezes Grincsünk egész este osztja a komiszságait és a grincs tallérjait\, mellyel megtréfálhatod vagy éppen közeledhetsz a többiekhez. \nProgram:\n18:00-tól érkezés \n18:00 – 20:00 Karácsonyi Grincs partyjátékok \n20:00 – 21:00 Karácsonyfadíszítés\, ajándékozás\, és indul a zene és tánc – DJ- vel! \n21.00 – 22.00 Átöltözés szexibe és felfrissülés \n22:00-től újrakomponált érintéses\, szexre hangoló játék Orssal\, ami vélhetően ismét hatalmas gabalyodásba torkollik 😉 Több másik térben persze önállóan beindulhat az este azok számára\, akik nem szeretnének részt venni a játékban 😉 \n6:00 Esemény zárása \nHelyszín:\nBudapest\, 16. kerületi villa – a pontos címet az eseményre való regisztráció után küldjük meg. \nRészvételi díj\n2025-re aktív SWLT tagsággal rendelkezőknek: \n\nPároknak: 35.000 Ft/pár\nSzóló férfiaknak: 35.000 Ft/fő\nSzóló hölgyeknek: 15.000 Ft/fő\n\nAz eseményre ne felejtsd el beváltani tagsági utalványod\, mely a fenti díjból vonódik le! \nAz SWLT egyesületi tagság feltételeiről tájékozódj ITT! \nRészvételi díj azoknak\, akik NEM rendelkeznek SWLT aktív tagsággal: \n\nPároknak: 45.000 Ft/pár\nSzóló férfiaknak: 45.000 Ft/fő\nSzóló hölgyeknek: 25.000 Ft/fő\n\nA részvételi díj tartalmazza: \n\nMeglepi Karácsonyi SWLT Ajándékcsomag mindenkinek\,\nteljes helyszín használatát (szextér\, étkező-közösségi tér\, fürdőszoba\, öltöző\, terasz\, udvar)\nhajnalig tartó programokat\ntörülközőt\, lepedőt\, óvszereket\njátékszerek szabad használatát\nsvédasztalos téli finomságokat\, meleg és hideg ételeket\, snacket\, gyümölcsöt\, sütiket\nalkoholmentes italokat korlátlan mennyiségben\nalkoholos italokat a józanság határáig (Whisky\, pálinka\, Jager\, Aperol spritz\, borok\, pezsgő\, gin\, vodka\, rum)\, forralt bort\nválogatott vendégkör\, diszkréció\n\nRegisztráció eseményünkre:\nHa szeretnél részt venni a bulin\, az alábbi linkre kattintva tudsz jelentkezni:\nhttps://form.jotform.com/230092022813039
URL:https://swlt.hu/event/swlt-karacsonyi-jatekos-swinger-grincs-party/
ATTACH;FMTTYPE=image/jpeg:https://swlt.hu/wp-content/uploads/2025/08/honlap_dec13_grincs_1920x1080.jpg
END:VEVENT
BEGIN:VEVENT
DTSTART;TZID=UTC:20251224T220000
DTEND;TZID=UTC:20251224T220000
DTSTAMP:20260421T082801
CREATED:20251201T215029Z
LAST-MODIFIED:20251222T164025Z
UID:2703-1766613600-1766613600@swlt.hu
SUMMARY:Karácsonyi online tombolasorsolás – játssz velünk Szenteste!
DESCRIPTION:Karácsonyi online tombolasorsolás – játssz velünk Szenteste! 🎄✨\nIdén sem maradhat el az Egyesület hagyományos karácsonyi tombolája – a sorsolást Szenteste\, online közvetítjük a YouTube csatornánkon.🎥 Kövessétek minél többen az adást\, hangolódjunk együtt az ünnepre! \n\nTombolajegy ára és jótékony cél 🎁\nA tombolajegy ára: 1 000 Ft/db\,melyből 500 Ft-ot idén is egy civil szervezet támogatására fordítunk. \nHogy pontosan hova menjen a támogatás\, azt ti döntitek el!👉 Írjátok meg nekünk emailben vagy a Facebook poszt alatt a csoportban\, hogy mely szervezetet jelölitek a támogatásra.A beérkezett javaslatokat december 7-én\, Advent második vasárnapján fogjuk megszavaztatni a Facebook csoportban. \n\nFelajánlások és nyeremények 🎉\nÉrkeznek sorra a felajánlások\, ezeket folyamatosan elkezdjük majd megosztani veletek.Minden évben több millió forint értékű nyeremény kerül kisorsolásra\, így igazán érdemes játszani! \n🎁 Felajánlásokat továbbra is fogadunk emailen: info@swlt.hu – hálásan köszönjük\, ha ezzel is támogatjátok az Egyesületet! \n\nHogyan tudsz tombolaszelvényt vásárolni? 💸\n\n\nUtalj az Egyesület bankszámlájára:👉 SWLT Egyesület👉 OTP – 11715007-21544086👉 REVOLUT Revtag: @swlt \n\n\nAnnyi összeget utalj\, ahány darab tombolát szeretnél vásárolni.(Pl. 5 db tombola = 5 000 Ft) \n\n\nA közlemény rovatba írd be:„Tombola 2025 + [tagsági kód]” \n\nA szelvényszámokat Orsi küldi Nektek a sorsolás előtti napokban.\n\n\nKi vehet részt a játékban? ✅\nFontos: játszani csak aktív tagsággal tudtok! \nHa még nem vagytok egyesületi tagok\, itt az alkalom:🎫 Váltsátok ki már most a 2026-os tagságot\, és játszatok ti is velünk a karácsonyi tombolán! \n\nNyeremények:\n2 db belépőjegy a Fighters Club privát bulijára 2×25 000 Ft\n1 alk. privát helyszín max 8 főre a Delight Clubban 50 000 Ft\n1 db belépőjegy a Tik Tak swinger Klubba 30 000 Ft\n2 db belépőjegy szlovák privát partyra 2×60 Eu\n1 db páros belépő Jan.31. Freedom Fetish partyra 18 600 Ft\n1 db Love to Love csiklóizgató – LIB Woman’s Store 47 000 Ft\n1 db 100 perces Senaya Sensual Massage 88 000 Ft\n1 db 100 perces Senaya Kink Massage 96 000 Ft\n2 db 50 %- os kedvezmény Senaya Massage akár 2×200 000 Ft\n2 db 60 perces olajos erotikus masszázs Brigitől 2×35 000 Ft\n2 db páros hangfürdő tantra programmal Anettől 2×30 000 Ft\n3 db Hypno coaching alkalom Alberttől 3×30 000 Ft\n2 db Shibari privát Session ShibariArt Danitól 2×30 000 Ft\n5 db Orvosi szemvizsgálat az Anka Optikába 5×29 900 Ft\n10 db Látásvizsgálat az Anka Optikába 10×9 900 Ft\n2 db kézműves kendő Adéltól 2×20 000 Ft\n1 db 3 fejes Örökrózsa Iron Lacitól 15 000 Ft\n3 db Karácsonyi dekoráció Reni Varázskuckójától 3×10 000 Ft\n2 db Ajándékutalvány Reni Nails szalonjába 2×10 000 Ft \nSWLT nyeremények:\n1 db Black day jegy a VI. Swinger Fesztiválra 1×30 000 Ft\n1 db White Day jegy a VI. Swinger Fesztiválra 1×45 000 Ft\n1 db Red Day jegy a VI. Swinger Fesztiválra 1×50 000 Ft\n1 db Colour Day jegy a VI. Swinger Fesztiválra 1×50 000 Ft\n1 db Pénteki party jegy a Swumanji hétvégére 1×35 000 Ft\n1 db Szombati party jegy a Swumanji hétvégére 1×35 000 Ft\n2 db belépőjegy a III. SexEduFest és Erotic partyra 2×40 000 Ft\n5 db utalvány az SWLT rendezvényeire 5×10 000 Ft\n10 db utalvány az SWLT rendezvényeire 10×5 000 Ft\nSWLT Brand termékek (bögrék\, táskák\, pólók…) max. 100 000 Ft \nÖSSZÉRTÉK: ~1 900 000 Ft!!! \nVÁSÁROLJ TOMBOLÁT DECEMBER 23. ÉJFÉLIG!
URL:https://swlt.hu/event/karacsonyi-online-tombolasorsolas-jatssz-velunk-szenteste-%f0%9f%8e%84%e2%9c%a8/
ATTACH;FMTTYPE=image/jpeg:https://swlt.hu/wp-content/uploads/2025/12/tombola_fb_event.jpg
END:VEVENT
BEGIN:VEVENT
DTSTART;TZID=UTC:20251227T180000
DTEND;TZID=UTC:20251228T080000
DTSTAMP:20260421T082801
CREATED:20250811T105417Z
LAST-MODIFIED:20251201T192813Z
UID:2511-1766858400-1766908800@swlt.hu
SUMMARY:SWLT Évzáró STAFF Swinger Party
DESCRIPTION:Fantasztikus évet tudthatunk magunk mögött ismét\, melyet az évközben és a fesztiválunkon önkéntes segítők\, szervezők körében zárunk 🙂 \nImmár közel 100 fővel dolgozunk közösen azért\, hogy az egyesületi események évről- évre egyre színvonalasabbak lehessenek\, de leginkább azért\, hogy a swinger közösség épüljön… \nSok- sok emlékezetes élmény köt bennünket már össze. Mert erről szól ez az egész\, maga az Egyesület: közös pillanatokról\, amik a kulisszák mögött történnek\, de mégis formálnak\, összehoznak\, emlékké válnak. \nAz elmúlt években megtanultuk\, hogyan lehet biztonságos teret teremteni – nem csupán fizikai értelemben\, hanem belső világaink számára is. Teret\, ahol letehetjük a hétköznapok szerepeit. Ahol nem kell másnak látszani\, mint akik vagyunk. Ahol a tisztelet\, a bizalom és az elfogadás nem elvárás\, hanem természetes alapállapot. \nA fejlődés mindig ott motoszkál a mélyebb rétegekben. A programokat nem csak szórakozásként álmodjuk meg\, hanem olyan impulzusként\, ami elindít\, elgondolkodtat\, felszabadít. Eseményeink nem csak testi kalandok – hanem lelki is.  \nAz SWLT egy tér\, ahol fejlődhetünk abban\, hogy őszintén kapcsolódjunk egymáshoz. És önmagunkhoz. \nAz elmúlt öt év során volt sok küzdelmünk is. De minden nehézséget felülírt az a szeretet és megbecsülés\, amit visszakaptunk egymástól és Tőletek. Amivé együtt váltunk. Mert ez egy élő\, lüktető közösség. \nZárjuk együtt az évet! És ahogy eddig is – veletek együtt írjuk tovább a történetet! \nRészvételi díj: 5 000 Ft/fő – batyus buli\, a fogyasztandókat közösen dobjuk össze 😉 \nHelyszín: Budapest\, medencés- szaunás party villa a 22. kerületben \nAz eseményen CSAK A STAFF TAGJAI VEHETNEK RÉSZT! \nRegisztráció: \n \n 
URL:https://swlt.hu/event/swlt-evzaro-staff-swinger-party/
ATTACH;FMTTYPE=image/jpeg:https://swlt.hu/wp-content/uploads/2025/08/honlapra_staff_party_dec27_1920x1080.jpg
END:VEVENT
END:VCALENDAR