BEGIN:VCALENDAR
VERSION:2.0
PRODID:-//SWLT Egyesület - ECPv6.15.20//NONSGML v1.0//EN
CALSCALE:GREGORIAN
METHOD:PUBLISH
X-ORIGINAL-URL:https://swlt.hu
X-WR-CALDESC:Események SWLT Egyesület
REFRESH-INTERVAL;VALUE=DURATION:PT1H
X-Robots-Tag:noindex
X-PUBLISHED-TTL:PT1H
BEGIN:VTIMEZONE
TZID:UTC
BEGIN:STANDARD
TZOFFSETFROM:+0000
TZOFFSETTO:+0000
TZNAME:UTC
DTSTART:20240101T000000
END:STANDARD
END:VTIMEZONE
BEGIN:VEVENT
DTSTART;TZID=UTC:20251107T160000
DTEND;TZID=UTC:20251109T110000
DTSTAMP:20260421T100400
CREATED:20250718T112432Z
LAST-MODIFIED:20250812T150219Z
UID:2462-1762531200-1762686000@swlt.hu
SUMMARY:Hotel Transwingania - egy Rémes Swinger Weekend a gyulai szex hotelben ;) akár 1 éjszakára vagy komplett hétvégére...
DESCRIPTION:2024 novemberében is egy fantasztikus hétvégét töltöttünk Gyulán\, a hazai egyetlen erotikus berendezésű hotelben. Ismét visszatérünk… \nHa a vágy és a borzongás határán táncolnál… akkor eljött a Te időd!\nA Hotel Transwingania egy különleges swinger hétvége\, ahol az erotika találkozik a horrorral\, a gyönyör a borzongással\, a testiség a titokkal. Ahol a maszk mögött mindenki önmaga lehet – vagy épp valaki egészen más.\n\nLépj be velünk a kastély kapuján\, ahol elmosódnak a határok vágy és valóság között!\nVárnak rád:\n🩸 vérpezsdítő erotikus játékok horror-köntösben\n🦴 félelmetesen izgató kosztümös szerepjátékok\n🕯️ sötét szertartások és meztelen testek\n🧛 vámpírok\, boszorkányok\, elátkozott szeretők… és Te!\n\nEz nem egy szokványos hétvége.\nEz egy átlényegülés.\nEgy szeánsz\, ahol a tested beszél – és a titkos vágyaid valósággá válnak.\n\n🕸️ Készen állsz\, hogy kilépj a komfortzónádból?\n🕷️ Be mersz lépni a Transwingánia sötét kapuján?\n\nA helyek száma korlátozott – csak a legbátrabbaknak!\n\nEgy szálloda\, melynek minden szobája szexre csábít 😉 A hotel minden egyes szobája más-más különleges berendezéssel bír. Itt egy táncrúd\, ott egy ketrec\, amott egy András-kereszt 😉 De a beépített berendezések tovább bővíthetők szexhintával\, tantra paddal\, káma paddal vagy akár csók fotellel 😉 \nEgy hétvége\, melyen a mi válogatott swinger társaságunk tölti meg kizárólagosan az egész szállodát\, és élünk meg közösen élményeket\, bulikat\, kalandokat\, programokat… \nNézzük akkor\, miből is nem szabad kimaradnod idén ősszel? 😉 \nHelyszín: Gyula\, Corvin Hotel \nÉtkezés: Félpanziós ellátás + éjszakai falatok (pizza) \nItalfogyasztás: A Hotelben lévő bárpultunkban Swinger Dollárral tudtok fogyasztani alkoholos és alkoholmentes italkínálatból. \nSzállás: A hotel 30 db erotikus szobájában + a szóló urak és hölgy jelentkezők részére az egy telken található Apartmanházban\, 4 db apartmanban. Párokat külön szobában\, míg szólókat – kérés alapján – akár párok mellé\, külön megegyezés hiányában közös szobába tudunk elhelyezni. Amennyiben egyedül érkező vendég saját szobát szeretne\, úgy plusz 1 fő felár fizetendő. \nMaximum létszám: 70 fő \nMinimum létszám (ennyi jelentkező esetén tartjuk meg az eseményt): 40 fő \nKüzdőterek: 1 db központi\, nagy közösségi és küzdőtér\, 3 db felszerelt\, berendezett\, különleges hangulatú szoba\, hatalmas ágyakkal\, zenével\, játékokkal… + invitálásra bármely szoba hancútérré válhat\, hiszen mindegyik szoba egyedi… \nKözösségi tér: a földszinten található Lobby (buliknak + bárpultnak) + az első emeleti\, általunk berendezett terem (nagyobb\, közös küzdőtérnek) \nWellness: wellness használat non-stop\, hatalmas jakuzzi\, szaunafelöntések \nProgramok: \n– Vámpírok\, boszorkák\, démoni szertartások\n– Maszkos élvezetek és horrorisztikusan izgató programok\n– Erotikus szerepjátékok\, ahol a tested a tét\n– Vámpír vacsora – testi kísértés szertartása\n– PszichoPerverz szoba- szenvedélyes kihallgatás\n– A testek labirintusa\n– Boszorkány szertartás erotikus rítus\n– Zombie Trip Show\n– Vágy Lottó\n\nErotikus fotózás: Páros és egyéni erotikus fotózás a hotelben \nBDSM és Shibari: Privát szeánszra jelentkezhettek\, akár a dominancia különböző szintjeit\, akár a kötözés\, mint művészet vagy akár mint terápia hatásait szeretnétek megélni. \nDresscode: vérvörös\, fekete\, latex\, bőr\, fűző\, maszk – bármi\, amitől borzong és kíván a tested!\n\n🔞 Zárt\, biztonságos közösségi esemény – csak meghívott vendégeknek.\n\n\nRészvételi díjak a Hotel TranSWinganiában szállással\, étkezéssel (a díjak tartalmazzák a szállást\, félpanziós étkezést\, az összes fenti programot/szolgáltatást + a helyszínen lepedők\, törölközők\, óvszerek\, sikosítók stb stb szokásos használatát) A feláras szolgáltatások lentebb találhatóak…: \nEgyesületi tagjainknak: \n3 részletben: \n\nrészlet- foglaló a regisztrációt követően: 5 000 Ft/fő\nrészlet Szeptember 1- ig: 50 000 Ft/fő\nrészlet: Október 30- ig: 50 000 Ft/fő\n\nÖsszesen: 105 000 Ft/fő \nEgyesületi tagsággal NEM rendelkezőknek: \n3 részletben: \n\nrészlet- foglaló a regisztrációt követően: 5 000 Ft/fő\nrészlet Szeptember 1- ig: 60 000 Ft/fő\nrészlet: Október 30- ig: 60 000 Ft/fő\n\nÖsszesen: 125 000 Ft/fő \n\nNEM TUDSZ VELÜNK TARTANI EGÉSZ HÉTVÉGÉRE VAGY A KÖZELBEN LAKSZ? NETÁN LEMARADTÁL A HOLTESZOBÁKRÓL\, MERT KÉSŐN REGISZTRÁLTÁL A RENDEZVÉNYRE? \nNE CSÜGGEDJ\, ALTERNATÍV MEGOLDÁSOKAT IS TUDUNK KÍNÁLNI 😉 \nHÉTVÉGI RÉSZVÉTELI DÍJ- SZÁLLÁS NÉLKÜLI\, TAGOKNAK: 35 000 Ft/fő\, tagsággal nem rendelkezőknek: 48 000 Ft/fő \nSZOMBAT NAPIJEGY (SZOMBAT REGGEL 10.00- VASÁRNAP REGGEL 10.00) RÉSZVÉTELI DÍJ- SZÁLLÁS NÉLKÜLI\, TAGOKNAK: 25 000 Ft/fő\, tagsággal nem rendelkezőknek: 38 000 Ft/fő \nPÉNTEK ESTÉRE VAGY SZOMBAT ESTÉRE PARTYJEGY (ESTE 18.00- TÓL REGGEL 10.00- IG) RÉSZVÉTELI DÍJ- SZÁLLÁS NÉLKÜLI\, TAGOKNAK: 15 000 Ft/fő\, tagsággal nem rendelkezőknek: 28 000 Ft/fő \nA rendezvény helyszínén a hotelszobák ELFOGYTAK!! 1 vagy 2 éjszakára szállást a partnerünknél\, a közeli Aqua Hotelben tudunk intézni Nektek- szállásigényetek\, kérjük jelezzétek felénk!!! Ezt persze mielőbb\, mert ott helyben már nem valószínű\, hogy tudunk Nektek segíteni benne… \n\nAZ ALTERNATÍV részvételi díj tartalmazza: a programokon\, szolgáltatásokban való részvételt. Étkezést nem tartalmaz\, de a csoporttal együtt kérhető- ezt jelezzétek emailben\, ha kértek! \n\nFeláras szolgáltatások/programok: \n\nExtra felszereltésgű szobák\, kiegészítő bútorok és eszközök a szobába (körágy\, tantra fotel\, káma pad\, káma fal (vagy másnéven András kereszt)\, csók fotel\, szex hinta\, ketrec\, táncrúd) : 12 000 Ft/db\nErotikus fotózás: páros fotózáson az első 3 fotó DÍJMENTES\, egyéni fotózáson az első fotó DÍJMENTES\, ezen felül 999 Ft/db\nAlmásy -Kastély\, Gyulai vár\, Erkel Ferenc Emlékház látogatása: 8400 Ft/fő\nKastély Szabadulószoba: 3000 Ft/fő\n\n\nRegisztráció:\n \n 
URL:https://swlt.hu/event/oszi-swinger-weekend-a-gyulai-szex-hotelben-2/
ATTACH;FMTTYPE=image/jpeg:https://swlt.hu/wp-content/uploads/2025/07/honlap_kiemelt_gyula2025_transwingania_1920x1080.jpg
END:VEVENT
BEGIN:VEVENT
DTSTART;TZID=UTC:20251115T180000
DTEND;TZID=UTC:20251116T020000
DTSTAMP:20260421T100400
CREATED:20250811T103018Z
LAST-MODIFIED:20251111T211203Z
UID:2504-1763229600-1763258400@swlt.hu
SUMMARY:Menjünk együtt klubba! - Tik Tak Swinger Club- Budaörs
DESCRIPTION:Ismét közös swingerklub látogatásra hívlak Benneteket! \nA program célja\, hogy azok\, akik nem jártak még a Tik Takban\, velünk együtt\, kisebb csapatban érkezhessenek\, ami talán megkönnyíti az első érkezést. Akik pedig visszajárók\, számukra is buli minden ilyen alkalom\, amikor minél többen megyünk ugyanazon helyszínre együtt 🙂 \nIrány a Tik Tak! \nAz estet ismét megelőzi egy Mentor Times\, 18.00- 19.00 között várjuk azokat a kezdő swingereket\, akik szívesen beszélgetnek tapasztaltabbakkal 🙂\n19.00- tól pedig az est résztvevői is csatlakoznak hozzánk 🙂 \nTalálkozunk a Budapest30 Pub- ban\, ahol a buli előtt tudunk még kicsit ismerkedni… majd 21:00 óra magasságában átmegyünk együtt a klubba. Aki csak később jönne\, az ott is csatlakozhat hozzánk\, de jelöljetek Ott leszek- et\, mert a létszámot le kell adnom. \nA bárban az első italra a vendégünk vagy! \nSzeretettel invitálom a kezdőket és azokat\, akik még nem jártak a Tik Tak- ban… no persze azokat is\, akik rendszeresen ott töltik a hétvégéket 😁 \nMenjünk együtt klubba! \nAz eseményen csak egyesületi tagok vehetnek részt!\nEgyesületi regisztráció:\n \nRegisztráció a közös programra:\n \nAz est díjai:SWLT – eseményregisztrációs díj: 5000 Ft/fő – regisztrációt követően utalandó\nKlub részvételi díjak – a helyszínen készpénzben fizetendő:Szóló nőknek 6 000 Ft/főSzóló férfiaknak 30 000 Ft/főPároknak 28 000 Ft/pár\nA résztvevőknek külön chat ablakot hozunk létre\, ha szeretnél\, csatlakozz \nA bejelentkezést megteszem Helyettetek 🙂 Így más dolgotok nincs\, mint regisztrálni eseményünkre!
URL:https://swlt.hu/event/menjunk-egyutt-klubba-tik-tak-swinger-club-budaors-3/
ATTACH;FMTTYPE=image/jpeg:https://swlt.hu/wp-content/uploads/2025/08/honlap_event_menjunk_egyutt_klubba_nov15_1920x1080.jpg
END:VEVENT
BEGIN:VEVENT
DTSTART;TZID=UTC:20251122T190000
DTEND;TZID=UTC:20251123T030000
DTSTAMP:20260421T100400
CREATED:20250811T103536Z
LAST-MODIFIED:20251013T112105Z
UID:2506-1763838000-1763866800@swlt.hu
SUMMARY:FFM Swinger Party- avagy a női biszexualitás a fókuszban- pároknak és szóló hölgyeknek
DESCRIPTION:Szeretjük a nőket. Nőként és férfiként egyaránt 🙂 A swinger közösségben számos biszexuális hölgy éli meg vágyait\, mégis alig akad olyan party\, amely kifejezetten a hölgyekre fókuszálna és kizárná a szóló férfiak jelenlétét. \nAz előző FFM bulijaink sikerén felbúzdulva úgy éreztük\, van helye a kezdeményezésünknek és pár havonta megrendezzük az SWLT FFM party- t 🙂 \nÉrkezés: 19.00- tól. Kapuzárás legkésőbb: 21.00- kor!\n\nLétszám: minimum 20 fő\, maximum 100 fő\n\nHelyszín: Budapest\, 22. kerület\n\nRészvételi díj 2025- re aktív SWLT tagsággal rendelkezőknek:Pároknak: 28 000 Ft/pár\nSzóló hölgyeknek: 8 000 Ft/fő\nAz eseményre ne felejtsd el beváltani utalványod\, mely a fenti díjból vonódik le!\n\nA tagság feltételeiről tájékozódj ITT!\n\nRészvételi díj azoknak\, akik NEM rendelkeznek SWLT aktív tagsággal:\n\nPároknak: 38 000 Ft/pár\nSzóló hölgyeknek: 18 000 Ft/fő\n\n\nA részvételi díj tartalmazza:\nHelyszín használatát\, programokat\, törülközőt\, lepedőt\, óvszereket\, sikosítót\, szexjátékszereket\, valamint a cateringet: húsos és zöldséges falatokat\, mártogatós zöldségeket\, snacket\, gyümölcsöt\, alkoholmentes italokat korlátlan mennyiségben\, 2 alkoholos\, szabadon választott welcome drinket (Whisky\, pálinka\, Jager\, Aperol spritz\, borok\, pezsgő\, gin\, vodka\, rum)\, válogatott vendégkör\, diszkréció.\n\nRegisztráció eseményünkre:\nhttps://form.jotform.com/230092022813039
URL:https://swlt.hu/event/ffm-swinger-party-avagy-a-noi-biszexualitas-a-fokuszban-paroknak-es-szolo-holgyeknek-2/
ATTACH;FMTTYPE=image/jpeg:https://swlt.hu/wp-content/uploads/2025/08/ffm-cover.jpg
END:VEVENT
END:VCALENDAR