BEGIN:VCALENDAR
VERSION:2.0
PRODID:-//SWLT Egyesület - ECPv6.15.20//NONSGML v1.0//EN
CALSCALE:GREGORIAN
METHOD:PUBLISH
X-WR-CALNAME:SWLT Egyesület
X-ORIGINAL-URL:https://swlt.hu
X-WR-CALDESC:Események SWLT Egyesület
REFRESH-INTERVAL;VALUE=DURATION:PT1H
X-Robots-Tag:noindex
X-PUBLISHED-TTL:PT1H
BEGIN:VTIMEZONE
TZID:UTC
BEGIN:STANDARD
TZOFFSETFROM:+0000
TZOFFSETTO:+0000
TZNAME:UTC
DTSTART:20240101T000000
END:STANDARD
END:VTIMEZONE
BEGIN:VEVENT
DTSTART;TZID=UTC:20250531T190000
DTEND;TZID=UTC:20250601T030000
DTSTAMP:20260421T170222
CREATED:20250422T074001Z
LAST-MODIFIED:20250422T074001Z
UID:2437-1748718000-1748746800@swlt.hu
SUMMARY:Kezdők éjszakája swinger party – veteránok számára korlátozott helyekkel!
DESCRIPTION:Az SWLT állandó eseménye a havonta megrendezésre kerülő Kezdők Éjszakája Swinger Party.\n\nAz estre NEM csak KEZDŐK jelentkezhetnek\, de a régi swingeresek létszámát korlátozzuk maximum 10 főben!\nA bulit megelőzi mindig egy Mentor Times délután (17.00-19.00)\, amikor is lehetőség van az érdeklődők részére egy kötetlen\, laza beszélgetésre mentorainkkkal. A délutáni program díja 5000 Ft/fő! (tagoknak)\n\nAz esti swinger party menete:19.00- 20.00 Érkezés\, Welcome Drink20.00- 21.00 Könnyed ismerkedős játékok21.00- tól zene\, tánc\, kis italozás\, dresscode szerinti öltözet átvétele (hölgyeknek szexi fehérnemű\, magassarkú\, uraknak alsónadrág és ing vagy trikó22.00- tól Érintéses játékok Orsival- ráhangolódás a nyitásra…03.00 Az esemény zárása\n\nLétszám: maximum 25 fő\nHelyszín: Budapest\, Zugló\n\nRészvételi díj 2025- re aktív SWLT tagsággal rendelkezőknek:Pároknak: 25 000 Ft/pár\nSzóló férfiaknak: 25 000 Ft/főSzóló hölgyeknek: 5 000 Ft/fő\nAz eseményre ne felejtsd el beváltani utalványod\, mely a fenti díjból vonódik le!\n\nA tagság feltételeiről tájékozódj ITT!\n\nRészvételi díj azoknak\, akik NEM rendelkeznek SWLT aktív tagsággal:\n\nPároknak: 35 000 Ft/pár\nSzóló férfiaknak: 35 000 Ft/főSzóló hölgyeknek: 15 000 Ft/fő\n\n\nA részvételi díj tartalmazza:\nEgyesület támogatói díját\, teljes helyszín használatát (szextér\, étkező- közösségi tér\, fürdőszoba\, öltöző\, terasz\, udvar)\, programokat\, zárható szekrényt\, karszalagot\, törülközőt\, lepedőt\, óvszereket\, játékszerek szabad használatát\, húsos és zöldséges falatokat\, mártogatós zöldségeket\, snacket\, gyümölcsöt\, alkoholmentes italokat korlátlan mennyiségben\, 2 alkoholos\, szabadon választott welcome drinket (Whisky\, pálinka\, Jager\, Aperol spritz\, borok\, pezsgő\, gin\, vodka\, rum)\, válogatott vendégkör\, diszkréció.\n\nRegisztráció eseményünkre:\nhttps://form.jotform.com/230092022813039
URL:https://swlt.hu/event/kezdok-ejszakaja-swinger-party-veteranok-szamara-korlatozott-helyekkel-2/
END:VEVENT
BEGIN:VEVENT
DTSTART;TZID=UTC:20250607T190000
DTEND;TZID=UTC:20250608T060000
DTSTAMP:20260421T170222
CREATED:20250523T051932Z
LAST-MODIFIED:20250523T054659Z
UID:2448-1749322800-1749362400@swlt.hu
SUMMARY:Csak Csajok - őrült csajos est játékkal\, chippendale táncossal\, beszélgetésekkel és erotikával
DESCRIPTION:Rég volt\, így ideje újra magunkra koncentrálni 😉 \nErre az estére CSAK NŐK jelentkezését várjuk! \nFincsi játékok\, beszélgetések\, chippendale táncos\, szexi ruhabörze  és akár biszex kalandok… Ki\, mire vágyik\, ezen az estén igazán csak Magadra kell figyelned\, egy intim\, szuper csajos társaságban\, ahol nincs tabu téma! \nÉrkezés: 19.00- tól\, kapuzárás: 21.00- kor! \nDresscode: bármi\, amiben önmagadnak érzed magad! Szexi ruciban vagy pizsamában\, kisestélyiben\, mackónadrágban vagy akár ruha nélkül 😉 Sminkben vagy anélkül… Ahogy Neked a legjobb 🙂 \nLétszám: minimum 10 fő\, maximum 40 fő\nHelyszín: Budapest\, Delight Club- 9. kerület\n\nRészvételi díj 2025- re aktív SWLT tagsággal rendelkező hölgyeknek (párok hölgy tagjainak és szóló nőknek egységesen): 22 000 Ft/fő\nAz eseményre ne felejtsd el beváltani utalványod\, mely a fenti díjból vonódik le!\n\nA tagság feltételeiről tájékozódj ITT!\n\nRészvételi díj azoknak\, akik NEM rendelkeznek SWLT aktív tagsággal: 32 000 Ft/fő\n\n\n\nA részvételi díj tartalmazza:\nEgyesület támogatói díját\, teljes helyszín használatát\, programokat (chippendale táncost is)\, zárható szekrényt\, karszalagot\, törülközőt\, lepedőt\, óvszereket\, játékszerek szabad használatát\, húsos és zöldséges falatokat\, mártogatós zöldségeket\, snacket\, gyümölcsöt\, alkoholmentes italokat és kávét korlátlan mennyiségben\, 2 alkoholos\, szabadon választott welcome drinket (Whisky\, pálinka\, Jager\, Aperol spritz\, borok\, pezsgő\, gin\, vodka\, rum)\, válogatott vendégkör\, diszkréció.\n\nRegisztráció eseményünkre:\nhttps://form.jotform.com/230092022813039\n 
URL:https://swlt.hu/event/csak-csajok-orult-csajos-est-jatekkal-beszelgetesekkel-es-erotikaval/
END:VEVENT
BEGIN:VEVENT
DTSTART;TZID=UTC:20250614T170000
DTEND;TZID=UTC:20250614T190000
DTSTAMP:20260421T170222
CREATED:20250523T055313Z
LAST-MODIFIED:20250523T055313Z
UID:2454-1749920400-1749927600@swlt.hu
SUMMARY:Light Nights Club- Élő Kibeszélő a swinger különböző szintjeiről
DESCRIPTION:Szeptembertől rendszeresen havonta jelennek meg új videobeszélgetéseink\, melyekben mentorainkkal vagy éppen szakemberekkel\, swingerekkel beszélgetünk egy- egy téma körül. \nAz online beszélgetéseket mindig követi egy ÉLŐ KIBESZÉLŐ est\, amire várunk Benneteket is! \nRészvételi díj Egyesületi tagoknak: 5 000 Ft/fő \nAktív tagsággal nem rendeklezőknek: 8 000 Ft/fő \nA részvételi díj tartalmazza: helyszín biztosítását\, korlátlan alkoholmentes italfogyasztás\, rágcsálnivalók\, gyümölcs. + jelenléteddel is támogatod Egyesületünk működését 🙂 \nTarts velünk Te is! \nAz esemény nem csak swingereknek szól\, szeretettel várunk minden külsős érdeklődőt is! \nRegisztráció az eseményre:
URL:https://swlt.hu/event/light-nights-club-elo-kibeszelo-a-swinger-kulonbozo-szintjeirol/
END:VEVENT
BEGIN:VEVENT
DTSTART;TZID=UTC:20250614T200000
DTEND;TZID=UTC:20250615T030000
DTSTAMP:20260421T170222
CREATED:20250523T055015Z
LAST-MODIFIED:20250523T055119Z
UID:2451-1749931200-1749956400@swlt.hu
SUMMARY:Totál BI Party- privát swinger party biszexuális pároknak és szólóknak
DESCRIPTION:Immár több nagy sikerű\, Totál Bi partynk sikerén felbúzdulva\, ismét megrendeznénk egy olyan swinger bulit\, amelyre szeretettel várjuk a női és férfi biszexualitásra nyitott párokat\, szóló hölgyeket és urakat 🙂 \nA résztvevők száma minimum 20 fő\, maximum 50 fő! \nHelyszín: Budapest\, Norberto rezidencia\, Zugló \nKapunyitás: 20.00 tól (vegyél részt a buli előtti Kibeszélőn is 17.00- tól 😉 ) \nRészvételi díj 2025- re aktív SWLT tagsággal rendelkezőknek:Pároknak: 25 000 Ft/pár\nSzóló férfiaknak: 25 000 Ft/főSzóló hölgyeknek: 5 000 Ft/fő\nAz eseményre ne felejtsd el beváltani utalványod\, mely a fenti díjból vonódik le!\n\nA tagság feltételeiről tájékozódj ITT!\n\nRészvételi díj azoknak\, akik NEM rendelkeznek SWLT aktív tagsággal:\n\nPároknak: 35 000 Ft/pár\nSzóló férfiaknak: 35 000 Ft/főSzóló hölgyeknek: 15 000 Ft/fő\n\n\nA részvételi díj tartalmazza:\nEgyesület támogatói díját\, teljes helyszín használatát\, programokat\, zárható szekrényt\, karszalagot\, törülközőt\, lepedőt\, óvszereket\, játékszerek szabad használatát\, húsos és zöldséges falatokat\, mártogatós zöldségeket\, snacket\, gyümölcsöt\, alkoholmentes italokat korlátlan mennyiségben\, 2 alkoholos\, szabadon választott welcome drinket (Whisky\, pálinka\, Jager\, Aperol spritz\, borok\, pezsgő\, gin\, vodka\, rum)\, válogatott vendégkör\, diszkréció.\n\nRegisztráció eseményünkre:\nhttps://form.jotform.com/230092022813039
URL:https://swlt.hu/event/total-bi-party-privat-swinger-party-biszexualis-paroknak-es-szoloknak-5/
ATTACH;FMTTYPE=image/png:https://swlt.hu/wp-content/uploads/2025/05/Purple-Black-Modern-Music-Festival-Facebook-Event-Cover-784-x-295-px-3-1-1.png
END:VEVENT
BEGIN:VEVENT
DTSTART;TZID=UTC:20250628T170000
DTEND;TZID=UTC:20250628T190000
DTSTAMP:20260421T170222
CREATED:20250422T073326Z
LAST-MODIFIED:20250422T073347Z
UID:2432-1751130000-1751137200@swlt.hu
SUMMARY:Mentor Times Délután- Kötetlen beszélgetés kezdőknek a swinger világról
DESCRIPTION:Az SWLT havi rendszeres eseménye a Mentor Times délután \n\n\nEzúttal a helyszínünk Fót\, ahol szauna\, dézsa és egy hatalmas kültéri medence is vár bennünket\, így a beszélgetést nem a házban tartjuk 😉\n\n\nMentoraink sok éves tapasztalattal rendelkező swingerek\, akik elkötelezettek amellett\, hogy segítsék azokat a párokat és szólókat\, akik még most kezdenének nyitni kapcsolatukon vagy alapvetően ismerkedni ezzel a világgal.\n\nA beszélgetés kötetlen\, bár az alapokat mindig igyekszünk érinteni\, de tulajdonképpen a vendégek irányítják a beszélgetést. Igyekszünk megválaszolni minden kérdést és megosztani Veletek tapasztalatainkat.\n\nA résztvevők száma maximum 30 fő!\n\nIdőpont: 17.00- tól 19.00- ig (19.00- tól pedig indul a Kezdők Éjszakája Swinger Party\, azt se hagyjátok ki 😉 )\n\nHelyszín: Fót\n\nA program díja: SWLT tagoknak: 5 000 Ft/fő\, másoknak: 8 000 Ft/fő\, melyet az eseményregisztrációt követően várunk az alábbi számlaszámra:\n\nSWLT Egyesület- OTP – 11715007-21544086\nKözlemény: Támogatás 0628 MT\n\nREGISZTRÁCIÓ AZ ESEMÉNYRE:\nhttps://form.jotform.com/230092022813039
URL:https://swlt.hu/event/2432/
END:VEVENT
BEGIN:VEVENT
DTSTART;TZID=UTC:20250628T190000
DTEND;TZID=UTC:20250629T030000
DTSTAMP:20260421T170222
CREATED:20250422T073036Z
LAST-MODIFIED:20250422T073036Z
UID:2429-1751137200-1751166000@swlt.hu
SUMMARY:Kezdők Éjszakája MEDENCÉS Swinger Party
DESCRIPTION:Az SWLT állandó eseménye a havonta megrendezésre kerülő Kezdők Éjszakája Swinger Party.\n\nEzúttal a helyszínünk Fót\, ahol szauna\, dézsa és egy hatalmas kültéri medence is vár bennünket\, hogy ne csak az ágyak nedvesedjenek 😉\n\nAz estre NEM csak KEZDŐK jelentkezhetnek\, de a régi swingeresek létszámát korlátozzuk maximum 10 főben!\nA bulit megelőzi mindig egy Mentor Times délután (17.00-19.00)\, amikor is lehetőség van az érdeklődők részére egy kötetlen\, laza beszélgetésre mentorainkkkal. A délutáni program díja 5000 Ft/fő! (tagoknak)\n\nAz esti swinger party menete:19.00- 20.00 Érkezés\, Welcome Drink20.00- 21.00 Medencés erotikus játékok21.00- tól zene\, tánc\, kis italozás\, dresscode szerinti öltözet átvétele (hölgyeknek szexi fehérnemű\, magassarkú\, uraknak alsónadrág és ing vagy trikó22.00- tól Érintéses játékok Orsival- ráhangolódás a nyitásra…03.00 Az esemény zárása\n\nLétszám: maximum 60 fő\nHelyszín: Fót\n\nRészvételi díj 2025- re aktív SWLT tagsággal rendelkezőknek:Pároknak: 25 000 Ft/pár\nSzóló férfiaknak: 25 000 Ft/főSzóló hölgyeknek: 5 000 Ft/fő\nAz eseményre ne felejtsd el beváltani utalványod\, mely a fenti díjból vonódik le!\n\nA tagság feltételeiről tájékozódj ITT!\n\nRészvételi díj azoknak\, akik NEM rendelkeznek SWLT aktív tagsággal:\n\nPároknak: 35 000 Ft/pár\nSzóló férfiaknak: 35 000 Ft/főSzóló hölgyeknek: 15 000 Ft/fő\n\n\nA részvételi díj tartalmazza:\nEgyesület támogatói díját\, teljes helyszín használatát (szextér\, étkező- közösségi tér\, fürdőszoba\, öltöző\, terasz\, udvar)\, programokat\, zárható szekrényt\, karszalagot\, törülközőt\, lepedőt\, óvszereket\, játékszerek szabad használatát\, húsos és zöldséges falatokat\, mártogatós zöldségeket\, snacket\, gyümölcsöt\, alkoholmentes italokat korlátlan mennyiségben\, 2 alkoholos\, szabadon választott welcome drinket (Whisky\, pálinka\, Jager\, Aperol spritz\, borok\, pezsgő\, gin\, vodka\, rum)\, válogatott vendégkör\, diszkréció.\n\nRegisztráció eseményünkre:\nhttps://form.jotform.com/230092022813039
URL:https://swlt.hu/event/kezdok-ejszakaja-medences-swinger-party/
END:VEVENT
END:VCALENDAR