BEGIN:VCALENDAR
VERSION:2.0
PRODID:-//SWLT Egyesület - ECPv6.15.20//NONSGML v1.0//EN
CALSCALE:GREGORIAN
METHOD:PUBLISH
X-WR-CALNAME:SWLT Egyesület
X-ORIGINAL-URL:https://swlt.hu
X-WR-CALDESC:Események SWLT Egyesület
REFRESH-INTERVAL;VALUE=DURATION:PT1H
X-Robots-Tag:noindex
X-PUBLISHED-TTL:PT1H
BEGIN:VTIMEZONE
TZID:UTC
BEGIN:STANDARD
TZOFFSETFROM:+0000
TZOFFSETTO:+0000
TZNAME:UTC
DTSTART:20240101T000000
END:STANDARD
END:VTIMEZONE
BEGIN:VEVENT
DTSTART;TZID=UTC:20250208T190000
DTEND;TZID=UTC:20250209T030000
DTSTAMP:20260421T223656
CREATED:20241009T062916Z
LAST-MODIFIED:20241009T062916Z
UID:2008-1739041200-1739070000@swlt.hu
SUMMARY:Totál Bi Swinger Antivalentin Party -  a férfi és női biszexuálisra egyaránt nyitott pároknak és szólóknak
DESCRIPTION:Immár több alkalommal megrendezett Totál Bi partynk sikerén felbúzdulva\, 2025- ben kéthavonta kerülnek megrendezésre ezen tematikus swinger bulijaink\, amelyre szeretettel várjuk a női és férfi biszexualitásra nyitott párokat\, szóló hölgyeket és urakat 🙂 \nLétszám: maximum 30 fő\n\nRészvételi díj 2025- re aktív SWLT tagsággal rendelkezőknek:Pároknak: 25 000 Ft/pár\nSzóló férfiaknak: 25 000 Ft/főSzóló hölgyeknek: 5 000 Ft/fő\nAz eseményre ne felejtsd el beváltani utalványod\, mely a fenti díjból vonódik le!\n\nA tagság feltételeiről tájékozódj ITT!\n\nRészvételi díj azoknak\, akik NEM rendelkeznek SWLT aktív tagsággal:\n\nPároknak: 35 000 Ft/pár\nSzóló férfiaknak: 35 000 Ft/főSzóló hölgyeknek: 15 000 Ft/fő\n\n\nA részvételi díj tartalmazza:\nHelyszínt (szextér\, étkező- közösségi tér\, fürdőszoba\, öltöző\, terasz\, udvar)\, programokat\, zárható szekrényt\, karszalagot\, törülközőt\, lepedőt\, óvszereket\, játékszerek szabad használatát\, húsos és zöldséges falatokat\, mártogatós zöldségeket\, snacket\, gyümölcsöt\, alkoholmentes italokat korlátlan mennyiségben\, 2 alkoholos\, szabadon választott welcome drinket (Whisky\, pálinka\, Jager\, Aperol spritz\, borok\, pezsgő\, gin\, vodka\, rum)\, válogatott vendégkör\, diszkréció.\n\nA helyszínen ottalvást\, korlátozott létszámban tudunk biztosítani: 5 000 Ft/fő díjon.\n\nRegisztráció eseményünkre:\nhttps://form.jotform.com/230092022813039
URL:https://swlt.hu/event/total-bi-swinger-antivalentin-party-a-ferfi-es-noi-biszexualisra-egyarant-nyitott-paroknak-es-szoloknak/
END:VEVENT
BEGIN:VEVENT
DTSTART;TZID=UTC:20250215T090000
DTEND;TZID=UTC:20250216T230000
DTSTAMP:20260421T223656
CREATED:20241009T063254Z
LAST-MODIFIED:20250201T083706Z
UID:2010-1739610000-1739746800@swlt.hu
SUMMARY:II. SexEduFest - az SWLT kétnapos Szexuális Edukációs Fesztiválja
DESCRIPTION:Ha nem csak beszélnél a szexről…. \nAz I. SexEduFest bebizonyította\, hogy igény van Részetekről is egy olyan fesztiválra\, melyen nem a szórakozásé\, hanem a fejlődésé a főszerep… Számos szexuális edukációs programot valósítottunk meg már az elmúlt években és a nyári Swinger Fesztiválainkon is rengeteg workshop\, előadás\, beszélgetés szokott teltházzal dübörögni. Úgy gondoltuk\, örülnétek együtt töltött újabb két napnak… \nNézzük\, mire számíthattok… \nFebruár 15-16- át\, két egymást követő napot\, duplikált programokkal töltöttünk meg. A válogatásnál a fő szempont a gyakorlatias\, interaktív megközelítés volt\, hiszen mi NEM CSAK BESZÉLNI szeretnénk a szexről… Így a workshop- okon érintünk\, izgatunk\, csókolunk\, gyakorlunk… \nEgyszerre 3 teremben párhuzamosan megismerkedhettek többek között a női orgazmusok színeivel\, az érintés és masszázs erejével\, finom és durva játékszerekkel\, az anális szex rejtelmeivel\, de teret kap a szexuális kommunikáció és tantrikus megközelítések is… \nAjánlott Dresscode: Biztosítunk mindenki számára egy fehér lepedőt\, mellyel halványan elfedhetitek testeteket. A lepedő/kendő alá ajánlott a meztelenség\, de fürdőruha\, fehérnemű stb is engedélyezett. Cél a hétköznapok levetkőzése\, a testünk átengedése új dolgoknak és egymás kölcsönös elfogadása. De épp ennyire fontos szempont a komfort- és biztonságérzet… Ezen a hétvégén nem a többiek vágyának felkeltése a cél\, hanem önmagunkra és partnerünkre figyelés… \nA RÉSZLETES PROGRAMOT ITT TALÁLOD \nRészvételi díj: \nKétnapos jegy: 55 000 Ft \nKétnapos jegy pároknak: 75 000 Ft \nNapijegy: 32 000 Ft \nNapijegy pároknak: 52 000 Ft \nTámogatói jegy (ha nem tudsz eljönni\, de szupernek tartod a kezdeményezést és szívesen támogatnád a megvalósítást): 15 000 Ft \nKEDVEZMÉNYEK: \nSWLT aktív tagoknak: 20 % kedvezmény \n  \nREGISZTRÁCIÓ: \nhttps://form.jotform.com/230092022813039
URL:https://swlt.hu/event/ii-sexedufest-az-swlt-ketnapos-szexualis-edukacios-fesztivalja/
END:VEVENT
BEGIN:VEVENT
DTSTART;TZID=UTC:20250222T190000
DTEND;TZID=UTC:20250223T040000
DTSTAMP:20260421T223656
CREATED:20241104T165051Z
LAST-MODIFIED:20241104T165139Z
UID:2070-1740250800-1740283200@swlt.hu
SUMMARY:Kezdők Éjszakája Swinger Party az SWLT Központban
DESCRIPTION:Zuglói Központunk állandó eleme a havonta megrendezésre kerülő Kezdők Éjszakája Swinger Party.\n\nAz estre NEM csak KEZDŐK jelentkezhetnek\, de a régi swingeresek létszámát korlátozzuk maximum 10 főben!\nA bulit megelőzi mindig egy Mentor Times délután (16.00-18.00)\, amikor is lehetőség van az érdeklődők részére egy kötetlen\, laza beszélgetésre mentorainkkkal. A délutáni program díja 5000 Ft/fő!\n\nAz esti swinger party menete:19.00- 20.00 Érkezés\, Welcome Drink20.00- 22.00 Könnyed ismerkedős játékok22.00- tól zene\, tánc\, kis italozás\, dresscode szerinti öltözet átvétele (hölgyeknek szexi fehérnemű\, magassarkú\, uraknak alsónadrág és ing vagy trikó23.00- tól Érintéses játékok Orsival- ráhangolódás a nyitásra…06.00 Az esemény zárása\n\nLétszám: maximum 25 fő\n\nRészvételi díj 2025- re aktív SWLT tagsággal rendelkezőknek:Pároknak: 25 000 Ft/pár\nSzóló férfiaknak: 25 000 Ft/főSzóló hölgyeknek: 5 000 Ft/fő\nAz eseményre ne felejtsd el beváltani utalványod\, mely a fenti díjból vonódik le!\n\nA tagság feltételeiről tájékozódj ITT!\n\nRészvételi díj azoknak\, akik NEM rendelkeznek SWLT aktív tagsággal:\n\nPároknak: 35 000 Ft/pár\nSzóló férfiaknak: 35 000 Ft/főSzóló hölgyeknek: 15 000 Ft/fő\n\n\nA részvételi díj tartalmazza:\nEgyesület támogatói díját\, teljes helyszín használatát (szextér\, étkező- közösségi tér\, fürdőszoba\, öltöző\, terasz\, udvar)\, programokat\, zárható szekrényt\, karszalagot\, törülközőt\, lepedőt\, óvszereket\, játékszerek szabad használatát\, húsos és zöldséges falatokat\, mártogatós zöldségeket\, snacket\, gyümölcsöt\, alkoholmentes italokat korlátlan mennyiségben\, 2 alkoholos\, szabadon választott welcome drinket (Whisky\, pálinka\, Jager\, Aperol spritz\, borok\, pezsgő\, gin\, vodka\, rum)\, válogatott vendégkör\, diszkréció.\n\nRegisztráció eseményünkre:\nhttps://form.jotform.com/230092022813039
URL:https://swlt.hu/event/kezdok-ejszakaja-swinger-party-az-swlt-kozpontban-7/
END:VEVENT
END:VCALENDAR