BEGIN:VCALENDAR
VERSION:2.0
PRODID:-//SWLT Egyesület - ECPv6.15.20//NONSGML v1.0//EN
CALSCALE:GREGORIAN
METHOD:PUBLISH
X-WR-CALNAME:SWLT Egyesület
X-ORIGINAL-URL:https://swlt.hu
X-WR-CALDESC:Események SWLT Egyesület
REFRESH-INTERVAL;VALUE=DURATION:PT1H
X-Robots-Tag:noindex
X-PUBLISHED-TTL:PT1H
BEGIN:VTIMEZONE
TZID:UTC
BEGIN:STANDARD
TZOFFSETFROM:+0000
TZOFFSETTO:+0000
TZNAME:UTC
DTSTART:20230101T000000
END:STANDARD
END:VTIMEZONE
BEGIN:VEVENT
DTSTART;TZID=UTC:20241004T180000
DTEND;TZID=UTC:20241005T060000
DTSTAMP:20260422T041518
CREATED:20240729T151306Z
LAST-MODIFIED:20240907T102731Z
UID:1826-1728064800-1728108000@swlt.hu
SUMMARY:Játék Party- Ismerkedős Mókás Játék Est az SWLT Központban
DESCRIPTION:Ismét egy kalandos- játékos\, extra vidám éjszakába hívlak Benneteket 🙂\nVáltozatos játékokkal várunk Benneteket! \nA program során 3-6 fős csapatokban\, különböző erotikus töltetű\, vicces és zenés\, táncos\, furmányos játék és feladvány során juthatnak a csapatok pontokhoz és közben ismerhetik meg egymást mélyebben és mélyebben… \nA győzteseket ezúttal is sokkezes masszázzsal kényeztetjük\, de aztán folytatódhat a játék egészen pirkadatig\, akárcsak legutóbb 😉 \nA programot kifejezetten ajánljuk Kezdő swingereknek\, akik úgy érzik\, egyelőre csak ismerkedni szeretnének hasonló gondolkodásúakkal. \nJátékmester: Ors\nHelyszín: Bp.- Zugló\, SWLT Központ \nLétszám: maximum 30 fő\n\nRészvételi díj:\nFanatikus tagjainknak: 15 000 Ft/pár\nCsapatjátékos tagjainknak: 18 000 Ft/pár\nMegfigyelő tagjainknak: 20 000 Ft/pár\nSzóló férfiaknak a fenti díjak per fő értendők!\nSzóló hölgyeknek a fenti díjból 10 000 Ft kedvezményt biztosítunk!\n\nA részvételi díj tartalmazza:\nEgyesület támogatói díját\, teljes helyszín használatát (szextér\, étkező- közösségi tér\, fürdőszoba\, öltöző\, terasz\, udvar)\, programokat\, zárható szekrényt\, karszalagot\, törülközőt\, lepedőt\, óvszereket\, játékszerek szabad használatát\, snacket\, gyümölcsöt\, alkoholmentes italokat korlátlan mennyiségben\, 2 alkoholos\, szabadon választott welcome drinket (Whisky\, pálinka\, Jager\, Aperol spritz\, borok\, pezsgő\, gin\, vodka\, rum)\, válogatott vendégkör\, diszkréció.\n\nRegisztráció eseményünkre:\nhttps://form.jotform.com/230092022813039
URL:https://swlt.hu/event/jatek-party-ismerkedos-mokas-jatek-est-az-swlt-kozpontban/
END:VEVENT
BEGIN:VEVENT
DTSTART;TZID=UTC:20241005T190000
DTEND;TZID=UTC:20241006T040000
DTSTAMP:20260422T041518
CREATED:20240911T071622Z
LAST-MODIFIED:20241003T050934Z
UID:1930-1728154800-1728187200@swlt.hu
SUMMARY:FFM Swinger Party - Női többesre\, női biszexuálitásra nyitott pároknak és szóló nőknek
DESCRIPTION:FFM Swinger Partynk azoknak a pároknak és szóló nőknek kedvez\, akik nyitottak a női biszexualitás megélésére… \nSzóló urakat ezúttal NEM tudunk fogadni! \nDresscode: 21.00- ig party ruha\, 21.00- tól nőknek szexi ruha\, férfiaknak póló/trikó + alsónadrág \nKezdés: 19.00 – Zárás: 04.00 \nMax létszám: 28 fő\, kérlek jelentkezz időben! \n\nRészvételi díj:\nFanatikus tagjainknak: 15 000 Ft/pár\nCsapatjátékos tagjainknak: 18 000 Ft/pár\nMegfigyelő tagjainknak: 20 000 Ft/pár\nSzóló hölgyeknek az esemény DÍJMENTES!\n\nA részvételi díj tartalmazza:\nProgram + teljes helyszín használatát (szextér\, étkező- közösségi tér\, fürdőszoba\, öltöző\, terasz\, udvar)\, programokat\, zárható szekrényt\, karszalagot\, törülközőt\, lepedőt\, óvszereket\, játékszerek szabad használatát\, snacket\, gyümölcsöt\, alkoholmentes italokat korlátlan mennyiségben\, 2 alkoholos\, szabadon választott welcome drinket (Whisky\, pálinka\, Jager\, Aperol spritz\, borok\, pezsgő\, gin\, vodka\, rum)\, válogatott vendégkör\, diszkréció.\n\nRegisztráció eseményünkre:\nhttps://form.jotform.com/230092022813039
URL:https://swlt.hu/event/ffm-swinger-party-noi-tobbesre-noi-biszexualitasra-nyitott-paroknak-es-szolo-noknek/
END:VEVENT
BEGIN:VEVENT
DTSTART;TZID=UTC:20241011T190000
DTEND;TZID=UTC:20241011T210000
DTSTAMP:20260422T041518
CREATED:20240911T071835Z
LAST-MODIFIED:20240911T071835Z
UID:1932-1728673200-1728680400@swlt.hu
SUMMARY:Light Nights Club- Élő Kibeszélő- Téma: A női NEM a swingerben - SWLT Központ
DESCRIPTION:Szeptembertől rendszeresen havonta jelennek meg új videobeszélgetéseink\, melyekben mentorainkkal vagy éppen szakemberekkel\, swingerekkel beszélgetünk egy- egy téma körül. \nAz online beszélgetéseket mindig követi egy ÉLŐ KIBESZÉLŐ est\, amire várunk Benneteket is a Központba! \nAz első alkalom szeptember 13. Péntek 🙂 19.00- tól! \nRészvételi díj: 5 000 Ft/fő \nA részvételi díj tartalmazza: helyszín biztosítását\, korlátlan alkoholmentes italfogyasztás\, rágcsálnivalók\, gyümölcs. + jelenléteddel is támogatod Egyesületünk működését 🙂 \nTarts velünk Te is! \nAz esemény nem csak swignereknek szól\, szeretettel várunk minden külsős érdeklődőt is! – Részvételi díj nem SWLT tagoknak:  8 000 Ft/fő \nRegisztráció az eseményre: \n \n 
URL:https://swlt.hu/event/light-nights-club-elo-kibeszelo-tema-a-noi-nem-a-swingerben-swlt-kozpont/
END:VEVENT
BEGIN:VEVENT
DTSTART;TZID=UTC:20241013T140000
DTEND;TZID=UTC:20241013T180000
DTSTAMP:20260422T041518
CREATED:20240911T073018Z
LAST-MODIFIED:20240911T093308Z
UID:1934-1728828000-1728842400@swlt.hu
SUMMARY:SexEduBest- Művészetterápiás workshop pároknak Dalmával és mellszobor készítés
DESCRIPTION:Újabb izgalmas dupla programmal várunk Benneteket egy kellemes vasárnap délutánra 🙂 \n14.00- tól Mellszobor készítés \nGipszpólyák felhasználásával lenyomatot készítünk melleidről\, melyet száradás után (a művészetterápiás program után) festünk\, díszítünk\, hogy otthon lakásodat ékesítse. \n15.00- tól Művészetterápiás workshop \nA művészetterápiás foglalkozás pároknak kerül megrendezésre. A résztvevők páros művészeti kihívásokban vesznek részt\, majd a csoport közösen megbeszéli az átélt élményeket. \n\na foglalkozást Takács Dalma művészetterapeuta tartja\nolyan ruhában gyere\, amit nem sajnálsz\, ha esetleg festékes lesz\n\n  \n17.00- tól pedig Mellszobor festés \nA megszáradt mellszobrokat festjük\, díszítjük \n  \nEzúttal a részvételt CSAK PÁROKNAK ajánljuk! \nMax létszám: 7 pár kérlek jelentkezz időben! \n\nRészvételi díj:\nFanatikus tagjainknak: 15 000 Ft/pár\nCsapatjátékos tagjainknak: 18 000 Ft/pár\nMegfigyelő tagjainknak: 20 000 Ft/pár\n\nA részvételi díj tartalmazza:\nProgram + teljes helyszín használatát (szextér\, étkező- közösségi tér\, fürdőszoba\, öltöző\, terasz\, udvar)\, programokat\, zárható szekrényt\, karszalagot\, törülközőt\, lepedőt\, óvszereket\, játékszerek szabad használatát\, snacket\, gyümölcsöt\, alkoholmentes italokat korlátlan mennyiségben\, 2 alkoholos\, szabadon választott welcome drinket (Whisky\, pálinka\, Jager\, Aperol spritz\, borok\, pezsgő\, gin\, vodka\, rum)\, válogatott vendégkör\, diszkréció.\n\nRegisztráció eseményünkre:\nhttps://form.jotform.com/230092022813039
URL:https://swlt.hu/event/sexedubest-muveszetterapias-workshop-paroknak-dalmaval-es-mellszobor-keszites/
END:VEVENT
BEGIN:VEVENT
DTSTART;TZID=UTC:20241019T190000
DTEND;TZID=UTC:20241020T040000
DTSTAMP:20260422T041518
CREATED:20240925T094833Z
LAST-MODIFIED:20240925T094958Z
UID:1965-1729364400-1729396800@swlt.hu
SUMMARY:SWLT Házibuli - egy este a zene\, a tánc\, az ismerkedés jegyében
DESCRIPTION:Számtalanszor állapítottuk már meg\, mennyire jól sikerül minden baráti összeröffenés\, amely kötelezettségmentesen\, csak egy házibulinak indul… És hogy milyen jó lenne olyan swinger bulikat is csinálni\, amelyek hasonlóan indulnak\, nem a szex áll a középpontban + még táncolunk is egy jót… \nTerveink szerint havonta rendeznénk meg az SWLT Házibulikat\, melyeken a zenéé és a táncé a főszerep. Időnként akár tematikusan egy- egy stílusirányt követve… \nProgram: \n19.00 Kapunyitás \n19.00-22.00 Lakatos és egyéb háttérjáték\, megkönnyítve az ismerkedés első lépéseit \n19.00- tól kifulladásig DJ\, full fény- és hangtechnikával\, változatos retró és mai slágerekkel- külföldi és hazai válogatásokkal- Disco \nKapuzárás: 22.00!! \nAz este során a szex alkalomszerűen kialakulhat\, de ez nem egy hagyományos swinger buli\, így aki csak emiatt jönne\, az nézzen be inkább a következő héten 😉 \nProgramunkat kifejezetten ajánljuk viszont kezdőknek\, táncoslábúaknak\, régi motorosoknak\, hogy a barátokkal és akár új swingerekkel találkozzanak és eltöltsünk együtt egy önfeledt estét 🙂 \nLétszám: maximum 30 fő\n\nRészvételi díj:Fanatikus tagjainknak: 15 000 Ft/párCsapatjátékos tagjainknak: 18 000 Ft/párMegfigyelő tagjainknak: 20 000 Ft/párSzóló férfiaknak a fenti díjak per fő értendők!Szóló hölgyeknek a fenti díjból 10 000 Ft kedvezményt biztosítunk!\n\nA részvételi díj tartalmazza:\nEgyesület támogatói díját\, teljes helyszín használatát (szextér\, étkező- közösségi tér\, fürdőszoba\, öltöző\, terasz\, udvar)\, programokat\, zárható szekrényt\, karszalagot\, törülközőt\, lepedőt\, óvszereket\, játékszerek szabad használatát\, snacket\, gyümölcsöt\, alkoholmentes italokat korlátlan mennyiségben\, 2 alkoholos\, szabadon választott welcome drinket (Whisky\, pálinka\, Jager\, Aperol spritz\, borok\, pezsgő\, gin\, vodka\, rum)\, válogatott vendégkör\, diszkréció.\n\nRegisztráció eseményünkre:\nhttps://form.jotform.com/230092022813039
URL:https://swlt.hu/event/swlt-hazibuli-egy-este-a-zene-a-tanc-az-ismerkedes-jegyeben/
END:VEVENT
BEGIN:VEVENT
DTSTART;TZID=UTC:20241026T160000
DTEND;TZID=UTC:20241026T180000
DTSTAMP:20260422T041518
CREATED:20240911T075555Z
LAST-MODIFIED:20240911T075555Z
UID:1938-1729958400-1729965600@swlt.hu
SUMMARY:Mentor Times Délután- Kötetlen beszélgetés kezdőknek a swinger világról
DESCRIPTION:Az SWLT Központ havi rendszeres eseménye a Mentor Times délután \n\nMentoraink sok éves tapasztalattal rendelkező swingerek\, akik elkötelezettek amellett\, hogy segítsék azokat a párokat és szólókat\, akik még most kezdenének nyitni kapcsolatukon vagy alapvetően ismerkedni ezzel a világgal.\n\nA beszélgetés kötetlen\, bár az alapokat mindig igyekszünk érinteni\, de tulajdonképpen a vendégek irányítják a beszélgetést. Igyekszünk megválaszolni minden kérdést és megosztani Veletek tapasztalatainkat.\n\nA résztvevők száma maximum 25 fő!\n\nIdőpont: 16.00- tól 18.00- ig (19.00- tól pedig indul a Kezdők Éjszakája Swinger Party\, azt se hagyjátok ki 😉 )\n\nHelyszín: SWLT Központ\, Zugló\n\nA program díja: 5 000 Ft/fő\, melyet az eseményregisztrációt követően várunk az alábbi számlaszámra:\n\nSWLT Egyesület- OTP – 11715007-21544086\nKözlemény: Támogatás 0830 MT\n\nREGISZTRÁCIÓ AZ ESEMÉNYRE:\nhttps://form.jotform.com/230092022813039
URL:https://swlt.hu/event/mentor-times-delutan-kotetlen-beszelgetes-kezdoknek-a-swinger-vilagrol-4/
END:VEVENT
BEGIN:VEVENT
DTSTART;TZID=UTC:20241026T190000
DTEND;TZID=UTC:20241027T040000
DTSTAMP:20260422T041518
CREATED:20241001T101402Z
LAST-MODIFIED:20241001T101402Z
UID:1990-1729969200-1730001600@swlt.hu
SUMMARY:Kezdők Éjszakája Swinger Party az SWLT Központban
DESCRIPTION:Zuglói Központunk állandó eleme a havonta megrendezésre kerülő Kezdők Éjszakája Swinger Party.\n\nAz estre NEM csak KEZDŐK jelentkezhetnek\, de a régi swingeresek létszámát korlátozzuk maximum 10 főben!\nA bulit megelőzi mindig egy Mentor Times délután (16.00-18.00)\, amikor is lehetőség van az érdeklődők részére egy kötetlen\, laza beszélgetésre mentorainkkkal. A délutáni program díja 5000 Ft/fő!\n\nAz esti swinger party menete:19.00- 20.00 Érkezés\, Welcome Drink20.00- 22.00 Könnyed ismerkedős játékok22.00- tól zene\, tánc\, kis italozás\, dresscode szerinti öltözet átvétele (hölgyeknek szexi fehérnemű\, magassarkú\, uraknak alsónadrág és ing vagy trikó23.00- tól Érintéses játékok Orsival- ráhangolódás a nyitásra…06.00 Az esemény zárása\n\nLétszám: maximum 25 fő\n\nRészvételi díj:Fanatikus tagjainknak: 15 000 Ft/párCsapatjátékos tagjainknak: 18 000 Ft/párMegfigyelő tagjainknak: 20 000 Ft/párSzóló férfiaknak a fenti díjak per fő értendők!Szóló hölgyeknek a fenti díjból 10 000 Ft kedvezményt biztosítunk!\n\nA részvételi díj tartalmazza:\nEgyesület támogatói díját\, teljes helyszín használatát (szextér\, étkező- közösségi tér\, fürdőszoba\, öltöző\, terasz\, udvar)\, programokat\, zárható szekrényt\, karszalagot\, törülközőt\, lepedőt\, óvszereket\, játékszerek szabad használatát\, snacket\, gyümölcsöt\, alkoholmentes italokat korlátlan mennyiségben\, 2 alkoholos\, szabadon választott welcome drinket (Whisky\, pálinka\, Jager\, Aperol spritz\, borok\, pezsgő\, gin\, vodka\, rum)\, válogatott vendégkör\, diszkréció.\n\nRegisztráció eseményünkre:\nhttps://form.jotform.com/230092022813039
URL:https://swlt.hu/event/kezdok-ejszakaja-swinger-party-az-swlt-kozpontban-4/
END:VEVENT
BEGIN:VEVENT
DTSTART;TZID=UTC:20241027T140000
DTEND;TZID=UTC:20241027T180000
DTSTAMP:20260422T041518
CREATED:20240911T080032Z
LAST-MODIFIED:20240911T080032Z
UID:1942-1730037600-1730052000@swlt.hu
SUMMARY:SexEduBest- A SexEduFest kedvenc programjaiból… Szexjátékszer bemutató és workshop
DESCRIPTION:Szexjátékszer bemutatót tartottunk már több fesztiválon is\, de mind a készlet\, mind az előadók sora bővült idővel\, így most már a női\, hagyományos szexjátékszereket kiegészítettük férfi játékszerekkel\, bemutatva a modern technika vívmányait a VR világban és az egészen gorteszk vagy épp csilliókba kerülő izgalmasabb darabokig. De természetesen képviselteti magát az anális oldal és a BDSM világ eszközei is. \nEzen a vasárnapon nem csak bemutatjuk Nektek ezeket a játékokat\, hanem gyakorolunk is rajtuk 😉 \nElőadóink: \n\nOrs\nChris\nDorka\nTámogatónk: vagyaim.hu szexshop\n\n  \nLétszám: maximum 30 fő\n\nRészvételi díj:\nFanatikus tagjainknak: 15 000 Ft/pár\nCsapatjátékos tagjainknak: 18 000 Ft/pár\nMegfigyelő tagjainknak: 20 000 Ft/pár\nSzóló férfiaknak a fenti díjak per fő értendők!\nSzóló hölgyeknek a fenti díjból 10 000 Ft kedvezményt biztosítunk!\n\nA részvételi díj tartalmazza:\nEgyesület támogatói díját\, teljes helyszín használatát (szextér\, étkező- közösségi tér\, fürdőszoba\, öltöző\, terasz\, udvar)\, programokat\, zárható szekrényt\, karszalagot\, törülközőt\, lepedőt\, óvszereket\, játékszerek szabad használatát\, snacket\, gyümölcsöt\, alkoholmentes italokat korlátlan mennyiségben\, 2 alkoholos\, szabadon választott welcome drinket (Whisky\, pálinka\, Jager\, Aperol spritz\, borok\, pezsgő\, gin\, vodka\, rum)\, válogatott vendégkör\, diszkréció.\n\nRegisztráció eseményünkre:\nhttps://form.jotform.com/230092022813039
URL:https://swlt.hu/event/sexedubest-a-sexedufest-kedvenc-programjaibol-szexjatekszer-bemutato-es-workshop-2/
END:VEVENT
END:VCALENDAR