BEGIN:VCALENDAR
VERSION:2.0
PRODID:-//SWLT Egyesület - ECPv6.15.20//NONSGML v1.0//EN
CALSCALE:GREGORIAN
METHOD:PUBLISH
X-ORIGINAL-URL:https://swlt.hu
X-WR-CALDESC:Események SWLT Egyesület
REFRESH-INTERVAL;VALUE=DURATION:PT1H
X-Robots-Tag:noindex
X-PUBLISHED-TTL:PT1H
BEGIN:VTIMEZONE
TZID:UTC
BEGIN:STANDARD
TZOFFSETFROM:+0000
TZOFFSETTO:+0000
TZNAME:UTC
DTSTART:20230101T000000
END:STANDARD
END:VTIMEZONE
BEGIN:VEVENT
DTSTART;TZID=UTC:20240503T190000
DTEND;TZID=UTC:20240504T080000
DTSTAMP:20260422T110242
CREATED:20240402T171859Z
LAST-MODIFIED:20240402T172004Z
UID:1640-1714762800-1714809600@swlt.hu
SUMMARY:Ladies Cocktail Night- Csak Csajoknak Est az SWLT Központban!
DESCRIPTION:Havonta ismétlődő őrült éjszaka CSAK CSAJOKNAK!! \nIsmét rózsaszínbe bújunk és fincsi koktélokat keverünk a zuglói központunkban egy nálunk is őrültebb női bártender segítségével 😉\nTermészetesen nem maradhatnak ki ezen az estén se a játékok és a mély beszélgetések se 🙂 \nLétszám: maximum 30 fő! \nRészvételi díj: \nRészvételi díj a hölgyeknek:\nFanatikus tagjainknak: 5 000 Ft/fő\nCsapatjátékos tagjainknak: 8 000 Ft/fő\nMegfigyelő tagjainknak: 10 000 Ft/fő \nA részvételi díj tartalmazza:\nEgyesület támogatói díját\, teljes helyszín használatát (szextér\, étkező- közösségi tér\, fürdőszoba\, öltöző\, terasz\, udvar)\, programokat\, zárható szekrényt\, karszalagot\, törülközőt\, lepedőt\, óvszereket\, játékszerek szabad használatát\, snacket\, gyümölcsöt\, alkoholmentes italokat korlátlan mennyiségben\, 2 alkoholos\, szabadon választott welcome drinket (Whisky\, pálinka\, Jager\, Aperol spritz\, borok\, pezsgő\, gin\, vodka\, rum)\, válogatott vendégkör\, diszkréció. \nRegisztráció eseményünkre:\n \nA vendéglista rejtett\, így nyugodtan megjelölheted\, hogy OTT LESZEL
URL:https://swlt.hu/event/ladies-cocktail-night-csak-csajoknak-est-az-swlt-kozpontban/
END:VEVENT
BEGIN:VEVENT
DTSTART;TZID=UTC:20240504T190000
DTEND;TZID=UTC:20240505T040000
DTSTAMP:20260422T110242
CREATED:20240422T094938Z
LAST-MODIFIED:20240422T094938Z
UID:1649-1714849200-1714881600@swlt.hu
SUMMARY:Totál BI Party- privát swinger party biszexuális pároknak és szólóknak
DESCRIPTION:Évek óta érik már ez a buli\, íme végre mi is teret adunk egy olyan swinger eseménynek\, amelyre szeretettel várjuk a női és férfi biszexualitásra nyitott párokat\, szóló hölgyeket és urakat 🙂 \nA résztvevők száma maximum 25 fő! \nHelyszín: SWLT Központ\, Budapest- Zugló \nRészvételi díj:\nFanatikus tagjainknak: 15 000 Ft/pár\nCsapatjátékos tagjainknak: 18 000 Ft/pár\nMegfigyelő tagjainknak: 20 000 Ft/pár\nSzóló férfiaknak a fenti díjak per fő értendők!\nSzóló hölgyeknek a fenti díjból 10 000 Ft kedvezményt biztosítunk! \nA részvételi díj tartalmazza:\nTeljes helyszín használatát (szextér\, étkező- közösségi tér\, fürdőszoba\, öltöző\, terasz\, udvar)\, programokat\, zárható szekrényt\, karszalagot\, törülközőt\, lepedőt\, óvszereket\, játékszerek szabad használatát\, snacket\, gyümölcsöt\, alkoholmentes italokat korlátlan mennyiségben\, 2 alkoholos\, szabadon választott welcome drinket (Whisky\, pálinka\, Jager\, Aperol spritz\, borok\, pezsgő\, gin\, vodka\, rum)\, válogatott vendégkör\, diszkréció és nem utolsó sorban támogatod részvételeddel az Egyesület működését. \nA helyszínen ottalvást tudunk biztosítani- melynek díja: 5 000 Ft/fő \nRegisztráció eseményünkre:\n \nA regisztráció véglegesítése az 5000 Ft előleg befizetésével zárul\, a befizetést az alábbi számlaszámra várjuk: \nSWLT Egyesület- OTP – 11715007-21544086\nKözlemény: Támogatás 0504 TBP
URL:https://swlt.hu/event/total-bi-party-privat-swinger-party-biszexualis-paroknak-es-szoloknak/
END:VEVENT
BEGIN:VEVENT
DTSTART;TZID=UTC:20240505T140000
DTEND;TZID=UTC:20240505T200000
DTSTAMP:20260422T110242
CREATED:20240430T052723Z
LAST-MODIFIED:20240430T052723Z
UID:1660-1714917600-1714939200@swlt.hu
SUMMARY:SWLT Film Club- mozi\, kritika\, beszélgetés\, kvízjáték....
DESCRIPTION:A hétvége kellemes lezárása lehet\, ha velünk tartotok az első FilmClub délutánunkra…\n\nA program részei:– Egyedi jegyek az eseményre – Nyitva c. film vetítése– Popcornvariációk\, gyümölcsök\, csokifondü… és persze alkoholos és alkoholmentes italok– Interjú a rendezővel– Kritikák és beszélgetések a filmről és a swingerről– Nyitva Kvízjáték\n\nIdőtartam: 14.00- tól kb 20.00- ig…\n\nÉs persze a délután bármibe is fordulhat\, ahogy az már nálunk lenni szokott \n\nA résztvevők száma maximum 25 fő!\n\nHelyszín: SWLT Központ\, Budapest- Zugló\n\nRészvételi díj:Fanatikus tagjainknak: 15 000 Ft/párCsapatjátékos tagjainknak: 18 000 Ft/párMegfigyelő tagjainknak: 20 000 Ft/párSzóló férfiaknak a fenti díjak per fő értendők!Szóló hölgyeknek a fenti díjból 10 000 Ft kedvezményt biztosítunk!\n\nA részvételi díj tartalmazza:Teljes helyszín használatát (szextér\, étkező- közösségi tér\, fürdőszoba\, öltöző\, terasz\, udvar)\, programokat\, zárható szekrényt\, karszalagot\, törülközőt\, lepedőt\, óvszereket\, játékszerek szabad használatát\, snacket\, gyümölcsöt\, alkoholmentes italokat korlátlan mennyiségben\, 2 alkoholos\, szabadon választott welcome drinket (Whisky\, pálinka\, Jager\, Aperol spritz\, borok\, pezsgő\, gin\, vodka\, rum)\, válogatott vendégkör\, diszkréció és nem utolsó sorban támogatod részvételeddel az Egyesület működését.\n\nRegisztráció eseményünkre:https://form.jotform.com/230092022813039
URL:https://swlt.hu/event/swlt-film-club-mozi-kritika-beszelgetes-kvizjatek/
END:VEVENT
BEGIN:VEVENT
DTSTART;TZID=UTC:20240506T210000
DTEND;TZID=UTC:20240506T220000
DTSTAMP:20260422T110242
CREATED:20231220T105050Z
LAST-MODIFIED:20231220T105050Z
UID:957-1715029200-1715032800@swlt.hu
SUMMARY:Light Nights Talk- online beszélgetős műsorunk
DESCRIPTION:
URL:https://swlt.hu/event/light-nights-talk-online-beszelgetos-musorunk-4/
END:VEVENT
BEGIN:VEVENT
DTSTART;TZID=UTC:20240508T190000
DTEND;TZID=UTC:20240509T020000
DTSTAMP:20260422T110242
CREATED:20240506T094943Z
LAST-MODIFIED:20240506T094943Z
UID:1739-1715194800-1715220000@swlt.hu
SUMMARY:Szerdai FFM (női többes) Swinger Party az SWLT Központban
DESCRIPTION:Ismétlődő eseményünk minden hónap második szerdáján azoknak a pároknak és szóló nőknek kedvez\, akik nyitottak a női biszexualitás megélésére… \nSzóló urakat ezúttal NEM tudunk fogadni! \nKezdés: 19.00 – Zárás: 02.00 \nHelyszín: Bp.- Zugló\, SWLT Központ \nLétszám: maximum 30 fő\n\nRészvételi díj:\nFanatikus tagjainknak: 15 000 Ft/pár\nCsapatjátékos tagjainknak: 18 000 Ft/pár\nMegfigyelő tagjainknak: 20 000 Ft/pár\nSzóló hölgyeknek a fenti díjból 10 000 Ft kedvezményt biztosítunk!\n\nA részvételi díj tartalmazza:\nEgyesület támogatói díját\, teljes helyszín használatát (szextér\, étkező- közösségi tér\, fürdőszoba\, öltöző\, terasz\, udvar)\, programokat\, zárható szekrényt\, karszalagot\, törülközőt\, lepedőt\, óvszereket\, játékszerek szabad használatát\, snacket\, gyümölcsöt\, alkoholmentes italokat korlátlan mennyiségben\, 2 alkoholos\, szabadon választott welcome drinket (Whisky\, pálinka\, Jager\, Aperol spritz\, borok\, pezsgő\, gin\, vodka\, rum)\, válogatott vendégkör\, diszkréció.\n\nRegisztráció eseményünkre:\nhttps://form.jotform.com/230092022813039
URL:https://swlt.hu/event/szerdai-ffm-noi-tobbes-swinger-party-az-swlt-kozpontban/
END:VEVENT
BEGIN:VEVENT
DTSTART;TZID=UTC:20240510T180000
DTEND;TZID=UTC:20240511T050000
DTSTAMP:20260422T110242
CREATED:20231220T105336Z
LAST-MODIFIED:20240402T215520Z
UID:961-1715364000-1715403600@swlt.hu
SUMMARY:Játék Party - ismerkedős játékest az SWLT Központban
DESCRIPTION:Ismét egy kalandos- játékos\, extra vidám éjszakába hívlak Benneteket 🙂\nVáltozatos játékokkal várunk Benneteket! \nMost egy kis változást hozunk\, mert eddig a létszám miatt sose tudtunk asztali játékokat játszani… Ezúttal az első másfél órában\, 4-6 fős csapatokban\, 30 perces\, gyors asztali játékokat játszunk és ezt követően indulnak az egész csoportos\, mókás játékok 🙂 \nA győzteseket ezúttal is sokkezes masszázzsal kényeztetjük\, de aztán folytatódhat a játék egészen pirkadatig\, akárcsak legutóbb 😉 \nJátékmester: Ors\nHelyszín: Bp.- Zugló\, SWLT Központ \nLétszám: maximum 30 fő\n\nRészvételi díj:\nFanatikus tagjainknak: 15 000 Ft/pár\nCsapatjátékos tagjainknak: 18 000 Ft/pár\nMegfigyelő tagjainknak: 20 000 Ft/pár\nSzóló férfiaknak a fenti díjak per fő értendők!\nSzóló hölgyeknek a fenti díjból 10 000 Ft kedvezményt biztosítunk!\n\nA részvételi díj tartalmazza:\nEgyesület támogatói díját\, teljes helyszín használatát (szextér\, étkező- közösségi tér\, fürdőszoba\, öltöző\, terasz\, udvar)\, programokat\, zárható szekrényt\, karszalagot\, törülközőt\, lepedőt\, óvszereket\, játékszerek szabad használatát\, snacket\, gyümölcsöt\, alkoholmentes italokat korlátlan mennyiségben\, 2 alkoholos\, szabadon választott welcome drinket (Whisky\, pálinka\, Jager\, Aperol spritz\, borok\, pezsgő\, gin\, vodka\, rum)\, válogatott vendégkör\, diszkréció.\n\nRegisztráció eseményünkre:\nhttps://form.jotform.com/230092022813039
URL:https://swlt.hu/event/tarsasjatek-party-light-ismerkedos-jatekest-5/
END:VEVENT
BEGIN:VEVENT
DTSTART;TZID=UTC:20240516T170000
DTEND;TZID=UTC:20240516T220000
DTSTAMP:20260422T110242
CREATED:20240514T132300Z
LAST-MODIFIED:20240514T132300Z
UID:1753-1715878800-1715896800@swlt.hu
SUMMARY:Menjünk együtt- a Divas Show- ra! - Ingyenes és Kedvezményes jegyek az SWLT- nek ;)
DESCRIPTION:Egyesületünk fantasztikus lehetőséget kapott\, csütörtök estére így közös programot szervezünk ismét 🙂 \nMűsor: The Divas Show – Aréna \nFanatikus tagjaink DÍJMENTESEN jöhetnek\,\nCsapatjátékos tagjainknak is CSAK 5 000 Ft\,\nmíg Megfigyelő tagjainknak 8 000 Ft a jegy ára.\n+ ajándék Welcome Drink az SWLT Központban! \nSzerda estig le kell adnom a létszámot\, így kérlek Benneteket\, gyorsan döntsetek 😉 \nTalálkozó 17.00- tól az SWLT Központban\, Zuglóban és onnan együtt megyünk át az Arénába. A koncert 20.00- kor kezdődik! \nRegisztráció a szokásos felületünkön:\n \nAZ ESEMÉNY VENDÉGLISTÁJA REJTETT\, ÍGY NYUGODTAN JELÖLD\, HOGY OTT LESZEL\, MÁSOK NEM FOGJÁK LÁTNI 😉 \nRészletek a műsorról:\nHa mindig is szerettél volna eljutni Las Vegasba megnézni a legnagyobb zenei showműsorokat\, de még nem volt rá lehetőséged\, akkor ezt most felkínáljuk neked itthon\, a Budapest Arénában. \nKülönleges előadásunkban ötvözzük az elmúlt 30 év legkedveltebb funky\, disco\, pop\, r&b és hiphop slágereit\, egyedülálló színpad\, fény és hangtechnikával. A show végén a látogatók között pedig kisorsolunk egy vadonatúj autót! \nHazánk legkiválóbb zenészei\, énekesnői és táncosai két és fél órán keresztül azon dolgoznak\, hogy az előadás után azt tudd mondani: „Ilyet még nem láttam\, tekerjük vissza!” \nhttps://www.budapestarena.hu/program/divas \n(jegyárak 10 900- 17 900 Ft között mozognak normál esetben)
URL:https://swlt.hu/event/menjunk-egyutt-a-divas-show-ra-ingyenes-es-kedvezmenyes-jegyek-az-swlt-nek/
END:VEVENT
BEGIN:VEVENT
DTSTART;TZID=UTC:20240516T180000
DTEND;TZID=UTC:20240516T180000
DTSTAMP:20260422T110242
CREATED:20240509T112614Z
LAST-MODIFIED:20240509T112614Z
UID:1747-1715882400-1715882400@swlt.hu
SUMMARY:Swinger Rapid Randi - Kávéházi ismerkedés swingereknek
DESCRIPTION:Szívesen ismerkednél\, de a hagyományos társkeresőkön mindig falakba ütközöl mikor megemlíted\, hogy nyitott vagy szexuálisan?\nJobban szeretsz személyesen ismerkedni mint online?\nÉrdekel a swinger világ\, de egy bulira még nincsen bátorságod jelentkezni? \nHa eltöltenél egy estét nyitott gondolkodású emberek társaságában gyere el hozzánk az SWLT Központba egy Swinger Rapid Randira. \nJátékmester: Ors\nHelyszín: Bp.- Zugló\, SWLT Központ \nLétszám: maximum 30 fő\nA programot 4 hölgy és 4 úr jelentkezése esetén tartjuk meg. \nRészvételi díj:\nFanatikus tagjainknak: 8 000 Ft/pár\nCsapatjátékos tagjainknak: 9 000 Ft/pár\nMegfigyelő tagjainknak: 10 000 Ft/pár \nSzóló férfiaknak a fenti díjak per fő értendők!\nSzóló hölgyeknek a fenti díjból 5 000 Ft kedvezményt biztosítunk! \nA részvételi díj tartalmazza:\nTeljes helyszín használatát\, programokat\, zárható szekrényt\, snacket\, alkoholmentes italokat korlátlan mennyiségben\, 2 alkoholos\, szabadon választott welcome drinket (Whisky\, pálinka\, Jager\, Aperol spritz\, borok\, pezsgő\, gin\, vodka\, rum). \nHa jól sikerül a randi lehetőség van a helyszínen tovább maradni 😊 \nRegisztráció eseményünkre:\n \nA vendéglista rejtett\, így nyugodtan megjelölheted\, hogy OTT LESZEL
URL:https://swlt.hu/event/swinger-rapid-randi-kavehazi-ismerkedes-swingereknek/
END:VEVENT
BEGIN:VEVENT
DTSTART;TZID=UTC:20240525T120000
DTEND;TZID=UTC:20240525T150000
DTSTAMP:20260422T110242
CREATED:20240513T155028Z
LAST-MODIFIED:20240513T155028Z
UID:1749-1716638400-1716649200@swlt.hu
SUMMARY:Mentor Times Délután- Kötetlen beszélgetés kezdőknek a swinger világról
DESCRIPTION:Az SWLT Központ havi rendszeres eseménye a Mentor Times délután \n\nMentoraink sok éves tapasztalattal rendelkező swingerek\, akik elkötelezettek amellett\, hogy segítsék azokat a párokat és szólókat\, akik még most kezdenének nyitni kapcsolatukon vagy alapvetően ismerkedni ezzel a világgal.\n\nA beszélgetés kötetlen\, bár az alapokat mindig igyekszünk érinteni\, de tulajdonképpen a vendégek irányítják a beszélgetést. Igyekszünk megválaszolni minden kérdést és megosztani Veletek tapasztalatainkat.\n\nA résztvevők száma maximum 25 fő!\n\nIdőpont: 12.00- tól 15.00- ig (16.00- tól pedig indul a Tavaszi Nagy Csoporttalálkozónk a Tik Tak Swinger Klubban\, azt se hagyjátok ki 😉 )\n\nHelyszín: SWLT Központ\, Zugló\n\nA program díja: 5 000 Ft/fő\, melyet az eseményregisztrációt követően várunk az alábbi számlaszámra:\n\nSWLT Egyesület- OTP – 11715007-21544086\nKözlemény: Támogatás 0525 MT
URL:https://swlt.hu/event/mentor-times-delutan-kotetlen-beszelgetes-kezdoknek-a-swinger-vilagrol/
END:VEVENT
BEGIN:VEVENT
DTSTART;TZID=UTC:20240525T163000
DTEND;TZID=UTC:20240526T040000
DTSTAMP:20260422T110242
CREATED:20231220T105146Z
LAST-MODIFIED:20240522T115724Z
UID:959-1716654600-1716696000@swlt.hu
SUMMARY:Tavaszi Nagy Csoporttalálkozó a Tik Tak Swinger Klubban!
DESCRIPTION:Tavaszi nagy Csoprottalálkozónkra várunk minden kezdőt és régi tagjainkat egy közös délutánra- estére 🙂 \nA kezdetek óta szoros az együttműködésünk a Tik Tak Swinger Klubbal\, így örömmel várják Maciék az SWLT tagjait a falaik közé 🙂 \nTervezett program:\nÉrkezés: 16.30- tól\n16.30- 18.00 Mentor Times- kerekasztal beszélgetés az SWLT mentoraival- kezdőknek\n18.00- 19.30 Szexi\, mókás Játékok nyereményekkel! és kötetlen ismerkedés\n20.00- tól Swinger Party (a Tik Tak vendégeivel közösen)\n22.00- Erotikus érintéses játékok Orsival a küzdőtéren \nSzeretettel várunk Benneteket egy újabb közös élményre 🙂 \nHELYSZÍN: Budaörs\, Tik Tak Swinger Klub \nDresscode: Nyakkendő Party! – Férfiak és nők egyaránt húzzanak most nyakkendőt (akár csokornyakkendőt) mind a délutáni programra\, mind a swinger party szexi rucik kiegészítőjeként- ezzel is megkülönböztetve az SWLT tagjait az esti vendégektől 🙂 \nRészvételi díjak a találkozóra- délutáni program:\nCsapatjátékos pároknak: 5 000 Ft/pár\nCsapatjátékos szóló uraknak: 5 000 Ftfő\nCsapatjátékos szóló hölgyeknek: 2 000 Ft/fő\nFanatikus/VIP tagoknak: DÍJMENTES!\nMindenki másnak: + 8 000 Ft/pár vagy fő \nA délutáni díj tartalmazza a programot\, a helyszínt\, szervezést és üdítőt és nasit. \nÉjszakai Swinger party díjak- a Tik Tak díjszabása szerint:\nPároknak: 28 000 Ft/pár\nSzóló hölgyeknek: 6 000 Ft\nSzóló uraknak: 30 000 Ft \nAz éjszakai klub részvételi díja tartalmazza a meleg és hideg ételeket\, korlátlan italfogyasztást\, lepedőket\, törülközőket\, óvszert és persze a szuper hangulatot! \nA helyszínen OTTALVÁST tudunk biztosítani:\n3 000 Ft/fő a klubban\n20 000 Ft/pár (szoba) a szomszédos Vendégházban \nEgyesületi regisztráció:\n \nRegisztráció a Csoporttalálkozóra:\n \nAz eseményt 20 főtől megtartjuk 🙂 \nKérünk\, a program 5 000 Ft- os regisztrációs díját regisztrációt követő 2 napon belül utald el az alábbi számlaszámra:\nSWLT Egyesület- Revolut: Revtag @swlt\nWise:\nMolnár Orsolya SWLT\n12600016-10249771-83760212\nKözleménybe\, TÁMOGATÁS és a tagsági kódodat (ha van)\, valamint az esemény dátumát 12.16. írd (aki bizonytalan a kódját illetően\, keressen) SEMMI MÁST NE ÍRJATOK KÖZLEMÉNYBE- KÜLÖNÖSEN AZT NE\, HOGY SWINGER BULI 😂\nFennmaradó összeg készpénzben a rendezvény helyszínén fizetendő! \nAz eseményt megelőző 72 órán belüli lemondást már nem áll módunkban elfogadni\, ebben az esetben már a teljes díj fizetendő.
URL:https://swlt.hu/event/tavaszi-nagy-csoporttalelkozo-medences-jakuzzis-szaunas-party/
END:VEVENT
BEGIN:VEVENT
DTSTART;TZID=UTC:20240528T180000
DTEND;TZID=UTC:20240528T220000
DTSTAMP:20260422T110242
CREATED:20240524T142112Z
LAST-MODIFIED:20240524T142112Z
UID:1784-1716919200-1716933600@swlt.hu
SUMMARY:Menjünk együtt színházba!- Szabadakarat koncertszínház - Margitszigeti Szabadtéri Színpad
DESCRIPTION:Menjünk együtt ismét Színházba!\n\nEzúttal egy koncertszínházi előadásra invitállak Benneteket\, melyre egyesületünk kedvezményes jegyeket kapott.\n\n16 900 Ft- os\, legmagasabb kategóriájú\, földszinti helyjegyek egyesületi tagjainknak most csak:Fanatikus tagoknak: 6 900 FtCsapatjátékos tagoknak: 9 900 FtMegfigyelő tagjainknak: 12 900 Ft\nÉljetek ezzel a kedvezményes lehetőséggel \n\nA reformkor első „celeb párja”\, Petőfi Sándor x Szendrey Júlia különc szokásait\, egymásnak jutott két évük felfokozott érzelemvilágát\, a véleményformáló szerepük jelentőségét húzza meg tengelyül és mesél köré egy térben és időben is szabadon mozgó\, koncerthangulatú történetet\, a Szabadakarat című előadás.\nA darab egy különleges és Magyarországon egyedülálló feldolgozásban viszi színpadra Petőfi Sándor életének egy meghatározó időszakát.\n\nAz előadásról részleteket itt találtok:https://margitszigetiszinhaz.hu/margitszige…/szabadakarat/\n\nSzokás szerint az előadás előtt beülünk egy koktélra a közelben. A darab 20.00- kor kezdődik!\n\nA helyed biztosítása végett\, kérlek\, regisztráció után a teljes jegydíjat utald el! Részletek mennek majd emailben \n\nRegisztráció az előadásra:https://form.jotform.com/230092022813039
URL:https://swlt.hu/event/menjunk-egyutt-szinhazba-szabadakarat-koncertszinhaz-margitszigeti-szabadteri-szinpad/
END:VEVENT
BEGIN:VEVENT
DTSTART;TZID=UTC:20240531T190000
DTEND;TZID=UTC:20240601T060000
DTSTAMP:20260422T110242
CREATED:20240508T073423Z
LAST-MODIFIED:20240508T073423Z
UID:1742-1717182000-1717221600@swlt.hu
SUMMARY:Menjünk együtt! Erotikus szabadulószobák éjszakája ;)
DESCRIPTION:Gyertek velünk egy Erotikus\, játékos\, Szabadulós éjszakára 😉 \nAz este programja:\n19:00 Találkozó az Andersen Pub- ban (Erzsébet körút 30.) – Welcome drink\n20.30 Fallost szabadulószoba- női élőszereplővel és tánccal!\n22.00 A két játék között egy ital a választott bárban\n23:00 Erogén Zóna\n24.00 után- folytatódik a buli az SWLT Központban hajnalig 😉 \nRészvételi díj:\nFanatikus tagjainknak: 15 000 Ft/fő\nCsapatjátékos tagjainknak: 18 000 Ft/fő\nMegfigyelő tagjainknak: 20 000 Ft/fő \nA részvételi díj tartalmazza:\n– Szabadulószobák belépőjegyét\n– Fallost Szabadulószobában élő női főszereplő és táncos részvételét/műsorát\n– 1-1 italt a bárokban\n– Az SWLT Központ teljes használatát- beleértve az italokat\, rágcsálnivalókat is… \nMinimum létszám: 8 fő\, maximum létszám: 20 fő \nRegisztráció eseményünkre:
URL:https://swlt.hu/event/menjunk-egyutt-erotikus-szabaduloszobak-ejszakaja/
END:VEVENT
END:VCALENDAR