BEGIN:VCALENDAR
VERSION:2.0
PRODID:-//SWLT Egyesület - ECPv6.15.20//NONSGML v1.0//EN
CALSCALE:GREGORIAN
METHOD:PUBLISH
X-WR-CALNAME:SWLT Egyesület
X-ORIGINAL-URL:https://swlt.hu
X-WR-CALDESC:Események SWLT Egyesület
REFRESH-INTERVAL;VALUE=DURATION:PT1H
X-Robots-Tag:noindex
X-PUBLISHED-TTL:PT1H
BEGIN:VTIMEZONE
TZID:UTC
BEGIN:STANDARD
TZOFFSETFROM:+0000
TZOFFSETTO:+0000
TZNAME:UTC
DTSTART:20230101T000000
END:STANDARD
END:VTIMEZONE
BEGIN:VEVENT
DTSTART;TZID=UTC:20240406T180000
DTEND;TZID=UTC:20240406T180000
DTSTAMP:20260422T121803
CREATED:20231220T103136Z
LAST-MODIFIED:20240322T125611Z
UID:936-1712426400-1712426400@swlt.hu
SUMMARY:Japán Swinger Est
DESCRIPTION:Emlékeztek? Volt két nagyszerű bulink\, talán a legsikeresebbek közé sorolhatjuk\, a Szürke és a Sötét ötven árnyalata. Hogy ismét valami hasonló világba repíthessünk el titeket\, most egy japán tematikájú estet álmodtunk meg. Ezen az estén megismerkedhettek a Shibari avagy a japán kötözés és a BDSM világával. \nDe természetesen azokat is szívesen várjuk\, akiktől mindez távol áll\, hiszen egyrészt más japán tematikájú meglepetésekkel is készülünk\, ruhákkal\, kiegészítőkkel\, hangulattal és mégis csak ez egy swinger buli lesz ☺ \nDresscode: Japán hangulat előny\, de nem kötelező\, illetve a helyszínen is kaphattok ruhákat kiegészítőket korlátozott számban. Hölgyektől szexi fekete rucikat\, uraktól fekete alsónadrág- fekete ing vagy póló kombót kérünk! Illetve szeretnénk ezeknek az irányzatoknak egy új oldalát megmutatni\, hogy mit tud adni azoknak a pároknak\, akik szeretnének új utakat bejárni\, hogy milyen megéléseket tudnak adni. \nAz est egy különleges látványos és vágyakat beindító bemutatóval fog indulni\, így érdemes korán érkezni. Az este folyamán lesz lehetőség sok mindent kipróbálni\, természetesen mindenkinek a saját megéléseinek az útján. És beszélgetni is a témáról.\nKözreműködnek:\nIron Furnitu /Dorka és Laci/\nShibariArt /Niki és Dani/ \nRészvételi díjak a Japán Swinger Estre:\nCsapatjátékos pároknak: 30 000 Ft\nCsapatjátékos szóló uraknak: 25 000 Ft\nCsapatjátékos szóló hölgyeknek: 15 000 Ft\nFanatikus/VIP tagoknak: -20 % kedvezmény\nMegfigyelő tagoknak és első résztvevőknek (FIRST): + 20 % felár\nAzon vendégeink\, akik első SWLT eseményükön vesznek részt\, Megfigyelő tagokkal megegyezően\, a fenti Csapatjátékosoknak szóló díj + 20 % a fizetendő. Tagsági kód hiányában kérlek\, a jelentkezéskor a közleménybe írd be\, hogy: FIRST \nHa viszont már nem először érkezel\, de nem vagy még tag\, add le tagsági regisztrációd:\nEgyesületi regisztráció:\n \nRegisztráció a Japán Swinger Estre:\n \nAz eseményt 20 főtől megtartjuk \nKözkívánatra minden bulink előtt\, 16.00- 18.00 között várjuk a swingerben még kezdő párokat és szólókat egy tartalmas\, diszkrét beszélgetésre. Érkezzetek sok- sok kérdéssel\, kiváncsisággal A beszélgetésen a részvétel DÍJMENTES\, de regisztrációhoz kötött! Rendezvényeink regisztrációs felületén külön eseményként találjátok! \nKérünk\, a program 5 000 Ft- os regisztrációs díját regisztrációt követő 2 napon belül utald el az alábbi számlaszámra:\nSWLT Egyesület- Revolut: Revtag @swlt\nWise:\nMolnár Orsolya SWLT\n12600016-10249771-83760212 \nKözleménybe\, TÁMOGATÁS és a tagsági kódodat (ha van)\, valamint az esemény dátumát 02.17. írd (aki bizonytalan a kódját illetően\, keressen) SEMMI MÁST NE ÍRJATOK KÖZLEMÉNYBE- KÜLÖNÖSEN AZT NE\, HOGY SWINGER BULI Fennmaradó összeg készpénzben a rendezvényen fizetendő.\nAz eseményt megelőző 72 órán belüli lemondást már nem áll módunkban elfogadni\, ebben az esetben már a teljes díj fizetendő
URL:https://swlt.hu/event/japan-swinger-est/
END:VEVENT
BEGIN:VEVENT
DTSTART;TZID=UTC:20240408T210000
DTEND;TZID=UTC:20240408T220000
DTSTAMP:20260422T121803
CREATED:20231220T102940Z
LAST-MODIFIED:20231220T102940Z
UID:934-1712610000-1712613600@swlt.hu
SUMMARY:Light Nights Talk- online beszélgetős műsorunk
DESCRIPTION:Részletek hamarosan…
URL:https://swlt.hu/event/light-nights-talk-online-beszelgetos-musorunk-3/
END:VEVENT
BEGIN:VEVENT
DTSTART;TZID=UTC:20240427T140000
DTEND;TZID=UTC:20240427T170000
DTSTAMP:20260422T121803
CREATED:20240328T093249Z
LAST-MODIFIED:20240328T093249Z
UID:1632-1714226400-1714237200@swlt.hu
SUMMARY:Mentor Times Délután- kötetlen beszélgetés kezdőknek
DESCRIPTION:Az SWLT Központ első eseménye mi lenne más\, mint egy Mentor Times délután 🙂 \nMentoraink sok éves tapasztalattal rendelkező swingerek\, akik elkötelezettek amellett\, hogy segítsék azokat a párokat és szólókat\, akik még most kezdenének nyitni kapcsolatukon vagy alapvetően ismerkedni ezzel a világgal. \nA beszélgetés kötetlen\, bár az alapokat mindig igyekszünk érinteni\, de tulajdonképpen a vendégek irányítják a beszélgetést. Igyekszünk megválaszolni minden kérdést és megosztani Veletek tapasztalatainkat. \nA résztvevők száma maximum 20 fő! \nA program díja: 5 000 Ft\, melyet az eseményregisztrációt követően várunk az alábbi számlaszámra: \nSWLT Egyesület- OTP – 11715007-21544086 \nKözlemény: Támogatás 0427 MT
URL:https://swlt.hu/event/mentor-times-delutan-kotetlen-beszelgetes-kezdoknek/
END:VEVENT
BEGIN:VEVENT
DTSTART;TZID=UTC:20240427T190000
DTEND;TZID=UTC:20240428T190000
DTSTAMP:20260422T121803
CREATED:20240402T163054Z
LAST-MODIFIED:20240402T164533Z
UID:1635-1714244400-1714330800@swlt.hu
SUMMARY:Kezdők Éjszakája- kislétszámú (max 30 fő) swinger est kifejezetten kezdőknek az SWLT Központban
DESCRIPTION:Zuglói Központunk állandó eleme a havonta megrendezésre kerülő Kezdők Éjszakája Swinger Party. \nAz estre NEM csak KEZDŐK jelentkezhetnek\, de a régi swingeresek létszámát korlátozzuk maximum 10 főben! \nA bulit megelőzi mindig egy Mentor Times délután\, amikor is lehetőség van az érdeklődők részére egy kötetlen\, laza beszélgetésre mentorainkkkal. A délutáni program DÍJMENTES! \nAz esti swinger party menete: \n19.00- 20.00 Érkezés\, Welcome Drink\, dresscode szerinti öltözet átvétele (hölgyeknek szexi fehérnemű\, magassarkú\, uraknak alsónadrág és ing vagy trikó + nyakkendő vagy csokornyakkendő \n20.00- 21.00 Könnyed ismerkedős játékok \n21.00- tól zene\, tánc\, kis italozás \n22.00- tól Érintéses játékok Orsival- ráhangolódás a nyitásra… \n06.00 Az esemény zárása \n  \nLétszám: maximum 30 fő \n  \nRészvételi díj: \nFanatikus tagjainknak: 15 000 Ft/pár \nCsapatjátékos tagjainknak: 18 000 Ft/pár \nMegfigyelő tagjainknak: 20 000 Ft/pár \nSzóló férfiaknak a fenti díjak per fő értendők! \nSzóló hölgyeknek a fenti díjból 10 000 Ft kedvezményt biztosítunk! \n  \nA részvételi díj tartalmazza: \nEgyesület támogatói díját\, teljes helyszín használatát (szextér\, étkező- közösségi tér\, fürdőszoba\, öltöző\, terasz\, udvar)\, programokat\, zárható szekrényt\, karszalagot\, törülközőt\, lepedőt\, óvszereket\, játékszerek szabad használatát\, snacket\, gyümölcsöt\, alkoholmentes italokat korlátlan mennyiségben\, 2 alkoholos\, szabadon választott welcome drinket (Whisky\, pálinka\, Jager\, Aperol spritz\, borok\, pezsgő\, gin\, vodka\, rum)\, válogatott vendégkör\, diszkréció. \nRegisztráció eseményünkre: \n \n 
URL:https://swlt.hu/event/kezdok-ejszakaja-kisletszamu-max-30-fo-swinger-est-kifejezetten-kezdoknek-az-swlt-kozpontban/
END:VEVENT
BEGIN:VEVENT
DTSTART;TZID=UTC:20240428T140000
DTEND;TZID=UTC:20240428T200000
DTSTAMP:20260422T121803
CREATED:20240402T171000Z
LAST-MODIFIED:20240402T171706Z
UID:1638-1714312800-1714334400@swlt.hu
SUMMARY:SexEduBest- A SexEduFest kedvenc programjaiból... Szexjátékszer bemutató és workshop
DESCRIPTION:2024 Januárjában tartottuk meg első SexEduFest eseményünket\, melyre igen nagy volt az érdeklődés és mind a szervezőkkel\, előadókkal\, mind a vendégekkel együtt úgy éreztük\, egy- egy programelemnek érdemes lenne adni több időt is… \nÍgy aztán nem is volt kérdés\, hogy mikor megnyílik az SWLT Központ\, az egyik állandó programeleme havonta\, minden hónap utolsó vasárnapja egy- egy SexEduBest nap lesz 🙂 \nAz első alkalom az egyik személyes kedvencem. Szexjátékszer bemutatót tartottunk már több fesztiválon is\, de mind a készlet\, mind az előadók sora bővült idővel\, így most már a női\, hagyományos szexjátékszereket kiegészítettük férfi játékszerekkel\, bemutatva a modern technika vívmányait a VR világban és az egészen gorteszk vagy épp csilliókba kerülő izgalmasabb darabokig. De természetesen képviselteti magát az anális oldal és a BDSM világ eszközei is. \nEzen a vasárnapon nem csak bemutatjuk Nektek ezeket a játékokat\, hanem gyakorolunk is rajtuk 😉 \nElőadóink: \n\nOrs\nChris\nDorka\nTámogatónk: EroticBox Sexshop\n\n  \nLétszám: maximum 30 fő\n\nRészvételi díj:\nFanatikus tagjainknak: 15 000 Ft/pár\nCsapatjátékos tagjainknak: 18 000 Ft/pár\nMegfigyelő tagjainknak: 20 000 Ft/pár\nSzóló férfiaknak a fenti díjak per fő értendők!\nSzóló hölgyeknek a fenti díjból 10 000 Ft kedvezményt biztosítunk!\n\nA részvételi díj tartalmazza:\nEgyesület támogatói díját\, teljes helyszín használatát (szextér\, étkező- közösségi tér\, fürdőszoba\, öltöző\, terasz\, udvar)\, programokat\, zárható szekrényt\, karszalagot\, törülközőt\, lepedőt\, óvszereket\, játékszerek szabad használatát\, snacket\, gyümölcsöt\, alkoholmentes italokat korlátlan mennyiségben\, 2 alkoholos\, szabadon választott welcome drinket (Whisky\, pálinka\, Jager\, Aperol spritz\, borok\, pezsgő\, gin\, vodka\, rum)\, válogatott vendégkör\, diszkréció.\n\nRegisztráció eseményünkre:\nhttps://form.jotform.com/230092022813039\n\nA vendéglista rejtett\, így nyugodtan megjelölheted\, hogy OTT LESZEL 
URL:https://swlt.hu/event/sexedubest-a-sexedufest-kedvenc-programjaibol-szexjatekszer-bemutato-es-workshop/
END:VEVENT
END:VCALENDAR