BEGIN:VCALENDAR
VERSION:2.0
PRODID:-//SWLT Egyesület - ECPv6.15.20//NONSGML v1.0//EN
CALSCALE:GREGORIAN
METHOD:PUBLISH
X-WR-CALNAME:SWLT Egyesület
X-ORIGINAL-URL:https://swlt.hu
X-WR-CALDESC:Események SWLT Egyesület
REFRESH-INTERVAL;VALUE=DURATION:PT1H
X-Robots-Tag:noindex
X-PUBLISHED-TTL:PT1H
BEGIN:VTIMEZONE
TZID:UTC
BEGIN:STANDARD
TZOFFSETFROM:+0000
TZOFFSETTO:+0000
TZNAME:UTC
DTSTART:20230101T000000
END:STANDARD
END:VTIMEZONE
BEGIN:VEVENT
DTSTART;TZID=UTC:20240102T210000
DTEND;TZID=UTC:20240102T220000
DTSTAMP:20260422T164932
CREATED:20231219T104002Z
LAST-MODIFIED:20231219T104002Z
UID:900-1704229200-1704232800@swlt.hu
SUMMARY:Light Nights Talk- online beszélgetős műsorunk
DESCRIPTION:
URL:https://swlt.hu/event/light-nights-talk-online-beszelgetos-musorunk/
END:VEVENT
BEGIN:VEVENT
DTSTART;TZID=UTC:20240109T170000
DTEND;TZID=UTC:20240109T170000
DTSTAMP:20260422T164932
CREATED:20231219T105206Z
LAST-MODIFIED:20231219T105206Z
UID:904-1704819600-1704819600@swlt.hu
SUMMARY:Menjünk együtt színházba!- Kurtizánképző- Pinceszínház
DESCRIPTION:Ismét színházba invitállak Benneteket 🙂 \nKurtizánképző- Ágens Színházi Társulat- Pinceszínház\npárkapcsolati stand up comedy\, interaktív színházi terápia \nA provokatív\, ironikus\, rendkívül népszerű stand up comedy igazi felszabadító effektussal él. Akik már látták\, állítják\, hogy a két nem közötti megértés és elfogadás útját indítja el. Valami megváltozik előadás után\, ha más nem is\, a kommunikáció mikéntje bizonyosan. Megnyílik egy olyan érzékelési tartomány\, amely addig zárva maradt. \nA világon egyedülálló\, több mint 960 előadást megért\, Kurtizánképzés – szerelmi okosítás hölgyeknek és érdeklődő uraknak – kultúrtörténeti szakirányú végzettséget ad\, Kurtizándiplomát. Az Alaptanterv része az érzékiség kultúrtörténeti feldolgozása\, a férfi gondolkodás mibenlétének a vizsgálata és irányai\, a jó kurtizán feladatai\, megtudhatjuk hány éves a férfi – mindezt egy lenyűgöző személyiség tolmácsolásában. Ágens színházi eszköze a humor és az önreflexió. \nÖsszesen 14 db jegyünk van! \nAki jönne\, kérem az Ott leszek gomb megnyomása mellett regisztráljon is az eseményre és utalja el a jegy árát\, hogy biztosítani tudjam a helyetek! \nJegyár:\n4800 Ft \nEseményeinket regisztrált\, egyesületi tagjainknak szervezzük. \nEgyesületi regisztráció:\n \nRegisztráció a színházi látogatásra:\n \nKérünk\, a program teljes díját regisztrációt követő 2 napon belül utald el az alábbi számlaszámra:\nSWLT Egyesület- Revolut REVTAG: @swlt\nIBAN LT51 3250 0326 6896 7293\nSWLT Molnár Orsolya – WISE\n12600016-10249771-83760212 \nKözleménybe\, TÁMOGATÁS és a tagsági kódodat (ha van)\, valamint az esemény dátumát (01.09.) írd (aki bizonytalan a kódját illetően\, keressen) SEMMI MÁST NE ÍRJATOK KÖZLEMÉNYBE- KÜLÖNÖSEN AZT NE\, HOGY SWINGER BULI 😂Fennmaradó összeg helyszínen KP- ban vagy szintén átutalással fizetendő… \nAz eseményt megelőző 72 órán belüli lemondást már nem áll módunkban elfogadni\, ebben az esetben már a teljes díj fizetendő.
URL:https://swlt.hu/event/menjunk-egyutt-szinhazba-kurtizankepzo-pinceszinhaz/
END:VEVENT
BEGIN:VEVENT
DTSTART;TZID=UTC:20240112T180000
DTEND;TZID=UTC:20240112T180000
DTSTAMP:20260422T164932
CREATED:20231219T105632Z
LAST-MODIFIED:20231219T105632Z
UID:906-1705082400-1705082400@swlt.hu
SUMMARY:Társasjáték party LIGHT- ismerkedős játékest
DESCRIPTION:Ismét egy kalandos- játékos\, extra vidám éjszakába hívlak Benneteket 🙂 \nVáltozatos játékokkal várunk Benneteket! \nMost egy kis változást hozunk\, mert eddig a létszám miatt sose tudtunk asztali játékokat játszani… Ezúttal az első másfél órában\, 4-6 fős csapatokban\, 30 perces\, gyors asztali játékokat játszunk és ezt követően indulnak az egész csoportos\, mókás játékok 🙂 \nA győzteseket ezúttal is sokkezes masszázzsal kényeztetjük\, de aztán folytatódhat a játék egészen pirkadatig\, akárcsak legutóbb 😉 \nJátékmester: Ors\nHelyszín: Bp.- magánlakás \nRészvételi díj a teljes programra:\nCsapatjátékos tagjainknak: 10 000 Ft/fő\nFanatikus/VIP tagjainknak: -20 % kedvezmény!\nMegfigyelőknek és újaknak (tagsággal nem rendelkező első körösöknek): + 20 % felár \nA díj tartalmazza a nasit\, szendvicseket\, alkoholmentes italokat\, helyszínt és természetesen magát a programot és a jó hangulatot.\nAlkoholos ital szabadon hozható\, pár üveggel (bor\, Jager…) mi is készülünk 🙂 \nEgyesületi regisztráció:\n \nRegisztráció a Társasjáték Partyra:\n \nAz eseményt 15 főtől tartjuk meg🙂 \nKérünk\, a program 5 000 Ft- os regisztrációs díját regisztrációt követő 2 napon belül utald el az alábbi számlaszámra:\nSWLT Egyesület-\nRevolut: Revtag @swlt\nWise:\nMolnár Orsolya SWLT\n12600016-10249771-83760212 \nKözleménybe\, TÁMOGATÁS és a tagsági kódodat (ha van)\, valamint az esemény dátumát írd (aki bizonytalan a kódját illetően\, keressen) SEMMI MÁST NE ÍRJATOK KÖZLEMÉNYBE- KÜLÖNÖSEN AZT NE\, HOGY SWINGER BULI 😂Fennmaradó összeg helyszínen KP- ban vagy szintén átutalással fizetendő… \nAz eseményt megelőző 72 órán belüli lemondást már nem áll módunkban elfogadni\, ebben az esetben már a teljes díj fizetendő.
URL:https://swlt.hu/event/tarsasjatek-party-light-ismerkedos-jatekest-4/
END:VEVENT
BEGIN:VEVENT
DTSTART;TZID=UTC:20240113T180000
DTEND;TZID=UTC:20240114T060000
DTSTAMP:20260422T164932
CREATED:20231231T010549Z
LAST-MODIFIED:20231231T010556Z
UID:974-1705168800-1705212000@swlt.hu
SUMMARY:B. B. B. - Bakelit Batyus Buli- Hozd magaddal kedvenc lemezed és kajád\, italod! (Low Budget Party)
DESCRIPTION:Jónéhányan Bakelit lemezeken nőttünk fel és egyfajta nosztalgikus hangulat fog el kézben tartva egy- egy lemezt…\nItt az alkalom\, fiatalok és örök fiatalok\, hogy együtt bulizzunk\, táncoljunk\, szexeljünk a legeredetibb slágerekre!\nHozd magaddal kedvenc bakelit lemezeid és alakítsuk közösen az éjszakát!\nTáncoljunk parketten és küzdőteren egyaránt 😉\n18.00- tól zenés- táncos program\, dalfelismerő\, ismerkedő játékok\n21.00- tól szexi játékok és swinger party\nDresscode: hölgyeknek szexi koktélruha\, uraknak farmer\, ing…\nEzúttal közkívánatra Batyus bulit hirdetünk\, vagyis az elfogyasztandó ételeket- italokat közösen dobjuk összek\, a részvételi díjat minimalizáljuk\, a helyszínre és a fentieken túli felmerülő költségekre szorítva…\nHelyszín: Bp.\nRészvételi díj a B. B. B. Partyra:\nCsapatjátékos pároknak: 18 000 Ft\nCsapatjátékos szóló uraknak: 15 000 Ft\nCsapatjátékos szóló hölgyeknek: 5 000 Ft\nFanatikus/VIP tagoknak: -20 % kedvezmény\nMindenki másnak (Megfigyelő tagoknak és első alkalmas résztvevőknek (FIRST)): + 20 % felár\nAzon vendégeink\, akik első SWLT eseményükön vesznek részt\, a fentieknek megfelelően a Megfigyelő tagsággal rendelkező tagokkal megegyező részvételi díjon van lehetőségük érkezni. Kérlek\, a jelentkezéskor a közleménybe írd be\, hogy: FIRST \nA díj tartalmazza a helyszínt\, szervezést\, kellékeket és eszközöket és természetesen magát a programot és a jó hangulatot.\nAlkoholos\, alkoholmentes ital és ételek\, nasik\, sütik a díjban ezúttal NINCSENEK benne\, szabadon hozható!\nEgyesületi regisztráció:\n\nRegisztráció a B. B. B. Partyra:\n\nAz eseményt 20 főtől tartjuk meg🙂\nKérünk\, a program 5 000 Ft/fő- os regisztrációs díját regisztrációt követő 2 napon belül utald el az alábbi számlaszámra:\nSWLT Egyesület-\nRevolut: Revtag @swlt\nWise:\nMolnár Orsolya SWLT\n12600016-10249771-83760212\nKözleménybe\, TÁMOGATÁS és a tagsági kódodat (ha van- ha nincs\, akkor FIRST kód)\, valamint az esemény dátumát írd (aki bizonytalan a kódját illetően\, keressen) SEMMI MÁST NE ÍRJATOK KÖZLEMÉNYBE- KÜLÖNÖSEN AZT NE\, HOGY SWINGER BULI 😂Fennmaradó összeg helyszínen KP- ban vagy szintén átutalással fizetendő…\nAz eseményt megelőző 72 órán belüli lemondást már nem áll módunkban elfogadni\, ebben az esetben már a teljes díj fizetendő. A befizetett részvételi díj Utalvány formájában későbbi rendezvényünkön felhasználható!
URL:https://swlt.hu/event/b-b-b-bakelit-batyus-buli-hozd-magaddal-kedvenc-lemezed-es-kajad-italod-low-budget-party/
END:VEVENT
BEGIN:VEVENT
DTSTART;TZID=UTC:20240119T180000
DTEND;TZID=UTC:20240119T180000
DTSTAMP:20260422T164932
CREATED:20231220T094009Z
LAST-MODIFIED:20240117T105958Z
UID:910-1705687200-1705687200@swlt.hu
SUMMARY:Menjünk együtt szaunázni!
DESCRIPTION:Részletek hamarosan… \nAmennyiben ez lesz az első SWLT program\, melyen részt veszel\, úgy csak a következő rendezvénynél kérjük majd a tagságot. \nEgyesületi regisztráció:\n \nRegisztráció az eseményre:
URL:https://swlt.hu/event/menjunk-egyutt-szaunazni/
END:VEVENT
BEGIN:VEVENT
DTSTART;TZID=UTC:20240127T100000
DTEND;TZID=UTC:20240128T000000
DTSTAMP:20260422T164932
CREATED:20231101T122542Z
LAST-MODIFIED:20240122T112217Z
UID:784-1706349600-1706400000@swlt.hu
SUMMARY:I. SWLT SexEduFest- ha nem csak beszélnél a szexről...
DESCRIPTION:I. SWLT SexEduFest \nHelyszín: Lightmotiv Jógastúdió\, Budapest\, 9. kerület \nHa nem csak beszélnél a szexről….\nA 2023- es Felmérésünkben egyértelműen azt a visszajelzést kaptuk Tőletek\, hogy igény lenne Részetekről is egy olyan fesztiválra\, melyen nem a szórakozásé\, hanem a fejlődésé a főszerep… Számos szexuális edukációs programot valósítottunk meg már az elmúlt években és a nyári Swinger Fesztiválunkon is rengeteg workshop\, előadás\, beszélgetés szokott teltházzal dübörögni. Úgy gondoltuk\, örülnétek együtt töltött újabb két napnak…\nNézzük\, mire számíthattok…\nJanuár 27- 28- át\, két egymást követő napot\, duplikált programokkal töltöttünk meg. A válogatásnál a fő szempont a gyakorlatias\, interaktív megközelítés volt\, hiszen mi NEM CSAK BESZÉLNI szeretnénk a szexről… Így a workshop- okon érintünk\, izgatunk\, csókolunk\, gyakorlunk…\nEgyszerre 3 teremben párhuzamosan megismerkedhettek többek között az anális szex rejtelmeivel\, a női orgazmusok színeivel\, az érintés és masszázs erejével\, finom és durva játékszerekkel\, de teret kap a szexuális kommunikáció és tantrikus megközelítések is…\nA szombati programok zöme vasárnap ismétlődik\, hogy biztosan ne maradj le olyan témáról\, ami érdekel.\nDresscode: A belépőjegy tartalmaz mindenki számára egy kendőt\, mellyel elfedhetitek testeteket\, de az esemény naturista jellegű\, hiszen kifejezetten cél a hétköznapok levetkőzése\, a testünk átengedése új dolgoknak és egymás kölcsönös elfogadása…\nProgramterv\n–	Anális tréning\n–	Spricc tréning\n–	A női gyönyör anatómiája\n–	Szexjátékszer tesztelés\n–	BDSM alapok- a komfortzónán túl\n–	Kriston Intimtorna\n–	Bodysex\n–	Kommunikáció a szexben- workshop élő szerepjátékkal\n–	Lingam és Jóni masszázs bemutatók\n–	Meztelen hangfürdő\n–	Sokkezes masszázsok\n–	Az érintés hatalma- vak játékok\n–	ElőJáték- a nyitás lépései – érintéses játék pároknak\n–	Swinger- alapok – szabályok és az első lépések\n–	Érzelmek a swingerben\n–	Swinger RapidRandi\n–	Tantra Randi \nRészvételi díj:\nKétnapos jegy: 35 000 Ft\nKétnapos jegy pároknak: 55 000 Ft\nSzombati napijegy: 22 000 Ft\nSzombati napijegy pároknak: 32 000 Ft\nVasárnapi napijegy: 20 000 Ft\nVasárnapi napijegy pároknak: 30 000 Ft\nOnline jegy (a programokat hanggal közvetítjük): 15 000 Ft\nTámogatói jegy (ha nem tudsz eljönni\, de szupernek tartod a kezdeményezést és szívesen támogatnád a megvalósítást): 5 000 Ft\nKEDVEZMÉNYEK:\nSWLT Fanatikus tagoknak: 20 % kedvezmény\nSWLT Csapatjátékos tagoknak: 10 % kedvezmény\nTagsággal és tagfelvétellel kapcsolatos infókat megtalálod a honlapunkon: swlt.hu \nREGISZTRÁCIÓ:\n\nA regisztráció a részvételi díj beérkezésével zárul!  Ha szeretnél jönni\, kérlek\, a regisztrációt követően utald el a részvételi díjat is.\nSWLT Egyesület- Revolut IBAN LT51\n3250 0326 6896 7293\nSWLT Molnár Orsolya – WISE\n12600016-10249771-83760212\nKözleménybe\, TÁMOGATÁS és a tagsági kódodat (ha van)\, valamint a SEF kódot írd!\n(SEF = SexEduFest) \nEseménylemondást regisztrációt követően nem fogadunk el! A befizetett összeg vissza nem jár\, SWLT utalvány formájában azonban fel tudjátok használni későbbi programjainkon. \n* a programmal kapcsolatosan a változtatás jogát fenntartjuk
URL:https://swlt.hu/event/i-swlt-sexedufest-ha-nem-csak-beszelnel-a-szexrol/
END:VEVENT
END:VCALENDAR