BEGIN:VCALENDAR
VERSION:2.0
PRODID:-//SWLT Egyesület - ECPv6.15.20//NONSGML v1.0//EN
CALSCALE:GREGORIAN
METHOD:PUBLISH
X-ORIGINAL-URL:https://swlt.hu
X-WR-CALDESC:Események SWLT Egyesület
REFRESH-INTERVAL;VALUE=DURATION:PT1H
X-Robots-Tag:noindex
X-PUBLISHED-TTL:PT1H
BEGIN:VTIMEZONE
TZID:UTC
BEGIN:STANDARD
TZOFFSETFROM:+0000
TZOFFSETTO:+0000
TZNAME:UTC
DTSTART:20220101T000000
END:STANDARD
END:VTIMEZONE
BEGIN:VEVENT
DTSTART;TZID=UTC:20230902T180000
DTEND;TZID=UTC:20230903T030000
DTSTAMP:20260422T221130
CREATED:20230816T102216Z
LAST-MODIFIED:20230816T102308Z
UID:681-1693677600-1693710000@swlt.hu
SUMMARY:Menjünk együtt Klubba! - Tik Tak
DESCRIPTION:Ismét közös swingerklub látogatásra hívlak Benneteket!\nIrány a Tik Tak!\nAz estet ismét megelőzi 18.00- tól 19.00- ig egy Mentor Times\, amire várjuk azokat a kezdő swingereket\, akik szívesen beszélgetnek tapasztaltabbakkal \n19.00- tól pedig az est résztvevői is csatlakoznak hozzánk \nTalálka a Budapest 30- ban\, ahol a buli előtt tudunk még kicsit ismerkedni… majd 21:00 óra magasságában átmegyünk együtt a klubba. Aki csak később jönne\, az ott is csatlakozhat hozzánk\, de jelöljetek Ott leszek- et\, mert a létszámot Maciéknak le kell adnom.\nSzeretettel invitálom a kezdőket és azokat\, akik még nem jártak a Tik Tak- ban… no persze azokat is\, akik rendszeresen ott töltik a hétvégéket \nMenjünk együtt klubba!\n\nRegisztráció az eseményre:\nhttps://form.jotform.com/230092022813039
URL:https://swlt.hu/event/menjunk-egyutt-klubba-tik-tak/
END:VEVENT
BEGIN:VEVENT
DTSTART;TZID=UTC:20230905T170000
DTEND;TZID=UTC:20230905T200000
DTSTAMP:20260422T221130
CREATED:20230814T171940Z
LAST-MODIFIED:20230814T172039Z
UID:677-1693933200-1693944000@swlt.hu
SUMMARY:Menjünk együtt STD szűrésre! - Moszkva Tér Medical Center
DESCRIPTION:Ismét egy délután\, amikor nyitott részünkre a Moszkva Tér Medical Center STD szűrésre \nIgényes\, barátságos környezet és kedvezmény az SWLT tagjainak \nIdőpont miatt hívjátok közvetlenül az egészségközpontot és hivatkozzatok az SWLT- re \nNe felejtsétek el!\n– megadni a bejelentkezéskor tagsági kódotok!\n– a negatív lelettel 3 hónapig 50% kedvezménnyel jöhettek rendezvényeinkre \n\nBejelentkezés a szűrésre közvetlenül a Moszkva Tér Medical Centernél: 06 70 616 9690
URL:https://swlt.hu/event/menjunk-egyutt-std-szuresre-moszkva-ter-medical-center-3/
END:VEVENT
BEGIN:VEVENT
DTSTART;TZID=UTC:20230923T150000
DTEND;TZID=UTC:20230924T060000
DTSTAMP:20260422T221130
CREATED:20230820T171023Z
LAST-MODIFIED:20230820T171023Z
UID:684-1695481200-1695535200@swlt.hu
SUMMARY:Nyárzáró BBQ Swinger Party a Börzsönyben
DESCRIPTION:Tavasszal bulival nyitottuk a grillszezont\, most pedig ezzel is zárjuk\, egy hosszabb volumenű bulira invitálunk Titeket! \n  \nDélután egy kisebb túrával nyitunk- kisvasúttal megyünk fel Kisirtásra\, ahonnan komótosan lesétálunk a patak mentén Nagybörzsönybe. (10 km\, kb 1\,5 óra) Ezt követően közös grillezés\, borpince\, éjjel pedig erotikus programok… \nA helyszín a Börzsöny szívében\, az erdő ölelésében\, egy szuper vendégházban lesz 🙂 \n  \nKülön hancúrház\, fedett grillterasz és partyház… \n  \nHangszereket szívesen fogadunk\, egy kis esti tábortűz melletti közös zenéléshez 🙂 \n  \nVendéglátás: \nBBQ ételek- húsos- zöldséges nyársak\, csirkeszárnyak\, grillkoklbászok és természetesen a vegetáriánusoknak is lesznek íncsiklandozó grill zöldségek\, saláták… emellett persze szokás szerint nasik és sütik 🙂 \nItalfogyasztás: bor és alkoholmentes italok állnak rendelkezésre\, minden más szabadon hozható. \n  \nEzúttal POGÁCSA versenyt hirdetünk- a legkülönbözőbb féle házi pogácsákat versenyeztetjük meg és mint mindig\, most is minden indulót jutalmazni fogunk\, a legjobbaknak pedig SWLT utalványokat adunk át 🙂 \n  \nDresscode: mivel kint leszünk a szabadban\, mindenki hozzon azért meleg rucit is\, de ne a szakadt kertészgatyát\, amiben otthon az udvart rendezi 😉 \n  \nA grillezés miatt készüljetek fel\, hogy füstösek leszünk egységesen- ez ugye azért nem megszokott egy- egy swinger bulin\, de a finom ízek és a szabad levegő varázsa remélem\, kárpótol majd Benneteket 😉 \n  \nDíjak: \nCsapatjátékosoknak és SWLT Elsőbálozóknak (vagyis\, ha ez még az első SWLT rendezvényed\, amin részt veszel): \nPároknak: 28 000 Ft \nSzóló férfiaknak: 24 000 Ft \nSzóló hölgyeknek: 10 000 Ft \n  \nFanatikus tagoknak (korábbi VIP tag): – 20 % kedvezmény! \nMegfigyelő tagoknak: + 20 % felár! \n  \nAz eseményen csak egyesületi tagok vehetnek részt (kivéve első körösök)!!!! \nAmennyiben ez lesz az első SWLT program\, melyen részt veszel\, úgy csak a következő rendezvénynél kérjük majd a tagságot. \nEgyesületi regisztráció: \n \n  \nRegisztráció a BBQ Partyra: \n \nAz eseményt 18 főtől megtartjuk 🙂 \n  \nKérünk\, a program 5 000 Ft- os regisztrációs díját regisztrációt követő 2 napon belül utald el az alábbi számlaszámra\, a maradékot a helyszínen készépénzben tudjátok rendezni: \nSWLT Egyesület- Revolut: Revtag @swlt \nSWLT Egyesület – OTP \n11715007-21524772-00000000 \nKözleménybe\, TÁMOGATÁS és a tagsági kódodat (ha van)\, valamint az esemény dátumát írd (aki bizonytalan a kódját illetően\, keressen) SEMMI MÁST NE ÍRJATOK KÖZLEMÉNYBE- KÜLÖNÖSEN AZT NE\, HOGY SWINGER BULI 😂Fennmaradó összeg helyszínen KP- ban vagy szintén átutalással fizetendő.. \nAz eseményt megelőző 72 órán belüli lemondást már nem áll módunkban elfogadni\, ebben az esetben már a teljes díj fizetendő!
URL:https://swlt.hu/event/nyarzaro-bbq-swinger-party-a-borzsonyben/
END:VEVENT
END:VCALENDAR