BEGIN:VCALENDAR
VERSION:2.0
PRODID:-//SWLT Egyesület - ECPv6.15.20//NONSGML v1.0//EN
CALSCALE:GREGORIAN
METHOD:PUBLISH
X-ORIGINAL-URL:https://swlt.hu
X-WR-CALDESC:Események SWLT Egyesület
REFRESH-INTERVAL;VALUE=DURATION:PT1H
X-Robots-Tag:noindex
X-PUBLISHED-TTL:PT1H
BEGIN:VTIMEZONE
TZID:UTC
BEGIN:STANDARD
TZOFFSETFROM:+0000
TZOFFSETTO:+0000
TZNAME:UTC
DTSTART:20220101T000000
END:STANDARD
END:VTIMEZONE
BEGIN:VEVENT
DTSTART;TZID=UTC:20230827T180000
DTEND;TZID=UTC:20230827T180000
DTSTAMP:20260422T233259
CREATED:20230816T101757Z
LAST-MODIFIED:20230816T101757Z
UID:679-1693159200-1693159200@swlt.hu
SUMMARY:SWLT Menjünk együtt túrázni! - Éjszakai kilátó túra a Budai Hegyekben
DESCRIPTION:Fejlámpás barangolás a Budai hegyekben 🙂 \nTarts velünk egy szuper éjszakai túrára a budai hegyekbe! \nAmennyiben még nem voltál sosem sötétben kalandozni\, itt a tökéletes alkalom\, hogy kipróbáld milyen érzés. \nTalálkozó délután 6-kor Budapesten\, a Zugligeti Libegő lábánál található Rétesháznál. \nA túránkat a Zugligeti libegő lábától indítjuk. Egy kis energiatöltés után az utolsó induló Libegővel felmegyünk a János-hegyre és az Erzsébet kilátóból megcsodáljuk az elénk táruló körpanorámát. Ha végeztünk a nézelődéssel leereszkedünk; majd felkaptatunk a Hárshegyre\, ahol először a Kaán Károly-\, majd a Makovecz Imre kilátót is meghódítjuk. Teszünk egy kis városi kitérőt: átkelünk a lipótmezei lakóövezeten\, innen pedig fölmegyünk az Apáthy szikla kilátóponthoz. A sziklán szusszanunk egyet. A túránk végén visszakaptatunk a Zugligeti Libegőhöz. \nA túra hossza: 11 km\, pihenőkkel együtt kb 5-6 órát töltünk együtt\, 18.00- 24.00- ig \nKöltség: a Libegő díja: 3 000 Ft + a Rétesházban önköltséges fogyasztás. További részvételi díj NINCS! \nRegisztráció az eseményre:\n \nA túrát minimum 5 fő résztvevő jelentkezése esetén tartjuk meg.
URL:https://swlt.hu/event/swlt-menjunk-egyutt-turazni-ejszakai-kilato-tura-a-budai-hegyekben/
END:VEVENT
END:VCALENDAR