BEGIN:VCALENDAR
VERSION:2.0
PRODID:-//SWLT Egyesület - ECPv6.15.20//NONSGML v1.0//EN
CALSCALE:GREGORIAN
METHOD:PUBLISH
X-ORIGINAL-URL:https://swlt.hu
X-WR-CALDESC:Események SWLT Egyesület
REFRESH-INTERVAL;VALUE=DURATION:PT1H
X-Robots-Tag:noindex
X-PUBLISHED-TTL:PT1H
BEGIN:VTIMEZONE
TZID:UTC
BEGIN:STANDARD
TZOFFSETFROM:+0000
TZOFFSETTO:+0000
TZNAME:UTC
DTSTART:20220101T000000
END:STANDARD
END:VTIMEZONE
BEGIN:VEVENT
DTSTART;TZID=UTC:20230303T190000
DTEND;TZID=UTC:20230303T230000
DTSTAMP:20260423T054559
CREATED:20230227T235217Z
LAST-MODIFIED:20230227T235217Z
UID:518-1677870000-1677884400@swlt.hu
SUMMARY:SWLT Könyvklub- A Vagina Monologók
DESCRIPTION:Újabb csemegeprogramot indítunk útjára \nInspirációt adtatok ismét és rájöttünk\, annyira végtelen tárháza van a témáinknak könyvekben\, hogy remek alkalom ez megint csak arra\, hogy összejöjjünk\, beszélgessünk\, ismerkedjünk…\nSzóval meghirdetném az első Könyvklub Estet\, mely a Vagina monológok c. könyv köré épül.\nÉn még huszas éveim elején olvastam és nagyon magával ragadott. Kötelezővé tenném minden nőnek \nPDF- ben az eseményben megosztom Veletek\, olvassátok el Ti is és jöjjünk össze egy estére átbeszélni az olvasottakat \nA helyszín létszámtól függ\, közösen döntünk.\nRészvételi díj egységesen: 4 000 Ft/fő- helyszínen kp- ban\nEseményeinket egyesületi tagjainknak szervezzük\, ezért ha nem vagy még tag\, itt az ideje regisztrálni \nhttps://form.jotform.com/230552186698062\nRegisztráció az eseményre:\nhttps://form.jotform.com/230092022813039
URL:https://swlt.hu/event/swlt-konyvklub-a-vagina-monologok/
ORGANIZER;CN="SWLT":MAILTO:swlt.egyesulet@gmail.com
END:VEVENT
BEGIN:VEVENT
DTSTART;TZID=UTC:20230304T190000
DTEND;TZID=UTC:20230304T230000
DTSTAMP:20260423T054559
CREATED:20230227T235326Z
LAST-MODIFIED:20230227T235326Z
UID:521-1677956400-1677970800@swlt.hu
SUMMARY:Light Nights Club LIVE- KEZDŐKNEK- Beszélgessünk ÉLŐBEN!- Első lépések a swingerben
DESCRIPTION:Imádjuk a havi egyszeri online beszélgetős estünket\, a Light Nights Club programot\, amikor mindig más- más témát járunk körbe a zoom beszélgetésben az éppen jelen lévőkkel \nA programot kivittük a személyes térbe\, mert mi is lenne még jobb\, mint személyesen is találkozni és még jobban megnyílni a többiek előtt… Be is vált\, fantasztikusan sikerült az első alkalom\, így ezentúl rendszeressé tesszük \nSzeretettel várunk minden SWLT tagot és úja érdeklődőket is\, ezúttal kötetlenül\, csak egy online regisztrációhoz kötve\, díjmentes programunkra!\nA helyszínt a Delight tulaja\, Peti ingyenesen biztosítja egyesületünk számára erre az alkalomra\, mert ő is és mi is tudjuk\, hogy mennyire fontos célkitűzésünk az érdeklődők\, a kezdő swingerek tájékoztatása és azon terek megalkotása\, amelyek egyelőre szex- és természetesen kötelezettségmentesek…\nGyertek el\, ha szeretnétek egy jót beszélgetni- laza\, nyitott\, jó fej társaságban!\nGyertek el\, ha érdekel Benneteket a világunk és akadnak bőven kérdéseitek!\nGyertek el\, ha nem láttatok még belülről soha swinger klubot és most betekintést engedünk (ruhában természetesen) az atmoszférába!\nGyertek el\, ha elakadtatok a swinger partnerkeresés útvegsztőiben\, ha nem tudjátok\, hol\, milyen platformokra érdemes regisztrálni\, hogy töltsétek ki az adatlapotok a sikeres match érdekében vagy ha épp az érdekelne\, személyesen hol érdemes ismerkedni\, hol futhattok swingerekbe….\nA beszégletés résztvevői között egyesületi alapító tagok\, tapasztalt swingerek\, mentorok\, klubtulajdonosok és partyszervezők is lesznek\, így igazán sok oldalról kaphattok információkat \nRegisztráció az eseményre:\nhttps://form.jotform.com/230092022813039\nA pontos címet a résztvevőknek adjuk csak ki….\nVárunk Titeket!\nOrs és a mentorcsapat
URL:https://swlt.hu/event/light-nights-club-live-kezdoknek-beszelgessunk-eloben-elso-lepesek-a-swingerben/
END:VEVENT
BEGIN:VEVENT
DTSTART;TZID=UTC:20230307T160000
DTEND;TZID=UTC:20230307T190000
DTSTAMP:20260423T054559
CREATED:20230227T235440Z
LAST-MODIFIED:20230227T235440Z
UID:523-1678204800-1678215600@swlt.hu
SUMMARY:Menjünk együtt STD szűrésre! - Moszkva Tér Medical Center
DESCRIPTION:Ismét egy délután\, amikor nyitott részünkre a Moszkva Tér Medical Center STD szűrésre \nIgényes\, barátságos környezet és kedvezmény az SWLT tagjainak \nIdőpont miatt hívjátok közvetlenül az egészségközpontot és hivatkozzatok az SWLT- re \nNe felejtsétek el!\n– megadni a bejelentkezéskor tagsági kódotok!\n– a negatív lelettel 3 hónapig 50% kedvezménnyel jöhettek rendezvényeinkre 
URL:https://swlt.hu/event/menjunk-egyutt-std-szuresre-moszkva-ter-medical-center/
END:VEVENT
BEGIN:VEVENT
DTSTART;TZID=UTC:20230310T180000
DTEND;TZID=UTC:20230311T030000
DTSTAMP:20260423T054559
CREATED:20230227T235727Z
LAST-MODIFIED:20230227T235727Z
UID:525-1678471200-1678503600@swlt.hu
SUMMARY:Társasjáték party LIGHT- ismerkedős játékest
DESCRIPTION:2023- tól Társasjáték partyjainkat LIGHT és HARDCORE verzióban is kínáljuk \nA Light az eddigi\, megszokott\, szexmentes ismerkedés célozza meg\, míg a Hardcore egy kicsit pikánsabb lesz…\nSzeretjük ezeket a programokat\, ezért nem csoda\, hogy alkalomról- alkalomra egyre nőtt a társaság…\nVáltozatos játékokkal várunk Benneteket!\nJátékmester: Ors\nHelyszín: Bp.- magánlakás\nRészvételi díj a teljes programra:\nVIP: 8 000 Ft/fő\nCsapatjátékos: 10 000 Ft/fő\nMindenki más: 13 000 Ft/fő\nElső SWLT esemény résztvevőknek: 10 000 Ft/fő\nA díj tartalmazza a nasit\, szendvicseket\, alkoholmentes italokat\, helyszínt és természetesen magát a programot és a jó hangulatot.\nAlkoholos ital szabadon hozható\, pár üveggel (bor\, Jager…) mi is készülünk \nAz eseményen csak egyesületi tagok vehetnek részt!!!!\nEgyesületi regisztráció:\nhttps://form.jotform.com/230552186698062\nRegisztráció a Társasjáték Partyra:\nhttps://form.jotform.com/230092022813039\nAz eseményt 10 főtől megtartjuk \nKérünk\, a program 5 000 Ft- os regisztrációs díját regisztrációt követő 2 napon belül utald el az alábbi számlaszámra:\nSWLT Egyesület- Revolut IBAN LT51\n3250 0326 6896 7293\nSWLT Egyesület – OTP\n11715007-21524772-00000000\nKözleménybe\, TÁMOGATÁS és a tagsági kódodat (ha van)\, valamint az esemény dátumát írd (aki bizonytalan a kódját illetően\, keressen) SEMMI MÁST NE ÍRJATOK KÖZLEMÉNYBE- KÜLÖNÖSEN AZT NE\, HOGY SWINGER BULI Fennmaradó összeg helyszínen KP- ban vagy szintén átutalással fizetendő…\nAz eseményt megelőző 72 órán belüli lemondást már nem áll módunkban elfogadni\, ebben az esetben már a teljes díj fizetendő.
URL:https://swlt.hu/event/tarsasjatek-party-light-ismerkedos-jatekest-2/
LOCATION:exclusiveswinger\, Budapest\, Magyarország
END:VEVENT
BEGIN:VEVENT
DTSTART;TZID=UTC:20230311T180000
DTEND;TZID=UTC:20230311T210000
DTSTAMP:20260423T054559
CREATED:20230228T000143Z
LAST-MODIFIED:20230228T000143Z
UID:528-1678557600-1678568400@swlt.hu
SUMMARY:Menjünk együtt Szabadulószobába! - Erogén zóna
DESCRIPTION:Imádok játszani és imádom a szabadulós szobákat és találtam egy újabb pajzánt\, amit mindenképpen Veletek próbálnék ki \nMax 10 főt tudnak fogadni\, de egymás után is játszhatunk csapatban\, ha többen jövünk össze…\nAz a terv\, hogy 6- kor találkozunk egy közeli pub- ban\, 19.00- tól indul a játék\, ami kb 1 óra\, majd akár közösen tovább is mehetünk egy klubba\, ha a csapat úgy dönt \nNo\, jól hangzik? \nA szoba ára: 4500 Ft/fő\nA Pub- ban mindenki fogyasztás alapján fizet\, a klubban pedig a szokásos belépőt…\nGyertek\, legyen egy jó esténk….\nEseményregisztráció:\nhttps://form.jotform.com/230092022813039\nEseményeinket egyesületi tagjainknak szervezzük. Ha nem vagy még tag\, itt tudsz regisztrálni:\nhttps://form.jotform.com/230552186698062\nA szobáról:\nEgy pornófilmforgatás helyszínére érkeztek\, hogy résztvegyetek életetek legnagyobb felnőttfilmes produkciójában. Ez lehet az ugródeszka mindnyájatok számára. Azonban valami nem stimmel\, egy társatok hiányzik. Még nem találkoztatok vele\, azonban sokat hallottatok már róla és azt mondják nélküle még a forgatást sem lehet elkezdeni. A stáb szerint egy őrült rajongó belopózott a stúdióba és megpróbálta elrabolni Sindy Lou-t\, ő azonban biztos helyen rejtőzködik. A feladatotok\, hogy megkeressétek a stúdió legértékesebb tagját\, mielőtt kezdetét veszi a forgatás. Siessetek\, nehogy a támadója találjon rá előbb!\nKérünk\, a program díját regisztrációt követő 2 napon belül utald el az alábbi számlaszámra:\nSWLT Egyesület- Revolut IBAN LT51\n3250 0326 6896 7293\nSWLT Egyesület – OTP\n11715007-21524772-00000000\nKözleménybe\, TÁMOGATÁS és a tagsági kódodat (ha van)\, valamint az esemény dátumát írd (aki bizonytalan a kódját illetően\, keressen) SEMMI MÁST NE ÍRJATOK KÖZLEMÉNYBE- KÜLÖNÖSEN AZT NE\, HOGY SWINGER BULI Fennmaradó összeg helyszínen KP- ban vagy szintén átutalással fizetendő…\nAz eseményt megelőző 72 órán belüli lemondást már nem áll módunkban elfogadni\, ebben az esetben már a teljes díj fizetendő.
URL:https://swlt.hu/event/menjunk-egyutt-szabaduloszobaba-erogen-zona/
END:VEVENT
BEGIN:VEVENT
DTSTART;TZID=UTC:20230312T180000
DTEND;TZID=UTC:20230313T080000
DTSTAMP:20260423T054559
CREATED:20230228T002104Z
LAST-MODIFIED:20230228T002104Z
UID:538-1678644000-1678694400@swlt.hu
SUMMARY:SWLT Casino Party
DESCRIPTION:A második Swinger Fesztiválon hatalmas siker volt a Kaszinó Estünk\, ezért miért ne nyúlnánk ehhez a témához és játszanánk ezúttal téttel? \nIgazán impozáns helyszínt\, egy belvárosi Penthouse ingatlant találtam a bulinak.\nA kapuk 18.00- kor nyílnak és megkezdődik a játék. A téteket erotikus felajánlásokkal kísérjük és garantáltan nem marad rajtunk a csinos ruha….\nA party- t a bevezető játékok fényében kezdőknek is ajánljuk.\nDresscode:\n22.00- ig: Hölgyeknek koktélruha\, Uraknak ing\, nyakkendő (és még nadrág  ).\n22.00. tól: Hölgyeknek elegáns szexi fehérneműk és rucik\, Uraknak marad az ing\, nyakkendő…\nHelyszín: Bp.- 6. kerület\nRészvételi díj a programra:\nVIP Szóló hölgyeknek: 8.000 Ft\nVIP Pároknak és szóló férfiaknak: 24.000 Ft\nCsapatjátékos szóló nőknek: 12 000 Ft\nCsapatjátékos Pároknak és szóló férfiaknak: 28.000 Ft\nMegfigyelő szóló nőknek: 15 000 Ft\nMegfigyelő Pároknak és szóló férfiaknak: 30.000 Ft\nÚjaknak\, az első SWLT eseményen résztvevőknek- tagsággal még nem rendelkezőknek: Csapatjátékos tagsági szintnek megfelelő részvételi díj: 28 000 Ft (pároknak és szóló férfiaknak)\, szóló nőknek: 12 000 Ft\nA díj tartalmazza a Welcome pezsgőt\, korlátlan alkoholmentes italkínálatot\, nasit és hidegtálat\, szendvicseket\, helyszínt\, óvszereket\, törülközőket\, szexjátékszereket\, sikosítót és természetesen magát a Casino programot és a jó hangulatot.\nEgy éjszaka az elegancia\, a fényűzés\, a csillogás és jazz hangulatával…\nSzóló férfiakat ezúttal- az arányosságot megőrízve\, csak korlátozott létszámban tudunk fogadni!\nAlkoholos ital szabadon hozható.\nAz esemény DOHÁNYZÁSMENTES!\nEgyesületi regisztráció:\nhttps://form.jotform.com/230552186698062\nRegisztráció a Casino Partyra:\nhttps://form.jotform.com/230092022813039\nAz eseményt 20 főtől megtartjuk \nKérünk\, a program 5 000 Ft- os regisztrációs díját regisztrációt követő 2 napon belül utald el az alábbi számlaszámra:\nSWLT Egyesület- Revolut IBAN LT51\n3250 0326 6896 7293\nSWLT Egyesület – OTP\n11715007-21524772-00000000\nKözleménybe\, TÁMOGATÁS és a tagsági kódodat (ha van)\, valamint az esemény dátumát írd (aki bizonytalan a kódját illetően\, keressen) SEMMI MÁST NE ÍRJATOK KÖZLEMÉNYBE- KÜLÖNÖSEN AZT NE\, HOGY SWINGER BULI Fennmaradó összeg helyszínen KP- ban vagy szintén átutalással fizetendő…\nAz eseményt megelőző 72 órán belüli lemondást már nem áll módunkban elfogadni\, ebben az esetben már a teljes díj fizetendő.
URL:https://swlt.hu/event/swlt-casino-party/
END:VEVENT
BEGIN:VEVENT
DTSTART;TZID=UTC:20230315T190000
DTEND;TZID=UTC:20230315T220000
DTSTAMP:20260423T054559
CREATED:20230228T001359Z
LAST-MODIFIED:20230228T001359Z
UID:530-1678906800-1678917600@swlt.hu
SUMMARY:Menjünk együtt színházba! - Többszörös orgazmus
DESCRIPTION:Ismét arra invitálunk Titeket\, hogy Menjünk Együtt…. \nEzúttal színházba…\nMi láttuk az előadást\, kihagyhatatlan \nCSAK A GYÜLEKEZŐT ÍRTAM KI 17.00- RA\, AZ ELŐADÁS 19.00- KOR KEZDŐDIK \nAz RS9 Színházban lesz az Anarchista Színház előadása\, a Többszörös Orgazmus\n„Mivel a kultúrák közötti kommunikáció lehetetlen\, ezért meg kell próbálnunk.” – Tadashi Suzuki\nElég színdarab készült már az etikátlan monogám kapcsolatokról\, a Budapesti Anarchista Színház Többszörös Orgazmus című produkciójával tehát az etikus nem-monogám kapcsolatok lehetőségeit járja körül. A „poliamória” vagyis sokszívűség olyan szexuális szubkultúra\, ahol a szerelemnek nem előfeltétele a kizárólagosság\, sem szexuális sem érzelmi értelemben. A darab Dossie Easton és Janet Hardy „The Ethical Slut” című kultkönyvén alapul (magyarul Szexbolondok Illemtana címen jelent meg\, ) és olyan értékeket állít középpontba\, melyek deficitje nem csupán a nemi életünk minőségét ronthatja: becsületesség\, önismeret\, intimitás\, szabadság. Ilyenformán bátran ajánlhatjuk megrögzött monogámoknak is!\nEgy kis ízelítő gondolat a darabból:\nhttps://youtu.be/dR8Gjf5rl4k\nJegyár:\n4626 Ft\nEseményeinket regisztrált\, egyesületi tagjainknak szervezzük.\nEgyesületi regisztráció:\nhttps://form.jotform.com/230552186698062\nRegisztráció a színházi látogatásra:\nhttps://form.jotform.com/230092022813039\n\nKérünk\, a program teljes díját regisztrációt követő 2 napon belül utald el az alábbi számlaszámra és érdeklődj\, hogy jutott- e jegy Neked:\nSWLT Egyesület- Revolut IBAN LT51\n3250 0326 6896 7293\nSWLT Egyesület – OTP\n11715007-21524772-00000000\nKözleménybe\, TÁMOGATÁS és a tagsági kódodat (ha van)\, valamint az esemény dátumát (03.15.) írd (aki bizonytalan a kódját illetően\, keressen) SEMMI MÁST NE ÍRJATOK KÖZLEMÉNYBE- KÜLÖNÖSEN AZT NE\, HOGY SWINGER BULI Fennmaradó összeg helyszínen KP- ban vagy szintén átutalással fizetendő…\nAz eseményt megelőző 72 órán belüli lemondást már nem áll módunkban elfogadni\, ebben az esetben már a teljes díj fizetendő.
URL:https://swlt.hu/event/menjunk-egyutt-szinhazba-tobbszoros-orgazmus-2/
END:VEVENT
BEGIN:VEVENT
DTSTART;TZID=UTC:20230325T180000
DTEND;TZID=UTC:20230326T080000
DTSTAMP:20260423T054559
CREATED:20230228T001644Z
LAST-MODIFIED:20230324T063447Z
UID:532-1679767200-1679817600@swlt.hu
SUMMARY:SWLT A sötét 50 árnyalata Party
DESCRIPTION:A tavalyi nagy siker után ismét a soft BDSM világhoz nyúlunk\, a maga eleganciájával és ízléses eszközeivel.\n\nA kapuk 18.00- kor nyílnak és megkezdődik a program\, ismét több helyszínen\, különböző mélységben élthetitek meg az alá- fölérendeltség szintjeit – játékmestereink vezetésével.\n\nA party- t a bevezető játékok fényében kezdőknek is ajánljuk.\n\nDresscode:\n22.00- ig: Hölgyeknek koktélruha\, Uraknak ing\, nyakkendő (és még nadrág  ).\n22.00. tól: Hölgyeknek elegáns szexi fehérneműk és rucik\, Uraknak marad az ing\, nyakkendő…\n\nHelyszín: Bp.- 13. kerület\n\nRészvételi díj a programra:\nVIP Szóló hölgyeknek: 9.000 Ft\nVIP Pároknak és szóló férfiaknak: 26.000 Ft\nCsapatjátékos szóló nőknek: 14 000 Ft\nCsapatjátékos Pároknak és szóló férfiaknak: 29.000 Ft\nMegfigyelő szóló nőknek: 17 000 Ft\nMegfigyelő Pároknak és szóló férfiaknak: 32.000 Ft\nÚjaknak\, az első SWLT eseményen résztvevőknek- tagsággal még nem rendelkezőknek: Csapatjátékos tagsági szintnek megfelelő részvételi díj: 29 000 Ft (pároknak és szóló férfiaknak)\, szóló nőknek: 14 000 Ft\n\nA díj tartalmazza a Welcome italt\, korlátlan alkoholmentes italkínálatot\, nasit és hidegtálat\, szendvicseket\, helyszínt\, óvszereket\, törülközőket\, szexjátékszereket\, sikosítót és természetesen magát a programot és a jó hangulatot.\n\nEgy éjszaka az elegancia\, a fényűzés\, a csillogás és jazz hangulatával…\n\nSzóló férfiakat ezúttal- az arányosságot megőrízve\, csak korlátozott létszámban tudunk fogadni!\n\nAlkoholos ital szabadon hozható.\n\nAz esemény DOHÁNYZÁSMENTES!\n\nEgyesületi regisztráció:\nhttps://form.jotform.com/230552186698062\nRegisztráció a Sötét 50 árnyalata Partyra:\nhttps://form.jotform.com/230092022813039\n\nAz eseményt 20 főtől megtartjuk \n\nKérünk\, a program 5 000 Ft- os regisztrációs díját regisztrációt követő 2 napon belül utald el az alábbi számlaszámra:\nSWLT Egyesület- Revolut IBAN LT51\n3250 0326 6896 7293\nKözleménybe\, TÁMOGATÁS és a tagsági kódodat (ha van)\, valamint az esemény dátumát írd (aki bizonytalan a kódját illetően\, keressen) SEMMI MÁST NE ÍRJATOK KÖZLEMÉNYBE- KÜLÖNÖSEN AZT NE\, HOGY SWINGER BULI Fennmaradó összeg helyszínen KP- ban vagy szintén átutalással fizetendő…\n\nAz eseményt megelőző 72 órán belüli lemondást már nem áll módunkban elfogadni\, ebben az esetben már a teljes díj fizetendő.
URL:https://swlt.hu/event/swlt-a-sotet-50-arnyalata-party/
END:VEVENT
BEGIN:VEVENT
DTSTART;TZID=UTC:20230331T180000
DTEND;TZID=UTC:20230331T230000
DTSTAMP:20260423T054559
CREATED:20230228T001752Z
LAST-MODIFIED:20230228T001752Z
UID:534-1680285600-1680303600@swlt.hu
SUMMARY:Light Nights Club LIVE- Beszélgessünk ÉLŐBEN!- Swinger Festival- A kezdetektől az idei tervekig
DESCRIPTION:Imádjuk a havi egyszeri online beszélgetős estünket\, a Light Nights Club programot\, amikor mindig más- más témát járunk körbe a zoom beszélgetésben az éppen jelen lévőkkel \nA programot kivittük a személyes térbe\, mert mi is lenne még jobb\, mint személyesen is találkozni és még jobban megnyílni a többiek előtt… Be is vált\, fantasztikusan sikerült az első alkalom\, így ezentúl rendszeressé tesszük \nSzeretettel várunk minden SWLT tagot és úja érdeklődőket is\, ezúttal kötetlenül\, csak egy online regisztrációhoz kötve\, díjmentes programunkra!\nErre az estre várjuk ugyanúgy a kezdőket és a vetránokat- mindenkit\, aki ott volt már korábban vagy szeretne idén az SWLT Egyesület által szervezett\, hazai évi swinger ünnepen\, a Swinger Festiválon…\nMegosztunk emlékeket és idei terveket- programokról\, helyszínről\, szervezőkről…\n\nA beszégletés résztvevői között egyesületi alapító tagok\, tapasztalt swingerek\, mentorok\, klubtulajdonosok és partyszervezők is lesznek\, így igazán sok oldalról kaphattok információkat \nRegisztráció az eseményre:\nhttps://form.jotform.com/230092022813039\nA pontos címet a résztvevőknek adjuk csak ki….\nVárunk Titeket!\nOrs és a szervezőcsapat
URL:https://swlt.hu/event/light-nights-club-live-beszelgessunk-eloben-swinger-festival-a-kezdetektol-az-idei-tervekig/
END:VEVENT
END:VCALENDAR