BEGIN:VCALENDAR
VERSION:2.0
PRODID:-//SWLT Egyesület - ECPv6.15.20//NONSGML v1.0//EN
CALSCALE:GREGORIAN
METHOD:PUBLISH
X-WR-CALNAME:SWLT Egyesület
X-ORIGINAL-URL:https://swlt.hu
X-WR-CALDESC:Események SWLT Egyesület
REFRESH-INTERVAL;VALUE=DURATION:PT1H
X-Robots-Tag:noindex
X-PUBLISHED-TTL:PT1H
BEGIN:VTIMEZONE
TZID:Europe/Paris
BEGIN:DAYLIGHT
TZOFFSETFROM:+0100
TZOFFSETTO:+0200
TZNAME:CEST
DTSTART:20220327T010000
END:DAYLIGHT
BEGIN:STANDARD
TZOFFSETFROM:+0200
TZOFFSETTO:+0100
TZNAME:CET
DTSTART:20221030T010000
END:STANDARD
BEGIN:DAYLIGHT
TZOFFSETFROM:+0100
TZOFFSETTO:+0200
TZNAME:CEST
DTSTART:20230326T010000
END:DAYLIGHT
BEGIN:STANDARD
TZOFFSETFROM:+0200
TZOFFSETTO:+0100
TZNAME:CET
DTSTART:20231029T010000
END:STANDARD
BEGIN:DAYLIGHT
TZOFFSETFROM:+0100
TZOFFSETTO:+0200
TZNAME:CEST
DTSTART:20240331T010000
END:DAYLIGHT
BEGIN:STANDARD
TZOFFSETFROM:+0200
TZOFFSETTO:+0100
TZNAME:CET
DTSTART:20241027T010000
END:STANDARD
END:VTIMEZONE
BEGIN:VTIMEZONE
TZID:UTC
BEGIN:STANDARD
TZOFFSETFROM:+0000
TZOFFSETTO:+0000
TZNAME:UTC
DTSTART:20220101T000000
END:STANDARD
END:VTIMEZONE
BEGIN:VEVENT
DTSTART;TZID=Europe/Paris:20230107T160000
DTEND;TZID=Europe/Paris:20230108T050000
DTSTAMP:20260423T081632
CREATED:20230105T150505Z
LAST-MODIFIED:20230105T150505Z
UID:433-1673107200-1673154000@swlt.hu
SUMMARY:Évindító Szaunás SWLT swinger buli a Forestben
DESCRIPTION:Sokan nyúzták a fülem\, hogy tartsunk szilveszteri SWLT bulit\, de bevallom őszintén\, szilveszterkor én is önfeledten szeretnék szórakozni- munka helyett\, a tavalyi decemberhez hasonlóan valószínűleg mindegyik sw partyszervező barátom buliját meglátogatom majd 🙂 \nLesz\, mit kipihenni 🙂 \nŐrjítő\, észbontó szilveszteri buli helyett ezúttal egy forró hangulatú szaunás bulit kínálunk- kipihenve a bulikat és rákészülve az újévi fogadalmak megszegésére …. \n16.00- tól várunk Titeket a Sauna Forestben SWLT- s szaunamestereinkkel\, hogy velünk indítsátok az új évet… \nA szaunafelöntések közben gyümölcsöt\, limonádét kínálunk\, majd belecsapunk az éjszakába… játszunk és ismerkedünk… és egészen hajnalig megtöltjük a helyszínt hangokkal\, illatokkal\, vágyakkal… \nA programot SWLT egyesületi tagjainknak szervezzük 🙂 \nRészvételi díjak:\nVIP Pároknak és szóló férfiaknak: 25 000 Ft\nVIP szóló hölgyeknek: 6 000 Ft\nCsapatjátékos Pároknak és szóló férfiaknak: 29 000 Ft\nCsapatjátékos szóló hölgyeknek: 9 000 Ft\nMegfigyelő Pároknak és szóló férfiaknak: 35 000 Ft\nMegfigyelő szóló hölgyeknek: 14 000 Ft \nA részvételi díj tartalmazza:\nHelyszín\, felöntések\, szaunamester díja\, welcome drink és alkoholmentes italok\, vacsora és nasi… óvszerek\, szájvíz\, törülközők\, lepedők stb… szervezési díj… szexjátékok és kiegészítők… \nRegisztráció az eseményre:\nhttps://form.jotform.com/212691175078359 \nKérünk\, a program 5 000 Ft- os regisztrációs díját regisztrációt követő 2 napon belül utald el az alábbi számlaszámra:\nSWLT Egyesület – Számlaszám: 11715007-21524772-00000000\nKözleménybe\, TÁMOGATÁS és a tagsági kódodat (ha van)\, valamint az esemény dátumát írd (aki bizonytalan a kódját illetően\, keressen) SEMMI MÁST NE ÍRJATOK KÖZLEMÉNYBE- KÜLÖNÖSEN AZT NE\, HOGY SWINGER BULI 😂Fennmaradó összeg helyszínen KP- ban vagy szintén átutalással fizetendő… \nAz eseményen csak egyesületi tagok vehetnek részt!!!!\nEgyesületi regisztráció online azonosítást követően:\nhttps://form.jotform.com/210186355435050 \nAz eseményt megelőző 72 órán belüli lemondást már nem áll módunkban elfogadni\, ebben az esetben már a teljes részvételi díj fizetendő.
URL:https://swlt.hu/event/evindito-szaunas-swlt-swinger-buli-a-forestben/
LOCATION:Sauna Forest
END:VEVENT
BEGIN:VEVENT
DTSTART;TZID=UTC:20230112T210000
DTEND;TZID=UTC:20230112T223000
DTSTAMP:20260423T081632
CREATED:20230105T101225Z
LAST-MODIFIED:20230105T151540Z
UID:417-1673557200-1673562600@swlt.hu
SUMMARY:Light Nights Club- ONLINE- Férfi orgazmusok és a magmegtartó szex
DESCRIPTION:Ismét egy beszélgetős\, borozós klubestére invitállak Benneteket! \nEzúttal a téma: Férfi orgazmusok és a magmegtartó szex \nMindig csak arról beszélünk\, hogy a nők hányféleképpen élhetik meg az orgazmust… Ideje beszélnünk a férfiakról is… \nMegint egy izgalmas Zoom beszélgetéshez tudtok csatlakozni. \nA beszélgetés nem lesz közvetítve\, felvéve\, így ez csak a jelenlévőknek szól… \nVárlak Titeket! \nEzen eseményünket egyesületi tagjainknak díjmentesen szervezzük\, ezért\, ha nem vagy még tag\, itt tudod megejteni: \nEgyesületi regisztráció:\nhttps://form.jotform.com/210186355435050 \nA beszélgetés zoom linkje a Csak Tagoknak privát csoportunk azonos eseményében találjátok vagy kérjétek privát üzenetben vagy emailben tőlem
URL:https://swlt.hu/event/ligh-nights-club-online-ferfi-orgazmusok-es-a-magmegtarto-szex/
LOCATION:Online
END:VEVENT
BEGIN:VEVENT
DTSTART;TZID=UTC:20230113T180000
DTEND;TZID=UTC:20230114T000000
DTSTAMP:20260423T081632
CREATED:20230105T150754Z
LAST-MODIFIED:20230105T150754Z
UID:436-1673632800-1673654400@swlt.hu
SUMMARY:Társasjáték Party LIGHT- ismerkedős játékest
DESCRIPTION:Társasjáték Party LIGHT- ismerkedős játékest \n2023- tól Társasjáték partyjainkat LIGHT és HARDCORE verzióban is kínáljuk 🙂 \nA Light az eddigi\, megszokott\, szexmentes ismerkedés célozza meg\, míg a Hardcore egy kicsit pikánsabb lesz… \nSzeretjük ezeket a programokat\, ezért nem csoda\, hogy alkalomról- alkalomra egyre nőtt a társaság… \nVáltozatos játékokkal várunk Benneteket!\nÉjfél után a lelkesebb csapattagok játszhatnak hajnalig velünk\, vagy akár félre is lehet vonulni szobába rosszalkodni ekkor már… \nJátékmester: Ors \nHelyszín: Bp.- magánlakás \nRészvételi díj a teljes programra:\nVIP: 8 000 Ft/fő\nCsapatjátékos: 10 000 Ft/fő\nMindenki más: 13 000 Ft/fő \nA díj tartalmazza a nasit\, szendvicseket\, alkoholmentes italokat\, helyszínt és természetesen magát a programot és a jó hangulatot. \nAlkoholos ital szabadon hozható\, pár üveggel (bor\, Jager…) mi is készülünk 🙂 \nAz eseményen csak egyesületi tagok vehetnek részt!!!! \nEgyesületi regisztráció:\nhttps://form.jotform.com/210186355435050 \nRegisztráció a Társasjáték Partyra:\nhttps://form.jotform.com/212691175078359 \nAz eseményt 10 főtől megtartjuk 🙂 \nKérünk\, a program 5 000 Ft- os regisztrációs díját regisztrációt követő 2 napon belül utald el az alábbi számlaszámra:\nSWLT Egyesület – Számlaszám: 11715007-21524772-00000000 \nKözleménybe\, TÁMOGATÁS és a tagsági kódodat (ha van)\, valamint az esemény dátumát írd (aki bizonytalan a kódját illetően\, keressen) SEMMI MÁST NE ÍRJATOK KÖZLEMÉNYBE- KÜLÖNÖSEN AZT NE\, HOGY SWINGER BULI 😂Fennmaradó összeg helyszínen KP- ban vagy szintén átutalással fizetendő… \nAz eseményt megelőző 72 órán belüli lemondást már nem áll módunkban elfogadni\, ebben az esetben már a teljes díj fizetendő.
URL:https://swlt.hu/event/tarsasjatek-party-light-ismerkedos-jatekest/
END:VEVENT
BEGIN:VEVENT
DTSTART;TZID=UTC:20230128T160000
DTEND;TZID=UTC:20230129T050000
DTSTAMP:20260423T081632
CREATED:20230105T151051Z
LAST-MODIFIED:20230105T151051Z
UID:438-1674921600-1674968400@swlt.hu
SUMMARY:SWLT Swinger Road Show- Debrecen
DESCRIPTION:Új projektet indítunk útjára 2023- tól 😉 \nMivel sokan jeleztétek vissza\, hogy szeretnétek\, ha vidékre is sűrűbben mennénk és rendeznénk találkozókat\, programokat\, bulikat\, ezért útjára indítjuk a Swinger Road Show- nkat\, minden hónapban más- más településre látogatva 🙂 \nAz első állomásunk Debrecen 🙂 \nEgy privát házat foglaltam le\, a közelben wellness lehetőséggel és szeretnénk a napot Veletek tölteni! \nEzúttal nem csak egyesületi tagokat várunk\, hanem bárkit\, aki szeretne megismerni minket és a környéken élő swingereket… \nRészvételi díjak\, melyek fedezik a helyszín bérlését\, nasikat\, alkoholmentes italokat és hidegtálat:\n12 000 Ft/fő \nAz eseményt 10 fő minimum részvételével tartjuk meg 🙂 \nRegisztráció a szokásos módon az alábbi űrlapon:\nhttps://form.jotform.com/212691175078359 \nA résztvevőkkel emailben és messengeren vesszük fel a kapcsolatot 😉 \nAz eseményt megelőző 72 órán belüli lemondást már nem áll módunkban elfogadni\, ebben az esetben már a teljes díj fizetendő.
URL:https://swlt.hu/event/swlt-swinger-road-show-debrecen/
LOCATION:Debrecen
END:VEVENT
BEGIN:VEVENT
DTSTART;TZID=UTC:20230130T170000
DTEND;TZID=UTC:20230130T220000
DTSTAMP:20260423T081632
CREATED:20230109T194246Z
LAST-MODIFIED:20230109T194246Z
UID:472-1675098000-1675116000@swlt.hu
SUMMARY:Menjünk együtt Színházba! - Többszörös orgazmus
DESCRIPTION:Ismét arra invitálunk Titeket\, hogy Menjünk Együtt…. \nEzúttal színházba…\nCSAK A GYÜLEKEZŐT ÍRTAM KI 17.00- RA\, AZ ELŐADÁS 19.00- KOR KEZDŐDIK \nAz RS9 Színházban lesz az Anarchista Színház előadása\, a Többszörös Orgazmus\n„Mivel a kultúrák közötti kommunikáció lehetetlen\, ezért meg kell próbálnunk.” – Tadashi Suzuki\nElég színdarab készült már az etikátlan monogám kapcsolatokról\, a Budapesti Anarchista Színház Többszörös Orgazmus című produkciójával tehát az etikus nem-monogám kapcsolatok lehetőségeit járja körül. A „poliamória” vagyis sokszívűség olyan szexuális szubkultúra\, ahol a szerelemnek nem előfeltétele a kizárólagosság\, sem szexuális sem érzelmi értelemben. A darab Dossie Easton és Janet Hardy „The Ethical Slut” című kultkönyvén alapul (magyarul Szexbolondok Illemtana címen jelent meg\, ) és olyan értékeket állít középpontba\, melyek deficitje nem csupán a nemi életünk minőségét ronthatja: becsületesség\, önismeret\, intimitás\, szabadság. Ilyenformán bátran ajánlhatjuk megrögzött monogámoknak is!\nEgy kis ízelítő gondolat a darabból:\nhttps://youtu.be/dR8Gjf5rl4k\nJegyár:\n4000Ft\nElőre megvásárolok 20 db jegyet… Így\, aki szeretne jönni\, kérem ennek díját (tehát fejenként 4 000 Ft- ot) utaljon el az Egyesület számlájára.\nEseményeinket regisztrált\, egyesületi tagjainknak szervezzük.\nEgyesületi regisztráció:\nhttps://form.jotform.com/210186355435050\nRegisztráció a színházi látogatásra:\nhttps://form.jotform.com/212691175078359\nKérünk\, a program 4 000 Ft- os díját regisztrációt követő 2 napon belül utald el az alábbi számlaszámra:\nSWLT Egyesület – Számlaszám: 11715007-21524772-00000000\nKözleménybe\, TÁMOGATÁS és a tagsági kódodat (ha van)\, valamint az esemény dátumát (01.30.) írd (aki bizonytalan a kódját illetően\, keressen) SEMMI MÁST NE ÍRJATOK KÖZLEMÉNYBE- KÜLÖNÖSEN AZT NE\, HOGY SWINGER BULI Fennmaradó összeg helyszínen KP- ban vagy szintén átutalással fizetendő…\nAz eseményt megelőző 72 órán belüli lemondást már nem áll módunkban elfogadni\, ebben az esetben már a teljes díj fizetendő.
URL:https://swlt.hu/event/menjunk-egyutt-szinhazba-tobbszoros-orgazmus/
LOCATION:RS9 színház
END:VEVENT
END:VCALENDAR