BEGIN:VCALENDAR
VERSION:2.0
PRODID:-//SWLT Egyesület - ECPv6.15.20//NONSGML v1.0//EN
CALSCALE:GREGORIAN
METHOD:PUBLISH
X-ORIGINAL-URL:https://swlt.hu
X-WR-CALDESC:Események SWLT Egyesület
REFRESH-INTERVAL;VALUE=DURATION:PT1H
X-Robots-Tag:noindex
X-PUBLISHED-TTL:PT1H
BEGIN:VTIMEZONE
TZID:UTC
BEGIN:STANDARD
TZOFFSETFROM:+0000
TZOFFSETTO:+0000
TZNAME:UTC
DTSTART:20250101T000000
END:STANDARD
END:VTIMEZONE
BEGIN:VEVENT
DTSTART;TZID=UTC:20260117T180000
DTEND;TZID=UTC:20260117T180000
DTSTAMP:20260421T085238
CREATED:20251013T155625Z
LAST-MODIFIED:20260101T133503Z
UID:2632-1768672800-1768672800@swlt.hu
SUMMARY:Swinger Game Night - Játék Party est\, sok nevetéssel\, erotikus töltettel\, érzéki masszázzsal
DESCRIPTION:I \nIsmét egy kalandos\, játékos és extra vidám éjszakára hívlak Benneteket\, ahol a nevetés\, az izgalom és az érzéki felfedezés kéz a kézben járnak. Egy olyan estére\, ahol a kíváncsiság jutalom\, a bátorság pontokat ér\, és ahol minden mögött ott lapul valami több… 😉 \nA program során 3–6 fős csapatokban vetitek bele magatokat különféle erotikus töltetű\, vicces\, zenés\, táncos és furmányos játékokba és feladványokba . Ezek nemcsak a kreativitásotokat és együttműködéseket teszik próbára\, hanem abban is segítenek\, hogy egyre mélyebben megismerjétek egymást mosolyogva\, érintéseken\, nevetésen és felszabadult pillanatokon keresztül. \nA pontok gyűlnek\, a hangulat fokozódik\, a gátlások oldódnak…\nÉs amikor kiderül\, kik voltak az est legügyesebb (vagy legbevállalósabb) játékosai\, a győztes csapatot sokkezes\, érzéki masszázzsal kényeztetjük . Hogy aztán – már minden kötelezettség nélkül – tovább haladjon az este pontosan úgy\, ahogy Ti szeretnétek \, egészen pirkadatig. \nEz a program különösen ajánlott kezdő swingereknek \, akik még csak ismerkednek ezzel a világgal\, hasonló gondolkodású emberekkel\, biztonságos\, támogató és játékos közegben. Itt nem kell „tudni” semmit – elég nyitottnak\, kíváncsinak és önazonosnak lenni. \nJátékmester: Ors\nHelyszín: Budapest\, VII. kerület\nLétszám: maximum 30 fő \nHa nyitott vagy egy estére\, ahol a játékos vágy\, az erotika és az emberi kapcsolódás kerül a középpontba – itt a helyed . \n  \nRészvételi díj 2026-ra aktív SWLT tagsággal rendelkezőknek:\n\nPároknak: 35.000 Ft/pár\nSzóló férfiaknak: 35.000 Ft/fő\nSzóló hölgyeknek: 15.000 Ft/fő\n\nAz eseményre ne felejtsd el beváltani tagsági utalványod\, mely a fenti díjból vonódik le!\n\nAz SWLT egyesületi tagság feltételeiről tájékozódj ITT!\n\nRészvételi díj azoknak\, akik NEM rendelkeznek SWLT aktív tagsággal:\n\nPároknak: 45.000 Ft/pár\nSzóló férfiaknak: 45.000 Ft/fő\nSzóló hölgyeknek: 25.000 Ft/fő\n\n\nA részvételi díj tartalmazza:\n\nTeljes helyszín használatát (szextér\, étkező-közösségi tér\, fürdőszoba\, öltöző\, terasz\, udvar)\, hajnalig tartó programokat\, törülközőt\, lepedőt\, óvszereket\, játékszerek szabad használatát\, svédasztalos téli finomságokat\, meleg és hideg ételeket\, snacket\, gyümölcsöt\, alkoholmentes italokat korlátlan mennyiségben\, alkoholos italokat a józanság határáig (Whisky\, pálinka\, Jager\, Aperol spritz\, borok\, pezsgő\, gin\, vodka\, rum)\, válogatott vendégkör\, diszkréció.\n\nRegisztráció eseményünkre:\nHa szeretnél részt venni a bulin\, az alábbi linkre kattintva tudsz jelentkezni:\nhttps://form.jotform.com/230092022813039
URL:https://swlt.hu/event/swinger-game-night-jatek-party-est-sok-nevetessel-erotikus-toltettel-erzeki-masszazzsal/
ATTACH;FMTTYPE=image/jpeg:https://swlt.hu/wp-content/uploads/2025/10/jatek-party-cover.jpg
END:VEVENT
END:VCALENDAR