BEGIN:VCALENDAR
VERSION:2.0
PRODID:-//SWLT Egyesület - ECPv6.15.20//NONSGML v1.0//EN
CALSCALE:GREGORIAN
METHOD:PUBLISH
X-ORIGINAL-URL:https://swlt.hu
X-WR-CALDESC:Események SWLT Egyesület
REFRESH-INTERVAL;VALUE=DURATION:PT1H
X-Robots-Tag:noindex
X-PUBLISHED-TTL:PT1H
BEGIN:VTIMEZONE
TZID:UTC
BEGIN:STANDARD
TZOFFSETFROM:+0000
TZOFFSETTO:+0000
TZNAME:UTC
DTSTART:20250101T000000
END:STANDARD
END:VTIMEZONE
BEGIN:VEVENT
DTSTART;TZID=UTC:20260103T173000
DTEND;TZID=UTC:20260104T030000
DTSTAMP:20260421T082603
CREATED:20250811T110208Z
LAST-MODIFIED:20251128T115557Z
UID:2513-1767461400-1767495600@swlt.hu
SUMMARY:Évindító Szaunás SWLT Swinger Party
DESCRIPTION:Őrjítő\, észbontó szilveszteri buli helyett ezúttal egy forró hangulatú szaunás bulit kínálunk- kipihenve a bulikat és rákészülve az újévi fogadalmak megszegésére …. \nÉrkezés: 17.30- tól \nSzaunafelöntések: 18.00- 22.00 között folyamatosan\, saját szaunamestereink gondoskodnak a szeánszokról. A helyszínen hatalmas\, beltéri medence biztosítja a felfrissülést. \nA szaunafelöntések közben gyümölcsöt\, limonádét kínálunk\, majd belecsapunk az éjszakába… játszunk és ismerkedünk… és egészen hajnalig megtöltjük a helyszínt hangokkal\, illatokkal\, vágyakkal… \n20.00- tól indul az esti party- egy kis játékkal és sok- sok zenével\, hogy aztán átöltözve szexibe\, az éjszaka felváltsa a nappalt\, a baráti hangulatot a fülledt erotika… \nLétszám: maximum 70 fő\nHelyszín: Budapest\, 22. kerületi party villa \n  \nRészvételi díj 2026-ra aktív SWLT tagsággal rendelkezőknek:\n\nPároknak: 35.000 Ft/pár\nSzóló férfiaknak: 35.000 Ft/fő\nSzóló hölgyeknek: 15.000 Ft/fő\n\nAz eseményre ne felejtsd el beváltani tagsági utalványod\, mely a fenti díjból vonódik le!\n\nAz SWLT egyesületi tagság feltételeiről tájékozódj ITT!\n\nRészvételi díj azoknak\, akik NEM rendelkeznek SWLT aktív tagsággal:\n\nPároknak: 45.000 Ft/pár\nSzóló férfiaknak: 45.000 Ft/fő\nSzóló hölgyeknek: 25.000 Ft/fő\n\n\nA részvételi díj tartalmazza:\n\nfelöntések\, szaunamester díja\, teljes helyszín használatát\, hajnalig tartó programokat\, törülközőt\, lepedőt\, óvszereket\, játékszerek szabad használatát\, délutántól hajnalig svédasztalos téli finomságokat\, meleg és hideg ételeket\, falatokat\, snacket\, gyümölcsöt\, alkoholmentes italokat korlátlan mennyiségben\, alkoholos italokat a józanság határáig (Whisky\, pálinka\, Jager\, Aperol spritz\, borok\, pezsgő\, gin\, vodka\, rum)\, forralt bort\, sütiket\, válogatott vendégkör\, diszkréció.\n\nRegisztráció eseményünkre:\nHa szeretnél részt venni a bulin\, az alábbi linkre kattintva tudsz jelentkezni:\nhttps://form.jotform.com/230092022813039
URL:https://swlt.hu/event/evindito-szaunas-swlt-swinger-party/
ATTACH;FMTTYPE=image/jpeg:https://swlt.hu/wp-content/uploads/2025/08/honlap_esemeny_szauna_jan3_1920x1080.jpg
END:VEVENT
END:VCALENDAR