BEGIN:VCALENDAR
VERSION:2.0
PRODID:-//SWLT Egyesület - ECPv6.15.20//NONSGML v1.0//EN
CALSCALE:GREGORIAN
METHOD:PUBLISH
X-ORIGINAL-URL:https://swlt.hu
X-WR-CALDESC:Események SWLT Egyesület
REFRESH-INTERVAL;VALUE=DURATION:PT1H
X-Robots-Tag:noindex
X-PUBLISHED-TTL:PT1H
BEGIN:VTIMEZONE
TZID:UTC
BEGIN:STANDARD
TZOFFSETFROM:+0000
TZOFFSETTO:+0000
TZNAME:UTC
DTSTART:20240101T000000
END:STANDARD
END:VTIMEZONE
BEGIN:VEVENT
DTSTART;TZID=UTC:20250927T180000
DTEND;TZID=UTC:20250928T040000
DTSTAMP:20260421T142058
CREATED:20250811T095432Z
LAST-MODIFIED:20250811T095459Z
UID:2489-1758996000-1759032000@swlt.hu
SUMMARY:Játék Party- Ismerkedős Mókás Játék Est
DESCRIPTION:Ismét egy kalandos- játékos\, extra vidám éjszakába hívlak Benneteket 🙂\nA program során 3-6 fős csapatokban\, különböző erotikus töltetű\, vicces és zenés\, táncos\, furmányos játék és feladvány során juthatnak a csapatok pontokhoz és közben ismerhetik meg egymást mélyebben és mélyebben…\nA győzteseket ezúttal is sokkezes masszázzsal kényeztetjük\, de aztán folytatódhat a játék egészen pirkadatig 😉\nA programot kifejezetten ajánljuk Kezdő swingereknek\, akik úgy érzik\, egyelőre csak ismerkedni szeretnének hasonló gondolkodásúakkal.\nJátékmester: Ors\nHelyszín: Budapest\nLétszám: maximum 30 fő\nRészvételi díj 2025- re aktív SWLT tagsággal rendelkezőknek:\n\nPároknak: 25 000 Ft/pár\nSzóló férfiaknak: 25 000 Ft/főSzóló hölgyeknek: 5 000 Ft/fő\nAz eseményre ne felejtsd el beváltani utalványod\, mely a fenti díjból vonódik le!\n\nA tagság feltételeiről tájékozódj ITT!\n\nRészvételi díj azoknak\, akik NEM rendelkeznek SWLT aktív tagsággal:\nPároknak: 35 000 Ft/pár\nSzóló férfiaknak: 35 000 Ft/főSzóló hölgyeknek: 15 000 Ft/fő\n\nA részvételi díj tartalmazza:\nHelyszínt\, programokat\, törülközőt\, lepedőt\, húsos és zöldséges falatokat\, mártogatós zöldségeket\, snacket\, gyümölcsöt\, alkoholmentes italokat korlátlan mennyiségben\, 2 alkoholos\, szabadon választott welcome drinket (Whisky\, pálinka\, Jager\, Aperol spritz\, borok\, pezsgő\, gin\, vodka\, rum)\, válogatott vendégkör\, diszkréció.\nMivel ez nem egy swinger party\, ezért a szex nincs a programban\, de nem vagyunk semmi jó elrontója\, ha netán úgy alakulna 😉 Készülünk óvszerekkel is 😉 \n  \nA helyszínen ottalvást\, korlátozott létszámban tudunk biztosítani: 5 000 Ft/fő díjon.\n\nRegisztráció eseményünkre:\nhttps://form.jotform.com/230092022813039
URL:https://swlt.hu/event/jatek-party-ismerkedos-mokas-jatek-est/
END:VEVENT
END:VCALENDAR