BEGIN:VCALENDAR
VERSION:2.0
PRODID:-//SWLT Egyesület - ECPv6.15.20//NONSGML v1.0//EN
CALSCALE:GREGORIAN
METHOD:PUBLISH
X-WR-CALNAME:SWLT Egyesület
X-ORIGINAL-URL:https://swlt.hu
X-WR-CALDESC:Események SWLT Egyesület
REFRESH-INTERVAL;VALUE=DURATION:PT1H
X-Robots-Tag:noindex
X-PUBLISHED-TTL:PT1H
BEGIN:VTIMEZONE
TZID:UTC
BEGIN:STANDARD
TZOFFSETFROM:+0000
TZOFFSETTO:+0000
TZNAME:UTC
DTSTART:20240101T000000
END:STANDARD
END:VTIMEZONE
BEGIN:VEVENT
DTSTART;TZID=UTC:20250920T150000
DTEND;TZID=UTC:20250921T030000
DTSTAMP:20260421T141753
CREATED:20250723T095009Z
LAST-MODIFIED:20250804T193300Z
UID:2464-1758380400-1758423600@swlt.hu
SUMMARY:Nyárzáró (medencés-szaunás-habpartys) Swinger Party
DESCRIPTION:Újult erővel indítjuk az őszt\, várunk Benneteket egy nyárzáró-ősznyitó bulira Fóton!\nIdőjárástól függően napközben hab- és medenceparty\, éjszaka forró szaunafelöntések várnak Benneteket az erotikus játékokon túl…\n\nA helyszínünk ismét Fót\, ahol szauna\, dézsa és egy hatalmas kültéri medence is vár bennünket\, hogy ne csak az ágyak nedvesedjenek 😉 A helyszínt megspékeljük ezúttal habpartyval is 😉\n\nA bulira kezdőket és régi swingeresek egyaránt várunk!\n\nTERVEZETT PROGRAM:15:00-tól: Érkezés\, Welcome Drink\n15:00-18:00 Pool & Foam Party\, medencés erotikus játékokkal spékelve (rossz idő esetén indul a szauna program!)\n18:00-20:00 Mentor Times (igény szerint) – beszélgetés a swinger világról mentorainkkal20:00-22:00 Szauanfelöntések szaunamestereinkkel21:00-tól Zene\, tánc\, kis italozás\, dresscode szerinti öltözet átvétele (hölgyeknek szexi fehérnemű\, magassarkú\, uraknak alsónadrág és ing vagy trikó)22:00-tól Érintéses játékok Orsival – ráhangolódás a nyitásra…3:00 Az esemény zárása\n\nLétszám: maximum 60 fő\nHelyszín: Fót\n\nRészvételi díj 2025-re aktív SWLT tagsággal rendelkezőknek:\n\nPároknak: 35.000 Ft/pár\nSzóló férfiaknak: 35.000 Ft/fő\nSzóló hölgyeknek: 15.000 Ft/fő\n\nAz eseményre ne felejtsd el beváltani tagsági utalványod\, mely a fenti díjból vonódik le!\n\nAz SWLT egyesületi tagság feltételeiről tájékozódj ITT!\n\nRészvételi díj azoknak\, akik NEM rendelkeznek SWLT aktív tagsággal:\n\nPároknak: 45.000 Ft/pár\nSzóló férfiaknak: 45.000 Ft/fő\nSzóló hölgyeknek: 25.000 Ft/fő\n\n\nA részvételi díj tartalmazza:\n\nEgyesület támogatói díját\, teljes helyszín használatát (szextér\, étkező-közösségi tér\, fürdőszoba\, öltöző\, terasz\, udvar)\, déltuántól hajnalig tartó programokat\, zárható szekrényt\, karszalagot\, törülközőt\, lepedőt\, óvszereket\, játékszerek szabad használatát\, délutántól hajnalig húsos és zöldséges falatokat\, mártogatós zöldségeket\, snacket\, gyümölcsöt\, alkoholmentes italokat korlátlan mennyiségben\, alkoholos italokat a józanság határáig (Whisky\, pálinka\, Jager\, Aperol spritz\, borok\, pezsgő\, gin\, vodka\, rum)\, válogatott vendégkör\, diszkréció.\n\nRegisztráció eseményünkre:\nHa szeretnél részt venni a bulin\, az alábbi linkre kattintva tudsz jelentkezni:\nhttps://form.jotform.com/230092022813039
URL:https://swlt.hu/event/nyarzaro-medences-szaunas-habparty-s-swinger-party/
ATTACH;FMTTYPE=image/jpeg:https://swlt.hu/wp-content/uploads/2025/07/honlap_esemeny_nyarzazo_sw_party_1920x1080.jpg
END:VEVENT
END:VCALENDAR