BEGIN:VCALENDAR
VERSION:2.0
PRODID:-//SWLT Egyesület - ECPv6.15.20//NONSGML v1.0//EN
CALSCALE:GREGORIAN
METHOD:PUBLISH
X-WR-CALNAME:SWLT Egyesület
X-ORIGINAL-URL:https://swlt.hu
X-WR-CALDESC:Események SWLT Egyesület
REFRESH-INTERVAL;VALUE=DURATION:PT1H
X-Robots-Tag:noindex
X-PUBLISHED-TTL:PT1H
BEGIN:VTIMEZONE
TZID:UTC
BEGIN:STANDARD
TZOFFSETFROM:+0000
TZOFFSETTO:+0000
TZNAME:UTC
DTSTART:20240101T000000
END:STANDARD
END:VTIMEZONE
BEGIN:VEVENT
DTSTART;TZID=UTC:20250816T190000
DTEND;TZID=UTC:20250817T030000
DTSTAMP:20260421T154008
CREATED:20250805T093218Z
LAST-MODIFIED:20250805T093218Z
UID:2476-1755370800-1755399600@swlt.hu
SUMMARY:Menjünk együtt Swinger Klubba! - Irány a Dolce Vita Dunakeszi!
DESCRIPTION:Ismét Menjünk együtt Klubba!\n\nA résztvevőkkel ezúttal az újonnan megnyílt Dolce Vita Dunakeszi klubot látogatjuk meg \n\n19.00- kor találkozzunk egy közeli bárban (a pontos címet emailben megküldjük a regisztrált vendégeknek)\, ahol ismerkedünk\, beszélgetünk\, iszogatunk. A bárban az első kör ital költségét fedezi az előregisztrációs díj!\n\n21.00- kor közösen átvonulunk a klubba. Az est további részvételi költségét közvetlen érkezéskor tudjátok rendezni a klubtulajdonosok felé.\nVárjuk szóló férfiak és nők jelentkezését is!\n\nA Menjünk együtt klubba! programunk az elmúlt években az egyik kedvenc programja volt a tagoknak\, több ízben töltöttük meg és aranyoztuk be akár a Tik Tak\, akár a többi klub estjét. Igény szerint szeretnénk visszahozni a programjaink sorába\, így várjuk a visszajelzéseiteket\, van- e igény rá 2025 őszétől \nHa kezdők vagytok\, kiváló alkalom\, hogy ne félve\, egyedül érkezzetek\, hiszen érkezés előtt van lehetőség ismerkedni\, beszélgetni nem csak velünk\, de a többi résztvevővel is.Szólóknak is kifejezetten ajánlott\, hiszen nem kell tartani az esetlegesen felmerülő létszámkorláttól.\nAz est díjai:SWLT – eseményregisztrációs díj: 5000 Ft/fő – regisztrációt követően utalandó\nKlub részvételi díjak – a helyszínen készpénzben fizetendő:Szóló nőknek díjmentes!Szóló férfiaknak 15 000 Ft/főPároknak 10 000 Ft/pár\nA résztvevőknek külön chat ablakot hozunk létre\, ha szeretnél\, csatlakozz \n\nA program CSAK EGYESÜLETI TAGOKNAK ELÉRHETŐ!\n\nREGISZTRÁCIÓ az eseményre:\nhttps://form.jotform.com/230092022813039
URL:https://swlt.hu/event/menjunk-egyutt-swinger-klubba-irany-a-dolce-vita-dunakeszi/
ATTACH;FMTTYPE=image/jpeg:https://swlt.hu/wp-content/uploads/2025/08/fb_event_menjunk_egyutt_klubba_aug16_1920x1005.jpg
END:VEVENT
END:VCALENDAR