BEGIN:VCALENDAR
VERSION:2.0
PRODID:-//SWLT Egyesület - ECPv6.15.20//NONSGML v1.0//EN
CALSCALE:GREGORIAN
METHOD:PUBLISH
X-ORIGINAL-URL:https://swlt.hu
X-WR-CALDESC:Események SWLT Egyesület
REFRESH-INTERVAL;VALUE=DURATION:PT1H
X-Robots-Tag:noindex
X-PUBLISHED-TTL:PT1H
BEGIN:VTIMEZONE
TZID:UTC
BEGIN:STANDARD
TZOFFSETFROM:+0000
TZOFFSETTO:+0000
TZNAME:UTC
DTSTART:20240101T000000
END:STANDARD
END:VTIMEZONE
BEGIN:VEVENT
DTSTART;TZID=UTC:20250517T100000
DTEND;TZID=UTC:20250518T090000
DTSTAMP:20260421T194734
CREATED:20250310T131202Z
LAST-MODIFIED:20250310T131202Z
UID:2408-1747476000-1747558800@swlt.hu
SUMMARY:Back to the nature Swinger Party - túrázás és grillezés a Dunakanyarban
DESCRIPTION:Lépjetek ki megszokott swinger események sorából és tartsatok velünk a természetbe! \nMájus 17- én egész napos programra invitálunk Benneteket! \nReggel találkozó a rendezvényünk helyszínén\, Nógrádban található\, hangulatos party házban\, ahonnan egy kellemes túrára indulunk a közeli tóhoz. Kis séta\, útközben piknik\, ami alatt lehet hatalmasakat beszélgetni\, nevetni\, ismerkedni (és lecsúszhat 1-2 jó pálinka ;))\nDélután közös grillezés és indul a buli\, a ház tánctermében reggelig szól a zene\, de természetesen a kialakított nyitott és zárt terekben másféle szórakozásnak is teret adunk 😉 \nVárunk minden\, természetet kedvelő swingert\, aki szeretne kicsit több időt eltölteni a társaságban\, mint egy hagyományos klubestén… \nProgram:\nÉrkezés: 10.00- 11.00 között\, reggeli frissítő\n11.00- tól 15.00 Túra\, Piknik a tónál\n16.00- tól grillezés\, koktélozás\, zene és játékok\n20.00- tól esti buli DJ- vel\, swinger party küzdőterekkel \nDresscode: napközben tavaszi túraszett\, estére szexi rucik \nLétszám: minimum 25\, maximum 60 fő\n\nRészvételi díj 2025- re aktív SWLT tagsággal rendelkezőknek:Pároknak: 28 000 Ft/pár\nSzóló férfiaknak: 28 000 Ft/főSzóló hölgyeknek: 8 000 Ft/fő\nAz eseményre ne felejtsd el beváltani utalványod\, mely a fenti díjból vonódik le!\n\nA tagság feltételeiről tájékozódj ITT!\n\nRészvételi díj azoknak\, akik NEM rendelkeznek SWLT aktív tagsággal:\n\nPároknak: 38 000 Ft/pár\nSzóló férfiaknak: 38 000 Ft/főSzóló hölgyeknek: 18 000 Ft/fő\n\n\nA részvételi díj tartalmazza:\nA teljes programot\, a helyszínt\, programokat\, törülközőt\, lepedőt\, óvszereket\, játékszerek szabad használatát\, grill vacsorát\, snacket\, gyümölcsöt\, alkoholmentes italokat korlátlan mennyiségben\, 2 alkoholos\, szabadon választott welcome drinket (Whisky\, pálinka\, Jager\, Aperol spritz\, borok\, pezsgő\, gin\, vodka\, rum)\, válogatott vendégkör\, diszkréció.\n\nA helyszínen ottalvásra van lehetőség (korlátozott létszámban): 8 000 Ft/fő\n\nRegisztráció eseményünkre:\nhttps://form.jotform.com/230092022813039\n 
URL:https://swlt.hu/event/back-to-the-nature-swinger-party-turazas-es-grillezes-a-dunakanyarban/
ATTACH;FMTTYPE=image/jpeg:https://swlt.hu/wp-content/uploads/2025/03/back-to-the-nature-party.jpg
END:VEVENT
END:VCALENDAR