BEGIN:VCALENDAR
VERSION:2.0
PRODID:-//SWLT Egyesület - ECPv6.15.20//NONSGML v1.0//EN
CALSCALE:GREGORIAN
METHOD:PUBLISH
X-WR-CALNAME:SWLT Egyesület
X-ORIGINAL-URL:https://swlt.hu
X-WR-CALDESC:Események SWLT Egyesület
REFRESH-INTERVAL;VALUE=DURATION:PT1H
X-Robots-Tag:noindex
X-PUBLISHED-TTL:PT1H
BEGIN:VTIMEZONE
TZID:UTC
BEGIN:STANDARD
TZOFFSETFROM:+0000
TZOFFSETTO:+0000
TZNAME:UTC
DTSTART:20240101T000000
END:STANDARD
END:VTIMEZONE
BEGIN:VEVENT
DTSTART;TZID=UTC:20250503T170000
DTEND;TZID=UTC:20250503T190000
DTSTAMP:20260421T194422
CREATED:20250212T130803Z
LAST-MODIFIED:20250422T073555Z
UID:2344-1746291600-1746298800@swlt.hu
SUMMARY:Light Nights Club- Élő Kibeszélő - Téma: Tökéletes swinger kapcsolatok - látszat és valóság
DESCRIPTION:Szeptembertől rendszeresen havonta jelennek meg új videobeszélgetéseink\, melyekben mentorainkkal vagy éppen szakemberekkel\, swingerekkel beszélgetünk egy- egy téma körül. \nAz online beszélgetéseket mindig követi egy ÉLŐ KIBESZÉLŐ est\, amire várunk Benneteket is! \nRészvételi díj Egyesületi tagoknak: 5 000 Ft/fő \nAktív tagsággal nem rendeklezőknek: 8 000 Ft/fő \nA részvételi díj tartalmazza: helyszín biztosítását\, korlátlan alkoholmentes italfogyasztás\, rágcsálnivalók\, gyümölcs. + jelenléteddel is támogatod Egyesületünk működését 🙂 \nTarts velünk Te is! \nAz esemény nem csak swingereknek szól\, szeretettel várunk minden külsős érdeklődőt is! \nRegisztráció az eseményre: \n \n 
URL:https://swlt.hu/event/light-nights-club-elo-kibeszelo-tema-erzelmek-a-swingerben-swlt-kozpont/
ATTACH;FMTTYPE=image/jpeg:https://swlt.hu/wp-content/uploads/2025/02/elo-kibeszelo.jpg
END:VEVENT
BEGIN:VEVENT
DTSTART;TZID=UTC:20250503T190000
DTEND;TZID=UTC:20250504T030000
DTSTAMP:20260421T194422
CREATED:20250218T164618Z
LAST-MODIFIED:20250422T072204Z
UID:2365-1746298800-1746327600@swlt.hu
SUMMARY:Játék Party- Ismerkedős Mókás Játék Est
DESCRIPTION:Ismét egy kalandos- játékos\, extra vidám éjszakába hívlak Benneteket 🙂 \nA program során 3-6 fős csapatokban\, különböző erotikus töltetű\, vicces és zenés\, táncos\, furmányos játék és feladvány során juthatnak a csapatok pontokhoz és közben ismerhetik meg egymást mélyebben és mélyebben…\nA győzteseket ezúttal is sokkezes masszázzsal kényeztetjük\, de aztán folytatódhat a játék egészen pirkadatig\, akárcsak legutóbb 😉\nA programot kifejezetten ajánljuk Kezdő swingereknek\, akik úgy érzik\, egyelőre csak ismerkedni szeretnének hasonló gondolkodásúakkal.\nJátékmester: Ors\nHelyszín: Budapest\nLétszám: maximum 30 fő\nRészvételi díj 2025- re aktív SWLT tagsággal rendelkezőknek:\n\nPároknak: 25 000 Ft/pár\nSzóló férfiaknak: 25 000 Ft/főSzóló hölgyeknek: 5 000 Ft/fő\nAz eseményre ne felejtsd el beváltani utalványod\, mely a fenti díjból vonódik le!\n\nA tagság feltételeiről tájékozódj ITT!\n\nRészvételi díj azoknak\, akik NEM rendelkeznek SWLT aktív tagsággal:\n\nPároknak: 35 000 Ft/pár\nSzóló férfiaknak: 35 000 Ft/főSzóló hölgyeknek: 15 000 Ft/fő\n\n\nA részvételi díj tartalmazza:\nHelyszínt (szextér\, étkező- közösségi tér\, fürdőszoba\, öltöző\, terasz\, udvar)\, programokat\, zárható szekrényt\, karszalagot\, törülközőt\, lepedőt\, óvszereket\, játékszerek szabad használatát\, húsos és zöldséges falatokat\, mártogatós zöldségeket\, snacket\, gyümölcsöt\, alkoholmentes italokat korlátlan mennyiségben\, 2 alkoholos\, szabadon választott welcome drinket (Whisky\, pálinka\, Jager\, Aperol spritz\, borok\, pezsgő\, gin\, vodka\, rum)\, válogatott vendégkör\, diszkréció.\n\nA helyszínen ottalvást\, korlátozott létszámban tudunk biztosítani: 5 000 Ft/fő díjon.\n\nRegisztráció eseményünkre:\nhttps://form.jotform.com/230092022813039\n\n\n\n\n Add to calendar
URL:https://swlt.hu/event/jatek-party-ismerkedos-mokas-jatek-est-az-swlt-kozpontban-5/
ATTACH;FMTTYPE=image/jpeg:https://swlt.hu/wp-content/uploads/2025/02/jatek-buli-cover.jpg
END:VEVENT
END:VCALENDAR