BEGIN:VCALENDAR
VERSION:2.0
PRODID:-//SWLT Egyesület - ECPv6.15.20//NONSGML v1.0//EN
CALSCALE:GREGORIAN
METHOD:PUBLISH
X-ORIGINAL-URL:https://swlt.hu
X-WR-CALDESC:Események SWLT Egyesület
REFRESH-INTERVAL;VALUE=DURATION:PT1H
X-Robots-Tag:noindex
X-PUBLISHED-TTL:PT1H
BEGIN:VTIMEZONE
TZID:UTC
BEGIN:STANDARD
TZOFFSETFROM:+0000
TZOFFSETTO:+0000
TZNAME:UTC
DTSTART:20240101T000000
END:STANDARD
END:VTIMEZONE
BEGIN:VEVENT
DTSTART;TZID=UTC:20250426T160000
DTEND;TZID=UTC:20250426T180000
DTSTAMP:20260421T210925
CREATED:20250218T164315Z
LAST-MODIFIED:20250422T073124Z
UID:2363-1745683200-1745690400@swlt.hu
SUMMARY:Mentor Times Délután- Kötetlen beszélgetés kezdőknek a swinger világról
DESCRIPTION:Az SWLT havi rendszeres eseménye a Mentor Times délután \n\nMentoraink sok éves tapasztalattal rendelkező swingerek\, akik elkötelezettek amellett\, hogy segítsék azokat a párokat és szólókat\, akik még most kezdenének nyitni kapcsolatukon vagy alapvetően ismerkedni ezzel a világgal.\n\nA beszélgetés kötetlen\, bár az alapokat mindig igyekszünk érinteni\, de tulajdonképpen a vendégek irányítják a beszélgetést. Igyekszünk megválaszolni minden kérdést és megosztani Veletek tapasztalatainkat.\n\nA résztvevők száma maximum 30 fő!\n\nIdőpont: 17.00- tól 19.00- ig (19.00- tól pedig indul a Kezdők Éjszakája Swinger Party\, azt se hagyjátok ki 😉 )\n\nHelyszín: SWLT Központ\, Zugló\n\nA program díja: SWLT tagoknak: 5 000 Ft/fő\, másoknak: 8 000 Ft/fő\, melyet az eseményregisztrációt követően várunk az alábbi számlaszámra:\n\nSWLT Egyesület- OTP – 11715007-21544086\nKözlemény: Támogatás 0426 MT\n\nREGISZTRÁCIÓ AZ ESEMÉNYRE:\nhttps://form.jotform.com/230092022813039
URL:https://swlt.hu/event/mentor-times-delutan-kotetlen-beszelgetes-kezdoknek-a-swinger-vilagrol-9/
END:VEVENT
BEGIN:VEVENT
DTSTART;TZID=UTC:20250426T190000
DTEND;TZID=UTC:20250427T030000
DTSTAMP:20260421T210925
CREATED:20250218T163758Z
LAST-MODIFIED:20250422T073443Z
UID:2360-1745694000-1745722800@swlt.hu
SUMMARY:Kezdők éjszakája swinger party – veteránok számára korlátozott helyekkel!
DESCRIPTION:Az SWLT állandó eseménye a havonta megrendezésre kerülő Kezdők Éjszakája Swinger Party.\n\nAz estre NEM csak KEZDŐK jelentkezhetnek\, de a régi swingeresek létszámát korlátozzuk maximum 10 főben!\nA bulit megelőzi mindig egy Mentor Times délután (17.00-19.00)\, amikor is lehetőség van az érdeklődők részére egy kötetlen\, laza beszélgetésre mentorainkkkal. A délutáni program díja 5000 Ft/fő! (tagoknak)\n\nAz esti swinger party menete:19.00- 20.00 Érkezés\, Welcome Drink20.00- 21.00 Könnyed ismerkedős játékok21.00- tól zene\, tánc\, kis italozás\, dresscode szerinti öltözet átvétele (hölgyeknek szexi fehérnemű\, magassarkú\, uraknak alsónadrág és ing vagy trikó22.00- tól Érintéses játékok Orsival- ráhangolódás a nyitásra…03.00 Az esemény zárása\n\nLétszám: maximum 25 fő\nHelyszín: Budapest\, Zugló\n\nRészvételi díj 2025- re aktív SWLT tagsággal rendelkezőknek:Pároknak: 25 000 Ft/pár\nSzóló férfiaknak: 25 000 Ft/főSzóló hölgyeknek: 5 000 Ft/fő\nAz eseményre ne felejtsd el beváltani utalványod\, mely a fenti díjból vonódik le!\n\nA tagság feltételeiről tájékozódj ITT!\n\nRészvételi díj azoknak\, akik NEM rendelkeznek SWLT aktív tagsággal:\n\nPároknak: 35 000 Ft/pár\nSzóló férfiaknak: 35 000 Ft/főSzóló hölgyeknek: 15 000 Ft/fő\n\n\nA részvételi díj tartalmazza:\nEgyesület támogatói díját\, teljes helyszín használatát (szextér\, étkező- közösségi tér\, fürdőszoba\, öltöző\, terasz\, udvar)\, programokat\, zárható szekrényt\, karszalagot\, törülközőt\, lepedőt\, óvszereket\, játékszerek szabad használatát\, húsos és zöldséges falatokat\, mártogatós zöldségeket\, snacket\, gyümölcsöt\, alkoholmentes italokat korlátlan mennyiségben\, 2 alkoholos\, szabadon választott welcome drinket (Whisky\, pálinka\, Jager\, Aperol spritz\, borok\, pezsgő\, gin\, vodka\, rum)\, válogatott vendégkör\, diszkréció.\n\nRegisztráció eseményünkre:\nhttps://form.jotform.com/230092022813039
URL:https://swlt.hu/event/kezdok-ejszakaja-swinger-party-veteranok-szamara-korlatozott-helyekkel/
ATTACH;FMTTYPE=image/png:https://swlt.hu/wp-content/uploads/2025/02/Kezdok-ejszakaja-fetlife-1200-x-630-px.png
END:VEVENT
END:VCALENDAR