BEGIN:VCALENDAR
VERSION:2.0
PRODID:-//SWLT Egyesület - ECPv6.15.20//NONSGML v1.0//EN
CALSCALE:GREGORIAN
METHOD:PUBLISH
X-WR-CALNAME:SWLT Egyesület
X-ORIGINAL-URL:https://swlt.hu
X-WR-CALDESC:Események SWLT Egyesület
REFRESH-INTERVAL;VALUE=DURATION:PT1H
X-Robots-Tag:noindex
X-PUBLISHED-TTL:PT1H
BEGIN:VTIMEZONE
TZID:UTC
BEGIN:STANDARD
TZOFFSETFROM:+0000
TZOFFSETTO:+0000
TZNAME:UTC
DTSTART:20240101T000000
END:STANDARD
END:VTIMEZONE
BEGIN:VEVENT
DTSTART;TZID=UTC:20250405T120000
DTEND;TZID=UTC:20250406T120000
DTSTAMP:20260421T210503
CREATED:20241017T103638Z
LAST-MODIFIED:20241104T172433Z
UID:2030-1743854400-1743940800@swlt.hu
SUMMARY:BÉRELHETŐ A KÖZPONT\, MERT NINCS SAJÁT RENDEZVÉNYÜNK!
DESCRIPTION:2024 Áprilisban nyitottuk meg az SWLT Központot Zuglóban és azóta számos izgalmas eseményt szerveztünk\, rengeteg élmény szerezve másoknak és magunknak is 🙂 \nSokan nem tudják\, de a szabad kapacitás függvényében BÉRELHETŐ is kisebb rendezvényekre (25-30 főig) vagy akár Búvóhelynek\, workshopnak\, előadásoknak… \nEz a dátum itt pont szabad\, így ha szeretnéd Te kibérelni\, itt a remek alkalom 😉 \nRészleteket\, infókat és a Bejelentkezést az alábbi linkre kattintva éritek el: \nSZERETNÉM KIBÉRELNI! \nA helyszínről 2 videót találtok YouTube csatornánkon. \nVárunk Titeket!
URL:https://swlt.hu/event/berelheto-a-kozpont-mert-nincs-sajat-rendezvenyunk-2/
END:VEVENT
END:VCALENDAR