BEGIN:VCALENDAR
VERSION:2.0
PRODID:-//SWLT Egyesület - ECPv6.15.20//NONSGML v1.0//EN
CALSCALE:GREGORIAN
METHOD:PUBLISH
X-WR-CALNAME:SWLT Egyesület
X-ORIGINAL-URL:https://swlt.hu
X-WR-CALDESC:Események SWLT Egyesület
REFRESH-INTERVAL;VALUE=DURATION:PT1H
X-Robots-Tag:noindex
X-PUBLISHED-TTL:PT1H
BEGIN:VTIMEZONE
TZID:UTC
BEGIN:STANDARD
TZOFFSETFROM:+0000
TZOFFSETTO:+0000
TZNAME:UTC
DTSTART:20240101T000000
END:STANDARD
END:VTIMEZONE
BEGIN:VEVENT
DTSTART;TZID=UTC:20250321T160000
DTEND;TZID=UTC:20250323T110000
DTSTAMP:20260421T224113
CREATED:20250219T161000Z
LAST-MODIFIED:20250220T200428Z
UID:2388-1742572800-1742727600@swlt.hu
SUMMARY:SWLT Tavaszi Swinger Hétvége- Swinger Pool & Sauna Weekend -SZÁLLÁSSAL VAGY SZÁLLÁS NÉLKÜL!
DESCRIPTION:Szeretünk több napot is Veletek tölteni és az elmúlt években ezek az események igazán felejthetetlenné sikeredtek 🙂 \nTerveink szerint rendszeresítjük\, hogy minden év tavaszán és őszén (a nyári Fesztiválon túl) szervezünk egy- egy hosszú hétvégét Veletek. \nKövetkező állomásunk március 21-23!!! \nHelyszín ezúttal Pest megyében\, tehát a fővároshoz közel lesz\, Inárcson bérelünk ki egy komplett szállodát\, töltjük meg élettel\, erotikával…  szaunaszeánszokkal\, napközben izgalmas workshopokkal\, erotikus játékokkal\, este bulikkal és persze emellett mehet non- stop a szex… \nHelyszín: Inárcs\, Bagolyvár \nÉtkezés: Félpanziós ellátás a hotel éttermében. (önköltségen ebéd is kérhető!) \nItalfogyasztás: A Hotelben lévő bárpultban Swinger Dollárral tudtok fogyasztani alkoholos- és alkoholmentes italkínálatból. \nSzállás: A hotel 25 db páros szobájában. Párokat külön szobában\, míg szólókat- kérés alapján akár párok mellé\, külön megegyezés hiányában közös szobába tudunk elhelyezni. Amennyiben egyedül érkező vendég saját szobát szeretne\, úgy plusz 1 fő felár fizetendő. \nMaximum létszám: szállás tekintetében: 60 fő\, buli tekintetében 150 fő \nMinimum létszám (ennyi jelentkező esetén tartjuk meg az eseményt): 40 fő (már összejött\, így az esemény biztosan megrendezésre kerül!) \nKüzdőterek: 1 db központi\, nagy közösségi és küzdőtér\, 4 db  berendezett\, hangulatps közös (akár zárható) szoba\, lepedőkkel\, óvszerekkel\, zenével\, szexjátékokkal… + invitálásra bármely szoba hancútérré válhat\, hiszen a szállásod egyben a játszótered is 😉 \nKözösségi tér: A wellnessből nyíló fedett belső térben rendezzük be a napközben közösségi térként\, éjszaka party helyszínként szolgáló központi területet. A medencék feletti pihenőt teljes egészében matracozzuk és non- stop nyitott küzdőtérként vagy akár pihenőként szolgál. \nWellness: wellness használat non- stop\, beltéri medence\, jakuzzi\, egész nap szaunafelöntések\, masszázsprogramok- saját masszőreinkkel \nProgramok: minden este buli DJ- vel\, szexuális felfedező\, bemelegítő játékok Orsival\, napközben külön teremben klubbeszélgetések és workshopok \n\nRészvételi díjak (a díjak tartalmazzák a helyszín kizárólagos használatát\, az összes fenti programot/szolgáltatást + a helyszínen lepedők\, törölközők\, óvszerek\, sikosítók stb stb szokásos használatát\, hangtechnika\, fénytechnika\, személyzeti\, szervezési és egyéb felmerülő költségeket). + A VÁLASZTOTT JEGYTÍPUSNAK MEGFELELŐEN SZÁLLÁST ÉS/VAGY ÉTKEZÉST! \nGOLD jegyek: péntek- szombat- vasánrap SZÁLLÁSSAL \nGOLD jegy vásárlása esetén a díj tartalmazza a szállást és a félpanziós svédasztalos étkezést is! \nGOLD + : 2025- ben érvényes SWLT tagsággal rendelkezőknek: 115 000 Ft/fő \nGOLD: Érvényes tagsággal NEM rendelkezőknek: 145 000 Ft/fő (érdemes kiváltanod 2025- re a tagságod!!) \nSILVER jegyek: péntek- szombat SZÁLLÁS NÉLKÜL \nSILVER jegy vásárlása esetén a díj tartalmazza a svédasztalos vacsorát mindkét este\, de szállást és további étkezést nem! \nSILVER + :2025- ben érvényes SWLT tagsággal rendelkező PÁROKNAK ÉS SZÓLÓ FÉRFIAKNAK: 100 000 Ft/PÁR VAGY SZÓLÓ FÉRFI \nSILVER: Érvényes tagsággal NEM rendelkező PÁROKNAK ÉS SZÓLÓ FÉRFIAKNAK: 120 000 Ft/PÁR VAGY SZÓLÓ FÉRFI (érdemes kiváltanod 2025- re a tagságod!!) \nSILVERY: 2025- ben érvényes SWLT tagsággal rendelkező SZÓLÓ NŐKNEK: 55 000 Ft/Fő \nHONEY jegyek: Péntek esti PARTY JEGY (19.00- 04.00) VAGY Szombat NAPPALI JEGY (9.00- 19.00) VAGY Szombat esti PARTY JEGY (19.00- 04.00) \nHONEY jegy vásárlása csak az esemény egy zárt időszakára szól (esti bulik vagy szombat nappal)\, a részvételi díj nem tartalmaz szállást és étkezést\, illetve a masszázsprogramot se! \nHONEY+ :2025- ben érvényes SWLT tagsággal rendelkező PÁROKNAK ÉS SZÓLÓ FÉRFIAKNAK: 25 000 Ft/PÁR VAGY SZÓLÓ FÉRFI \nHONEY: Érvényes tagsággal NEM rendelkező PÁROKNAK ÉS SZÓLÓ FÉRFIAKNAK: 35 000 Ft/PÁR VAGY SZÓLÓ FÉRFI (érdemes kiváltanod 2025- re a tagságod!!) \nHONIE: 2025- ben érvényes SWLT tagsággal rendelkező SZÓLÓ NŐKNEK: 10 000 Ft/Fő \n  \nPONTOS MENETREND: \nNon- Stop igénybevehető: Wellness tér\, Küzdőterek\, Közzösségi terek + masszázsok lefoglalt időpontokban (megfelelő jegytípussal) \nMárcius 21. Péntek \n16.00- tól érkezés\, szállások elfoglalása \n17.00 Szaunafelöntések kezdődnek! A felöntések pontos menetrendjét a helyszínen függesztjük ki! \n17.00 – 18.00 Swinger Story- k – klubdélután kerekasztalbeszélgetéssel- mentorainkkal és partyszervezőkkel \n18.00- 20.00 Vacsora \n20.00- tól Indul a Buli- zene és tánc \n22.00- tól erotikus játékok Orsival a közös játszótéren \nMárcius 22. Szombat \n8.00- 10.00 Reggeli \n10.00- 11.00 Meztelen hangfürdő \n10.00- 12.00 Féltékenység és hullámvasút- érzelmek és azok kezelése a swingerben – Klubdélelőtt kerekasztalbeszélgetéssel mentorainkkal \n11.00- tól indulnak a szaunafelöntések! \n14.00- 16.00 Pool Games- erotikus töltetű vicces játékok a medencében \n16.00- kb 18.00 Sokkezes Masszázs \n18.00- 20.00 Vacsora \n20.00- tól Indul a Buli- zene és tánc \n22.00- tól erotikus játékok Orsival a közös játszótéren \nMárcius 22. vasárnap  \n8.00- 10.00 Reggeli \n10.00- tól búcsú és a szállások elhagyása \n* A programváltozás jogát fenntartjuk! \nREGISZTRÁCIÓ az eseményre ITT\n 
URL:https://swlt.hu/event/swlt-tavaszi-swinger-hetvege-swinger-pool-sauna-weekend-szallassal-vagy-szallas-nelkul/
ATTACH;FMTTYPE=image/gif:https://swlt.hu/wp-content/uploads/2025/02/swinger-poolsauna-weekend.gif
END:VEVENT
BEGIN:VEVENT
DTSTART;TZID=UTC:20250322T190000
DTEND;TZID=UTC:20250323T040000
DTSTAMP:20260421T224113
CREATED:20250219T150945Z
LAST-MODIFIED:20250220T201312Z
UID:2378-1742670000-1742702400@swlt.hu
SUMMARY:SWLT Tavaszi Swinger Hétvége- SZOMBAT ESTI PARTY JEGY!!- Swinger Pool & Sauna Weekend
DESCRIPTION:Szeretünk több napot is Veletek tölteni és az elmúlt években ezek az események igazán felejthetetlenné sikeredtek 🙂 \nTerveink szerint rendszeresítjük\, hogy minden év tavaszán és őszén (a nyári Fesztiválon túl) szervezünk egy- egy hosszú hétvégét Veletek. \nKövetkező állomásunk március 21-23!!! \nHelyszín ezúttal Pest megyében\, tehát a fővároshoz közel lesz\, Inárcson bérelünk ki egy komplett szállodát\, töltjük meg élettel\, erotikával…  szaunaszeánszokkal\, napközben izgalmas workshopokkal\, erotikus játékokkal\, este bulikkal és persze emellett mehet non- stop a szex… \nHelyszín: Inárcs\, Bagolyvár \nItalfogyasztás: A Hotelben lévő bárpultban Swinger Dollárral tudtok fogyasztani alkoholos- és alkoholmentes italkínálatból. \nMaximum létszám: 150 fő \nMinimum létszám (ennyi jelentkező esetén tartjuk meg az eseményt): 40 fő (már összejött\, így az esemény biztosan megrendezésre kerül!) \nKüzdőterek: 1 db központi\, nagy közösségi és küzdőtér\, 4 db  berendezett\, hangulatps közös (akár zárható) szoba\, lepedőkkel\, óvszerekkel\, zenével\, szexjátékokkal… + invitálásra bármely szoba hancútérré válhat\, hiszen a szállásod egyben a játszótered is 😉 \nKözösségi tér: A wellnessből nyíló fedett belső térben rendezzük be a napközben közösségi térként\, éjszaka party helyszínként szolgáló központi területet. A medencék feletti pihenőt teljes egészében matracozzuk és non- stop nyitott küzdőtérként vagy akár pihenőként szolgál. \nWellness: wellness használat non- stop\, beltéri medence\, jakuzzi\, egész nap szaunafelöntések \nProgramok: minden este buli DJ- vel\, szexuális felfedező\, bemelegítő játékok Orsival\, napközben külön teremben klubbeszélgetések és workshopok \n\nRészvételi díjak (a díjak tartalmazzák a helyszín kizárólagos használatát\, az összes fenti programot/szolgáltatást + a helyszínen lepedők\, törölközők\, óvszerek\, sikosítók stb stb szokásos használatát\, hangtechnika\, fénytechnika\, személyzeti\, szervezési és egyéb felmerülő költségeket). \nHONEY jegyek: Péntek esti PARTY JEGY (19.00- 04.00) VAGY Szombat NAPPALI JEGY (9.00- 19.00) VAGY Szombat esti PARTY JEGY (19.00- 04.00) \nHONEY jegy vásárlása csak az esemény egy zárt időszakára szól (esti bulik vagy szombat nappal)\, a részvételi díj nem tartalmaz szállást és étkezést\, illetve a masszázsprogramot se! \nHONEY+ :2025- ben érvényes SWLT tagsággal rendelkező PÁROKNAK ÉS SZÓLÓ FÉRFIAKNAK: 25 000 Ft/PÁR VAGY SZÓLÓ FÉRFI \nHONEY: Érvényes tagsággal NEM rendelkező PÁROKNAK ÉS SZÓLÓ FÉRFIAKNAK: 35 000 Ft/PÁR VAGY SZÓLÓ FÉRFI (érdemes kiváltanod 2025- re a tagságod!!) \nHONIE: 2025- ben érvényes SWLT tagsággal rendelkező SZÓLÓ NŐKNEK: 10 000 Ft/Fő \n  \nPONTOS MENETREND: \nNon- Stop igénybevehető: Wellness tér\, Küzdőterek\, Közzösségi terek + masszázsok lefoglalt időpontokban (megfelelő jegytípussal) \nMárcius 21. Péntek \n19.00- 20.00 ÉRKEZÉS pénteki party jeggyel \n20.00- tól Indul a Buli- zene és tánc\, szabad mozgás a játékterekben\, wellnessben \n22.00- tól erotikus játékok Orsival a közös játszótéren \n04.00- Pénteki party jeggyel zárás\, távozás \nMárcius 22. Szombat \n9.00- 10.00 Szombat NAPPALI JEGYESEKNEK ÉRKEZÉS \n10.00- 11.00 Meztelen hangfürdő \n10.00- 12.00 Féltékenység és hullámvasút- érzelmek és azok kezelése a swingerben – Klubdélelőtt kerekasztalbeszélgetéssel mentorainkkal \n11.00- tól indulnak a szaunafelöntések! \n14.00- 16.00 Pool Games- erotikus töltetű vicces játékok a medencében \n16.00- kb 18.00 Sokkezes Masszázs \n19.00- SZOMBATI NAPPALI JEGYESEKNEK ZÁRÁS\, TÁVOZÁS\, SZOMBAT ESTI PARTY JEGYESEKNÉK ÉRKEZÉS \n20.00- tól Indul a Buli- zene és tánc\, szabad mozgás a játékterekben\, wellnessben \n22.00- tól erotikus játékok Orsival a közös játszótéren \n04.00- Pénteki party jeggyel zárás\, távozás \n* A programváltozás jogát fenntartjuk! \n  \nREGISZTRÁCIÓ az eseményre:
URL:https://swlt.hu/event/swlt-tavaszi-swinger-hetvege-szombat-esti-party-jegy-swinger-pool-sauna-weekend/
END:VEVENT
END:VCALENDAR