BEGIN:VCALENDAR
VERSION:2.0
PRODID:-//SWLT Egyesület - ECPv6.15.20//NONSGML v1.0//EN
CALSCALE:GREGORIAN
METHOD:PUBLISH
X-ORIGINAL-URL:https://swlt.hu
X-WR-CALDESC:Események SWLT Egyesület
REFRESH-INTERVAL;VALUE=DURATION:PT1H
X-Robots-Tag:noindex
X-PUBLISHED-TTL:PT1H
BEGIN:VTIMEZONE
TZID:UTC
BEGIN:STANDARD
TZOFFSETFROM:+0000
TZOFFSETTO:+0000
TZNAME:UTC
DTSTART:20240101T000000
END:STANDARD
END:VTIMEZONE
BEGIN:VEVENT
DTSTART;TZID=UTC:20250125T160000
DTEND;TZID=UTC:20250125T180000
DTSTAMP:20260422T013123
CREATED:20240925T101012Z
LAST-MODIFIED:20240925T113147Z
UID:1975-1737820800-1737828000@swlt.hu
SUMMARY:Mentor Times Délután- Kötetlen beszélgetés kezdőknek a swinger világról
DESCRIPTION:Az SWLT Központ havi rendszeres eseménye a Mentor Times délután \n\nMentoraink sok éves tapasztalattal rendelkező swingerek\, akik elkötelezettek amellett\, hogy segítsék azokat a párokat és szólókat\, akik még most kezdenének nyitni kapcsolatukon vagy alapvetően ismerkedni ezzel a világgal.\n\nA beszélgetés kötetlen\, bár az alapokat mindig igyekszünk érinteni\, de tulajdonképpen a vendégek irányítják a beszélgetést. Igyekszünk megválaszolni minden kérdést és megosztani Veletek tapasztalatainkat.\n\nA résztvevők száma maximum 25 fő!\n\nIdőpont: 16.00- tól 19.00- ig\n\nHelyszín: SWLT Központ\, Zugló\n\nA program díja: 5 000 Ft/fő\, melyet az eseményregisztrációt követően várunk az alábbi számlaszámra:\n\nSWLT Egyesület- OTP – 11715007-21544086\nKözlemény: Támogatás 1130 MT\n\nREGISZTRÁCIÓ AZ ESEMÉNYRE:\nhttps://form.jotform.com/230092022813039
URL:https://swlt.hu/event/mentor-times-delutan-kotetlen-beszelgetes-kezdoknek-a-swinger-vilagrol-5/
END:VEVENT
BEGIN:VEVENT
DTSTART;TZID=UTC:20250125T190000
DTEND;TZID=UTC:20250126T030000
DTSTAMP:20260422T013123
CREATED:20241008T143733Z
LAST-MODIFIED:20241008T143733Z
UID:1999-1737831600-1737860400@swlt.hu
SUMMARY:Kezdők Éjszakája Swinger Party az SWLT Központban
DESCRIPTION:Zuglói Központunk állandó eleme a havonta megrendezésre kerülő Kezdők Éjszakája Swinger Party.\n\nAz estre NEM csak KEZDŐK jelentkezhetnek\, de a régi swingeresek létszámát korlátozzuk maximum 10 főben!\nA bulit megelőzi mindig egy Mentor Times délután (16.00-18.00)\, amikor is lehetőség van az érdeklődők részére egy kötetlen\, laza beszélgetésre mentorainkkkal. A délutáni program díja 5000 Ft/fő!\n\nAz esti swinger party menete:19.00- 20.00 Érkezés\, Welcome Drink20.00- 22.00 Könnyed ismerkedős játékok22.00- tól zene\, tánc\, kis italozás\, dresscode szerinti öltözet átvétele (hölgyeknek szexi fehérnemű\, magassarkú\, uraknak alsónadrág és ing vagy trikó23.00- tól Érintéses játékok Orsival- ráhangolódás a nyitásra…06.00 Az esemény zárása\n\nLétszám: maximum 25 fő\n\nRészvételi díj 2025- re aktív SWLT tagsággal rendelkezőknek:Pároknak: 25 000 Ft/pár\nSzóló férfiaknak: 25 000 Ft/főSzóló hölgyeknek: 5 000 Ft/fő\nAz eseményre ne felejtsd el beváltani utalványod\, mely a fenti díjból vonódik le!\n\nA tagság feltételeiről tájékozódj ITT!\n\nRészvételi díj azoknak\, akik NEM rendelkeznek SWLT aktív tagsággal:\n\nPároknak: 35 000 Ft/pár\nSzóló férfiaknak: 35 000 Ft/főSzóló hölgyeknek: 15 000 Ft/fő\n\n\nA részvételi díj tartalmazza:\nEgyesület támogatói díját\, teljes helyszín használatát (szextér\, étkező- közösségi tér\, fürdőszoba\, öltöző\, terasz\, udvar)\, programokat\, zárható szekrényt\, karszalagot\, törülközőt\, lepedőt\, óvszereket\, játékszerek szabad használatát\, húsos és zöldséges falatokat\, mártogatós zöldségeket\, snacket\, gyümölcsöt\, alkoholmentes italokat korlátlan mennyiségben\, 2 alkoholos\, szabadon választott welcome drinket (Whisky\, pálinka\, Jager\, Aperol spritz\, borok\, pezsgő\, gin\, vodka\, rum)\, válogatott vendégkör\, diszkréció.\n\nRegisztráció eseményünkre:\nhttps://form.jotform.com/230092022813039
URL:https://swlt.hu/event/kezdok-ejszakaja-swinger-party-az-swlt-kozpontban-5/
END:VEVENT
END:VCALENDAR