BEGIN:VCALENDAR
VERSION:2.0
PRODID:-//SWLT Egyesület - ECPv6.15.20//NONSGML v1.0//EN
CALSCALE:GREGORIAN
METHOD:PUBLISH
X-WR-CALNAME:SWLT Egyesület
X-ORIGINAL-URL:https://swlt.hu
X-WR-CALDESC:Események SWLT Egyesület
REFRESH-INTERVAL;VALUE=DURATION:PT1H
X-Robots-Tag:noindex
X-PUBLISHED-TTL:PT1H
BEGIN:VTIMEZONE
TZID:UTC
BEGIN:STANDARD
TZOFFSETFROM:+0000
TZOFFSETTO:+0000
TZNAME:UTC
DTSTART:20240101T000000
END:STANDARD
END:VTIMEZONE
BEGIN:VEVENT
DTSTART;TZID=UTC:20250118T180000
DTEND;TZID=UTC:20250119T030000
DTSTAMP:20260422T012914
CREATED:20241008T152906Z
LAST-MODIFIED:20241008T153314Z
UID:2004-1737223200-1737255600@swlt.hu
SUMMARY:Hollywood Swinger Party- JAMES BOND- filmes tematikus buli
DESCRIPTION:Imádunkkkkk játszani! És persze beöltözni! De szervezői oldalról ötletelni\, dekorálni\, kreatívkodni! \n2025- től útjára indítjuk kéthavonta Hollywood Swinger Partyjainkat\, melynek középpontjában mindig egy- egy filmes tematika áll. \nA dresscode- on túl kiteszünk magunkért látványvilágban is- mind dekorációban\, mind az ételek\, italok megjelenítésénél\, de még az ízvilágban is! Készülünk Számotokra tematikus programokkal\, játékokkal\, melyeket a kora esti órákban\, érkezéskor várnak Benneteket és amelyek természetesen valamely módon illeszkednek az erotikus esthez is! \nHa voltál már korábban bármely téma bulinkon\, akkor azért\, ha még ne\, akkor azért\, gyertek\, játszunk\, szórakozzunk! \nAz induló témákat az SWLT önkéntes segítői szavazták meg\, így az első téma\, melyre készülünk\, James Bond világa és a Casino Royal! \nKépzeljétek el a szürke hétköznapokat\, amelyek egy varázslatos éjszakába csapnak át\, tele felfedezésekkel és titkokkal. Egy olyan eseményre hívunk meg Benneteket\, amely feléleszti a vágyakat\, és a határok felfedezésére ösztönöz. Itt az idő\, hogy elhagyjátok a megszokottat\, és egy különleges társaságban tapasztaljátok meg az izgalmakat! \nDresscode: elegáns\, csilli- villi paryruha csajoknak\, ing\, nyakkendő uraknak! Az éjszakai szettre is tartogassatok valami szexi kiegészítőt 😉 De ha nem készültök vele\, akkor mi adunk 😉 \nA bulit megelőzően is készülünk Nektek online játékkal\, mellyel Swinger Dollárokat tudtok nyerni és felhasználni a party játékai során! Figyeld az email fiókod és a Discord Rendezvények csatornáját a részletek miatt! \nLátványban a fekete\, vörös és arany színek dominálnak ezúttal\, a Központ átalakul kaszinó barlanggá\, ahol csillogás és kémrejtélyek várnak Benneteket! \nÉrkezéskor elfoglalhatjátok helyetek a kaszinóasztaloknál\, hogy a nyertes zsetonokat feláldozhassátok az erotika oltárán! \nLétszám: maximum 30 fő\n\nRészvételi díj 2025- re aktív SWLT tagsággal rendelkezőknek:Pároknak: 25 000 Ft/pár\nSzóló férfiaknak: 25 000 Ft/főSzóló hölgyeknek: 5 000 Ft/fő\nAz eseményre ne felejtsd el beváltani utalványod\, mely a fenti díjból vonódik le!\n\nA tagság feltételeiről tájékozódj ITT!\n\nRészvételi díj azoknak\, akik NEM rendelkeznek SWLT aktív tagsággal:\n\nPároknak: 35 000 Ft/pár\nSzóló férfiaknak: 35 000 Ft/főSzóló hölgyeknek: 15 000 Ft/fő\n\n\nA részvételi díj tartalmazza:\nA teljes programot +helyszínt (szextér\, étkező- közösségi tér\, fürdőszoba\, öltöző\, terasz\, udvar)\, programokat\, zárható szekrényt\, karszalagot\, törülközőt\, lepedőt\, óvszereket\, játékszerek szabad használatát\, húsos és zöldséges falatokat\, mártogatós zöldségeket\, snacket\, gyümölcsöt\, alkoholmentes italokat korlátlan mennyiségben\, 2 alkoholos\, szabadon választott welcome drinket (Whisky\, pálinka\, Jager\, Aperol spritz\, borok\, pezsgő\, gin\, vodka\, rum)\, válogatott vendégkör\, diszkréció.\n\nA helyszínen ottalvást\, korlátozott létszámban tudunk biztosítani: 5 000 Ft/fő díjon.\n\nRegisztráció eseményünkre:\nhttps://form.jotform.com/230092022813039
URL:https://swlt.hu/event/hollywood-swinger-party-james-bond-filmes-tematikus-buli/
END:VEVENT
END:VCALENDAR