BEGIN:VCALENDAR
VERSION:2.0
PRODID:-//SWLT Egyesület - ECPv6.15.20//NONSGML v1.0//EN
CALSCALE:GREGORIAN
METHOD:PUBLISH
X-WR-CALNAME:SWLT Egyesület
X-ORIGINAL-URL:https://swlt.hu
X-WR-CALDESC:Események SWLT Egyesület
REFRESH-INTERVAL;VALUE=DURATION:PT1H
X-Robots-Tag:noindex
X-PUBLISHED-TTL:PT1H
BEGIN:VTIMEZONE
TZID:UTC
BEGIN:STANDARD
TZOFFSETFROM:+0000
TZOFFSETTO:+0000
TZNAME:UTC
DTSTART:20230101T000000
END:STANDARD
END:VTIMEZONE
BEGIN:VEVENT
DTSTART;TZID=UTC:20241224T220000
DTEND;TZID=UTC:20241224T220000
DTSTAMP:20260422T025819
CREATED:20241120T113714Z
LAST-MODIFIED:20241120T113805Z
UID:2082-1735077600-1735077600@swlt.hu
SUMMARY:Karácsonyi Tombolasorsolás- élő online közvetítés
DESCRIPTION:Már hagyomány nálunk\, hogy minden év Szentestéjén élő közvetítésben sorsoljuk ki azt a több száz ajándékot\, melyeket Egyesületünk és tagjai ajánlanak fel Tombola nyereménynek.\n2023- ban több\, mint 2 millió Ft értékben éltetek felajánlásokkal! \nA tombolaszelvényből befolyt összeg felét idén a Thábita Háznak ajánljuk fel\, akik végstádiumban lévő gyerekekeről gondoskodnak. \nHogyan élhetsz felajánlással?\n\nHa céged\, vállalkozásod vagy személyes társaságod\, általad készített dísztárgy\, csomag vagy éppen egy összeggel megjelölt ajándékutalvány lenne az\, amit szívesen felajánlasz idei sorsolásra\, akkor kérlek\, írj nekünk az info@swlt.hu- ra és jelezd\, hogy pontosan mit és milyen értékben dobnál be Te is a tombolába 🙂\nTámogatásodat reklám formájában tudjuk honorálni\, az Egyesület felüeltein\, hírlevélben\, videóban tudjuk promótálni céged\, termékeid.\nAmennyiben ez a játék arra sarkallna\, hogy egész évre szóló kedvezményt biztosíts az SWLT Egyesület tagjainak\, akkor írd meg azt is\, milyen lehetőségeid vannak az egész éves együttműködésre 😉\n\n  \nHogyan tudsz vásárolni tombolát?\n\nTombolaszelvény Egyesületi tagjaink vásárolhatnak. Ha nem vagy még tagunk\, itt az ideje regisztrálni 😉 2024 utolsó negyedéves\, és/vagy 2025- ös éves aktív tagságot veszünk figyelembe.\nEgy tombolaszelvény ára: 1 000 Ft\, melyből 500 Ft- ot a Thábita Ház támogatására továbbítunk!\nDöntsd el\, hány darab szelvényt szeretnél és a megfelelő összeget utald el az Egyesület ismert számlájára:\nBankszámlaszám:SWLT Egyesület- OTP – 11715007-21544086\nNemzetközi utalás esetén: \nSWLT Egyesület- OTP – IBAN HU87117150072154408600000000       SWIFT kód: OTPVHUHB \nVAGY \nSWLT Egyesület- REVOLUT Revtag: @swlt Revolut \nKözleménybe írva: Tagsági kódod + Tombola2024\nA beérkezett összegnek megfelelő számú tombolaszelvényt legkésőbb 2024 december 23- áig küldjük meg Neked Emailben!\nHa menet közben még szeretnél váltani tombolát\, erre is van lehetőséged\, csak indíts újabb utalást.\n\n  \nA Sorsolás Szenteste\, december 24- én 22.00- tól követheted élőben a YouTube csatonránkon!!! A linket emailben küldjük majd a tombolaszelvénnyel 😉\nA sorsolások mindig jó hangulatban szoktak telni\, igazán kellemes karácsonyi szórakozás évről- évre 😉 \nHa úgy érzed\, valami kis műsorral\, kiegészítéssel fel tudnád dobni a közvetítést\, írj nekünk\, egyeztessünk 😉 \nSok szerencsét! Köszönjük támogatásod!
URL:https://swlt.hu/event/karacsonyi-tombolasorsolas-elo-online-kozvetites/
END:VEVENT
END:VCALENDAR