BEGIN:VCALENDAR
VERSION:2.0
PRODID:-//SWLT Egyesület - ECPv6.15.20//NONSGML v1.0//EN
CALSCALE:GREGORIAN
METHOD:PUBLISH
X-WR-CALNAME:SWLT Egyesület
X-ORIGINAL-URL:https://swlt.hu
X-WR-CALDESC:Események SWLT Egyesület
REFRESH-INTERVAL;VALUE=DURATION:PT1H
X-Robots-Tag:noindex
X-PUBLISHED-TTL:PT1H
BEGIN:VTIMEZONE
TZID:UTC
BEGIN:STANDARD
TZOFFSETFROM:+0000
TZOFFSETTO:+0000
TZNAME:UTC
DTSTART:20230101T000000
END:STANDARD
END:VTIMEZONE
BEGIN:VEVENT
DTSTART;TZID=UTC:20241123T190000
DTEND;TZID=UTC:20241124T040000
DTSTAMP:20260422T041630
CREATED:20240925T095447Z
LAST-MODIFIED:20240925T095941Z
UID:1971-1732388400-1732420800@swlt.hu
SUMMARY:Totál BI Party- privát swinger party biszexuális pároknak és szólóknak
DESCRIPTION:Immár több nagy sikerű\, Totál Bi partynk sikerén felbúzdulva\, ismét megrendeznénk egy olyan swinger bulit\, amelyre szeretettel várjuk a női és férfi biszexualitásra nyitott párokat\, szóló hölgyeket és urakat 🙂 \nA résztvevők száma maximum 25 fő! \nHelyszín: SWLT Központ\, Budapest- Zugló \nRészvételi díj:\nFanatikus tagjainknak: 15 000 Ft/pár\nCsapatjátékos tagjainknak: 18 000 Ft/pár\nMegfigyelő tagjainknak: 20 000 Ft/pár\nSzóló férfiaknak a fenti díjak per fő értendők!\nSzóló hölgyeknek a fenti díjból 10 000 Ft kedvezményt biztosítunk! \nA regisztráció véglegesítése az 5000 Ft előleg befizetésével zárul\, a befizetést az alábbi számlaszámra várjuk: \nSWLT Egyesület- OTP – 11715007-21544086\nKözlemény: Támogatás 0921 TBP \nA részvételi díj tartalmazza:\nTeljes helyszín használatát (szextér\, étkező- közösségi tér\, fürdőszoba\, öltöző\, terasz\, udvar)\, programokat\, zárható szekrényt\, karszalagot\, törülközőt\, lepedőt\, óvszereket\, játékszerek szabad használatát\, snacket\, gyümölcsöt\, alkoholmentes italokat korlátlan mennyiségben\, 2 alkoholos\, szabadon választott welcome drinket (Whisky\, pálinka\, Jager\, Aperol spritz\, borok\, pezsgő\, gin\, vodka\, rum)\, válogatott vendégkör\, diszkréció és nem utolsó sorban támogatod részvételeddel az Egyesület működését. \nA helyszínen ottalvást tudunk biztosítani- melynek díja: 5 000 Ft/fő \nRegisztráció eseményünkre: \n \n 
URL:https://swlt.hu/event/total-bi-party-privat-swinger-party-biszexualis-paroknak-es-szoloknak-3/
END:VEVENT
END:VCALENDAR