BEGIN:VCALENDAR
VERSION:2.0
PRODID:-//SWLT Egyesület - ECPv6.15.20//NONSGML v1.0//EN
CALSCALE:GREGORIAN
METHOD:PUBLISH
X-ORIGINAL-URL:https://swlt.hu
X-WR-CALDESC:Események SWLT Egyesület
REFRESH-INTERVAL;VALUE=DURATION:PT1H
X-Robots-Tag:noindex
X-PUBLISHED-TTL:PT1H
BEGIN:VTIMEZONE
TZID:UTC
BEGIN:STANDARD
TZOFFSETFROM:+0000
TZOFFSETTO:+0000
TZNAME:UTC
DTSTART:20230101T000000
END:STANDARD
END:VTIMEZONE
BEGIN:VEVENT
DTSTART;TZID=UTC:20241115T190000
DTEND;TZID=UTC:20241115T210000
DTSTAMP:20260422T041759
CREATED:20240911T082611Z
LAST-MODIFIED:20240911T082620Z
UID:1948-1731697200-1731704400@swlt.hu
SUMMARY:Light Nights Club- Élő Kibeszélő - Téma: Párok a swingerben- kapcsolatmentés vagy fűszer?
DESCRIPTION:Szeptembertől rendszeresen havonta jelennek meg új videobeszélgetéseink\, melyekben mentorainkkal vagy éppen szakemberekkel\, swingerekkel beszélgetünk egy- egy téma körül. \nAz online beszélgetéseket mindig követi egy ÉLŐ KIBESZÉLŐ est\, amire várunk Benneteket is a Központba! \nAz első alkalom szeptember 13. Péntek 🙂 19.00- tól! \nRészvételi díj: 5 000 Ft/fő \nA részvételi díj tartalmazza: helyszín biztosítását\, korlátlan alkoholmentes italfogyasztás\, rágcsálnivalók\, gyümölcs. + jelenléteddel is támogatod Egyesületünk működését 🙂 \nTarts velünk Te is! \nAz esemény nem csak swingereknek szól\, szeretettel várunk minden külsős érdeklődőt is! – Részvételi díj nem SWLT tagoknak:  8 000 Ft/fő \nRegisztráció az eseményre:
URL:https://swlt.hu/event/light-nights-club-elo-kibeszelo-tema-parok-a-swingerben-kapcsolatmentes-vagy-fuszer/
END:VEVENT
END:VCALENDAR