BEGIN:VCALENDAR
VERSION:2.0
PRODID:-//SWLT Egyesület - ECPv6.15.20//NONSGML v1.0//EN
CALSCALE:GREGORIAN
METHOD:PUBLISH
X-ORIGINAL-URL:https://swlt.hu
X-WR-CALDESC:Események SWLT Egyesület
REFRESH-INTERVAL;VALUE=DURATION:PT1H
X-Robots-Tag:noindex
X-PUBLISHED-TTL:PT1H
BEGIN:VTIMEZONE
TZID:UTC
BEGIN:STANDARD
TZOFFSETFROM:+0000
TZOFFSETTO:+0000
TZNAME:UTC
DTSTART:20230101T000000
END:STANDARD
END:VTIMEZONE
BEGIN:VEVENT
DTSTART;TZID=UTC:20241112T173000
DTEND;TZID=UTC:20241112T233000
DTSTAMP:20260422T041800
CREATED:20241008T140307Z
LAST-MODIFIED:20241008T140307Z
UID:1997-1731432600-1731454200@swlt.hu
SUMMARY:Menjünk együtt színházba! - Pinceszínház- Kurtizánképző
DESCRIPTION:Ismét színházba invitállak Benneteket\n\n\n\n\n\n\n\nKurtizánképző- Ágens Színházi Társulat- Pinceszínház\npárkapcsolati stand up comedy\, interaktív színházi terápia\n\nA provokatív\, ironikus\, rendkívül népszerű stand up comedy igazi felszabadító effektussal él. Akik már látták\, állítják\, hogy a két nem közötti megértés és elfogadás útját indítja el. Valami megváltozik előadás után\, ha más nem is\, a kommunikáció mikéntje bizonyosan.\n\nMegnyílik egy olyan érzékelési tartomány\, amely addig zárva maradt.\n\nA világon egyedülálló\, több mint 960 előadást megért\, Kurtizánképzés – szerelmi okosítás hölgyeknek és érdeklődő uraknak – kultúrtörténeti szakirányú végzettséget ad\, Kurtizándiplomát. Az Alaptanterv része az érzékiség kultúrtörténeti feldolgozása\, a férfi gondolkodás mibenlétének a vizsgálata és irányai\, a jó kurtizán feladatai\, megtudhatjuk hány éves a férfi – mindezt egy lenyűgöző személyiség tolmácsolásában. Ágens színházi eszköze a humor és az önreflexió.\n\n\n\n\n\nAz estet ismét egy közeli bárban indítjuk\, 17.30- tól várunk Benneteket egy kellemes beszélgetésre.\nAkik nem rohannak az előadás után\, azokkal visszatérve a bárba\, ki is veséznénk a darabot 😉\n\n\n\n\n\nÖsszesen 12 db jegyünk van – az első két sorba!\n\nRészvételi díj (jegyár + szervezés + első kör ital a bárban):\n8500 Ft/fő\n\nEseményeinket regisztrált\, egyesületi tagjainknak szervezzük.\n\nEgyesületi regisztráció:\nhttps://form.jotform.com/230552186698062\n\nRegisztráció a színházi látogatásra:\nhttps://form.jotform.com/230092022813039\n\nKérünk\, a program teljes díját regisztrációt követő 2 napon belül utald el az alábbi számlaszámok valamelyikére:\n\nSWLT Egyesület- OTP – 11715007-21544086 \nNemzetközi utalás esetén: \nSWLT Egyesület- OTP – IBAN HU87117150072154408600000000 \nSWIFT kód: OTPVHUHB \nVAGY \nSWLT Egyesület- REVOLUT Revtag: @swlt \n\n\nKözlemény: Támogatás + Tagsági kód + 1112SZ\n\nAz eseményt megelőző 3 napon belüli lemondást már nem áll módunkban elfogadni\, ebben az esetben már a teljes díj fizetendő.
URL:https://swlt.hu/event/menjunk-egyutt-szinhazba-pinceszinhaz-kurtizankepzo/
END:VEVENT
END:VCALENDAR