BEGIN:VCALENDAR
VERSION:2.0
PRODID:-//SWLT Egyesület - ECPv6.15.20//NONSGML v1.0//EN
CALSCALE:GREGORIAN
METHOD:PUBLISH
X-ORIGINAL-URL:https://swlt.hu
X-WR-CALDESC:Események SWLT Egyesület
REFRESH-INTERVAL;VALUE=DURATION:PT1H
X-Robots-Tag:noindex
X-PUBLISHED-TTL:PT1H
BEGIN:VTIMEZONE
TZID:UTC
BEGIN:STANDARD
TZOFFSETFROM:+0000
TZOFFSETTO:+0000
TZNAME:UTC
DTSTART:20230101T000000
END:STANDARD
END:VTIMEZONE
BEGIN:VEVENT
DTSTART;TZID=UTC:20241103T140000
DTEND;TZID=UTC:20241103T180000
DTSTAMP:20260422T042641
CREATED:20240911T082451Z
LAST-MODIFIED:20241029T100956Z
UID:1946-1730642400-1730656800@swlt.hu
SUMMARY:SexEduBest - Nyelvleckék és Spricc Tréning- avagy a női orgazmus nyomában
DESCRIPTION:Újabb izgalmas dupla programmal várunk Benneteket egy kellemes vasárnap délutánra 🙂 \n14.00- tól Nyelvleckék- avagy a csiklóorgazmus nyomában \nA csiklóorgazmusról rengeteget beszélgettünk\, de ritkán említjük azt a nyelvmunkát\, amit partnerünk végez a cél érdekében. Kinek\, hogy és miként jó? Vagy mindenkinek másképp? Tapasztalatokról\, élményekről beszélgetünk. És a tér adott arra is\, hogy akár gyakoroljunk 😉 \nP.S.: Ugyanitt várunk lelkes nyelvelő férfiak és nők jelentkezését 🙂 \n18.00- tól Spricc Tréning \nNői spriccelés tréningünket már 5 éve rendezzük meg rendszeresen\, a fesztivál egyik legsikeresebb programja a mai napig. \nA G- pont stimulálását és a spriccelés technikáját\, annak lelki és fizikai fázisait elemezzük. Az előadást követően modellen és mutatjuk meg és gyakorolhatjátok rajta vagy egymáson is az elhangzottakat. \nMax létszám: 25 fő\, kérlek jelentkezz időben! \n\nHelyszín: SWLT Központ\, Budapest- Zugló \nRészvételi díj:\nFanatikus tagjainknak: 15 000 Ft/pár\nCsapatjátékos tagjainknak: 18 000 Ft/pár\nMegfigyelő tagjainknak: 20 000 Ft/pár\nSzóló férfiaknak a fenti díjak per fő értendők!\nSzóló hölgyeknek a fenti díjból 10 000 Ft kedvezményt biztosítunk! \n\n\nA részvételi díj tartalmazza:\nProgram + teljes helyszín használatát (szextér\, étkező- közösségi tér\, fürdőszoba\, öltöző\, terasz\, udvar)\, programokat\, zárható szekrényt\, karszalagot\, törülközőt\, lepedőt\, óvszereket\, játékszerek szabad használatát\, snacket\, gyümölcsöt\, alkoholmentes italokat korlátlan mennyiségben\, 2 alkoholos\, szabadon választott welcome drinket (Whisky\, pálinka\, Jager\, Aperol spritz\, borok\, pezsgő\, gin\, vodka\, rum)\, válogatott vendégkör\, diszkréció.\n\nRegisztráció eseményünkre:\nhttps://form.jotform.com/230092022813039
URL:https://swlt.hu/event/sexedubest-nyelvleckek-es-spricc-trening-avagy-a-noi-orgazmus-nyomaban/
END:VEVENT
END:VCALENDAR