BEGIN:VCALENDAR
VERSION:2.0
PRODID:-//SWLT Egyesület - ECPv6.15.20//NONSGML v1.0//EN
CALSCALE:GREGORIAN
METHOD:PUBLISH
X-ORIGINAL-URL:https://swlt.hu
X-WR-CALDESC:Események SWLT Egyesület
REFRESH-INTERVAL;VALUE=DURATION:PT1H
X-Robots-Tag:noindex
X-PUBLISHED-TTL:PT1H
BEGIN:VTIMEZONE
TZID:UTC
BEGIN:STANDARD
TZOFFSETFROM:+0000
TZOFFSETTO:+0000
TZNAME:UTC
DTSTART:20230101T000000
END:STANDARD
END:VTIMEZONE
BEGIN:VEVENT
DTSTART;TZID=UTC:20240928T190000
DTEND;TZID=UTC:20240929T060000
DTSTAMP:20260422T065409
CREATED:20240729T151633Z
LAST-MODIFIED:20240729T151633Z
UID:1830-1727550000-1727589600@swlt.hu
SUMMARY:Kezdők Éjszakája Swinger Party az SWLT Központban
DESCRIPTION:Zuglói Központunk állandó eleme a havonta megrendezésre kerülő Kezdők Éjszakája Swinger Party.\n\nAz estre NEM csak KEZDŐK jelentkezhetnek\, de a régi swingeresek létszámát korlátozzuk maximum 10 főben!\nA bulit megelőzi mindig egy Mentor Times délután (16.00-18.00)\, amikor is lehetőség van az érdeklődők részére egy kötetlen\, laza beszélgetésre mentorainkkkal. A délutáni program díja 5000 Ft/fő!\n\nAz esti swinger party menete:19.00- 20.00 Érkezés\, Welcome Drink20.00- 22.00 Könnyed ismerkedős játékok22.00- tól zene\, tánc\, kis italozás\, dresscode szerinti öltözet átvétele (hölgyeknek szexi fehérnemű\, magassarkú\, uraknak alsónadrág és ing vagy trikó23.00- tól Érintéses játékok Orsival- ráhangolódás a nyitásra…06.00 Az esemény zárása\n\nLétszám: maximum 25 fő\n\nRészvételi díj:Fanatikus tagjainknak: 15 000 Ft/párCsapatjátékos tagjainknak: 18 000 Ft/párMegfigyelő tagjainknak: 20 000 Ft/párSzóló férfiaknak a fenti díjak per fő értendők!Szóló hölgyeknek a fenti díjból 10 000 Ft kedvezményt biztosítunk!\n\nA részvételi díj tartalmazza:\nEgyesület támogatói díját\, teljes helyszín használatát (szextér\, étkező- közösségi tér\, fürdőszoba\, öltöző\, terasz\, udvar)\, programokat\, zárható szekrényt\, karszalagot\, törülközőt\, lepedőt\, óvszereket\, játékszerek szabad használatát\, snacket\, gyümölcsöt\, alkoholmentes italokat korlátlan mennyiségben\, 2 alkoholos\, szabadon választott welcome drinket (Whisky\, pálinka\, Jager\, Aperol spritz\, borok\, pezsgő\, gin\, vodka\, rum)\, válogatott vendégkör\, diszkréció.\n\nRegisztráció eseményünkre:\nhttps://form.jotform.com/230092022813039
URL:https://swlt.hu/event/kezdok-ejszakaja-swinger-party-az-swlt-kozpontban-2/
END:VEVENT
BEGIN:VEVENT
DTSTART;TZID=UTC:20240929T140000
DTEND;TZID=UTC:20240929T180000
DTSTAMP:20260422T065409
CREATED:20240903T140351Z
LAST-MODIFIED:20240911T071044Z
UID:1922-1727618400-1727632800@swlt.hu
SUMMARY:SexEduBest- Szeress jól!- párkapcsolati workshop Judittal és  Erotic Blueprint - erotikus személyiségtípusok - mérés- értékelés Anettel - CSAK PÁROKNAK!
DESCRIPTION:Újabb izgalmas dupla programmal várunk Benneteket egy kellemes vasárnap délutánra 🙂 \n14.00- tól Szeress jól!- párkapcsolati workshop Judittal \n\n”A SZERELEMBEN NEM KELL MINDENT MEGJAVÍTANOD\, CSAK JELEN KELL LENNED.”\n\n\nEz az „Érzelem Fókuszú Terápia” módszerének egyik alapja. Arról hogy működik\, kinek szól és milyen tudományos alapokon nyugszik:\nhttps://drpoorjudit.hu/eft/\n\n\nA párkapcsolatotok\, mint kötődési kapcsolat megértése\nAz érzelmeink/szükségleteink megértése\nA párkapcsolati negatív „táncok”\, dinamikák kontrollálása\nA pozitív\, szeretetteljes\, kötődő kapcsolat kialakítása\n\n\n\n\n16.00- tól pedig Erotic Blueprint – erotikus személyiségtípusok – mérés- értékelés Anettel \n5 fő szexuális „típust”\, vágykeltő „mozgatórugót”\, mintázattípust különböztethetünk meg\, amelyek különböző mértékben szinte mindenkiben jelen vannak. A legtöbb embernél az ötből van egy-két dominánsabb szín\, és előfordul az is\, hogy valakiből szinte teljesen hiányzik egyik-másik. \nHa az ember ezeknek a különböző\, a sajátjától sokszor igencsak eltérő „szexnyelv”-eknek (blueprintek) a működését megismeri\, átgondolja\, akkor könnyebben megértheti\, hogyan módon „működik” másképp a szeretett partnere\, hol beszélnek el esetleg egymás mellett\, vagy miért szürkült be\, vagy akár múlt el teljesen a vágy közöttük. A Jaiya Ma módszerére épülő terápia a szexuális önismereten túl arra is sok lehetőséget kínál\, hogy akár a párok is megismerhessék\, hogyan tudnak jobban egymásra hangolódni és megadni egymásnak azt\, amire valóban szükségük van a szexben. \nElőadóink: \n\nPoór Judit- párkapcsolati és szexuális tanácsadó\nBordás Anett – párkapcsolati tanácsadó\n\n  \nEzúttal a részvételt CSAK PÁROKNAK ajánljuk! \nMax létszám: 24 fő\, kérlek jelentkezz időben! \n\nRészvételi díj:\nFanatikus tagjainknak: 15 000 Ft/pár\nCsapatjátékos tagjainknak: 18 000 Ft/pár\nMegfigyelő tagjainknak: 20 000 Ft/pár\n\nA részvételi díj tartalmazza:\nProgram + teljes helyszín használatát (szextér\, étkező- közösségi tér\, fürdőszoba\, öltöző\, terasz\, udvar)\, programokat\, zárható szekrényt\, karszalagot\, törülközőt\, lepedőt\, óvszereket\, játékszerek szabad használatát\, snacket\, gyümölcsöt\, alkoholmentes italokat korlátlan mennyiségben\, 2 alkoholos\, szabadon választott welcome drinket (Whisky\, pálinka\, Jager\, Aperol spritz\, borok\, pezsgő\, gin\, vodka\, rum)\, válogatott vendégkör\, diszkréció.\n\nRegisztráció eseményünkre:\nhttps://form.jotform.com/230092022813039
URL:https://swlt.hu/event/sexedubest-szeress-jol-parkapcsolati-workshop-judittal-es-erotic-blueprint-erotikus-szemelyisegtipusok-meres-ertekeles-anettel-csak-paroknak/
END:VEVENT
END:VCALENDAR