BEGIN:VCALENDAR
VERSION:2.0
PRODID:-//SWLT Egyesület - ECPv6.15.20//NONSGML v1.0//EN
CALSCALE:GREGORIAN
METHOD:PUBLISH
X-ORIGINAL-URL:https://swlt.hu
X-WR-CALDESC:Események SWLT Egyesület
REFRESH-INTERVAL;VALUE=DURATION:PT1H
X-Robots-Tag:noindex
X-PUBLISHED-TTL:PT1H
BEGIN:VTIMEZONE
TZID:UTC
BEGIN:STANDARD
TZOFFSETFROM:+0000
TZOFFSETTO:+0000
TZNAME:UTC
DTSTART:20230101T000000
END:STANDARD
END:VTIMEZONE
BEGIN:VEVENT
DTSTART;TZID=UTC:20240913T190000
DTEND;TZID=UTC:20240913T210000
DTSTAMP:20260422T065449
CREATED:20240823T115917Z
LAST-MODIFIED:20240823T120051Z
UID:1844-1726254000-1726261200@swlt.hu
SUMMARY:Light Nights Club - élő kibeszélő - Téma: Hibák a swingerben - avagy mit ne tegyünk?
DESCRIPTION:Szeptembertől rendszeresen havonta jelennek meg új videobeszélgetéseink\, melyekben mentorainkkal vagy éppen szakemberekkel\, swingerekkel beszélgetünk egy- egy téma körül. \nAz online beszélgetéseket mindig követi egy ÉLŐ KIBESZÉLŐ est\, amire várunk Benneteket is a Központba! \nAz első alkalom szeptember 13. Péntek 🙂 19.00- tól! \nRészvételi díj: 5 000 Ft/fő \nA részvételi díj tartalmazza: helyszín biztosítását\, korlátlan alkoholmentes italfogyasztás\, rágcsálnivalók\, gyümölcs. + jelenléteddel is támogatod Egyesületünk működését 🙂 \nTarts velünk Te is! \nAz esemény nem csak swignereknek szól\, szeretettel várunk minden külsős érdeklődőt is! – Részvételi díj nem SWLT tagoknak:  8 000 Ft/fő \nRegisztráció az eseményre: \n \n 
URL:https://swlt.hu/event/light-nights-club-elo-kibeszelo-tema-hibak-a-swingerben-avagy-mit-ne-tegyunk/
END:VEVENT
END:VCALENDAR