BEGIN:VCALENDAR
VERSION:2.0
PRODID:-//SWLT Egyesület - ECPv6.15.20//NONSGML v1.0//EN
CALSCALE:GREGORIAN
METHOD:PUBLISH
X-WR-CALNAME:SWLT Egyesület
X-ORIGINAL-URL:https://swlt.hu
X-WR-CALDESC:Események SWLT Egyesület
REFRESH-INTERVAL;VALUE=DURATION:PT1H
X-Robots-Tag:noindex
X-PUBLISHED-TTL:PT1H
BEGIN:VTIMEZONE
TZID:UTC
BEGIN:STANDARD
TZOFFSETFROM:+0000
TZOFFSETTO:+0000
TZNAME:UTC
DTSTART:20230101T000000
END:STANDARD
END:VTIMEZONE
BEGIN:VEVENT
DTSTART;TZID=UTC:20240903T170000
DTEND;TZID=UTC:20240903T190000
DTSTAMP:20260422T065310
CREATED:20231220T113334Z
LAST-MODIFIED:20240729T151055Z
UID:969-1725382800-1725390000@swlt.hu
SUMMARY:Menjünk együtt STD szűrésre!- Moszkva Tér Medical Center
DESCRIPTION:Ismét egy délután\, amikor nyitott részünkre a Moszkva Tér Medical Center STD szűrésre 🙂\nIgényes\, barátságos környezet és kedvezmény az SWLT tagjainak 🙂\nIdőpont miatt hívjátok közvetlenül az egészségközpontot és hivatkozzatok az SWLT- re 🙂\nNe felejtsétek el!\n– megadni a bejelentkezéskor tagsági kódotok!\n– a negatív lelettel 3 hónapig 50% kedvezménnyel jöhettek rendezvényeinkre 🙂 \nAz eseményeinket SWLT tagoknak szervezzük! Ha nem vagy még tag\, regisztrálj! (ha igen\, újítsd meg tagságodat)\n \nBejelentkezés a szűrésre közvetlenül a Moszkva Tér Medical Centernél: 06 70 616 9690
URL:https://swlt.hu/event/menjunk-egyutt-std-szuresre-moszkva-ter-medical-center-6/
END:VEVENT
END:VCALENDAR