BEGIN:VCALENDAR
VERSION:2.0
PRODID:-//SWLT Egyesület - ECPv6.15.20//NONSGML v1.0//EN
CALSCALE:GREGORIAN
METHOD:PUBLISH
X-ORIGINAL-URL:https://swlt.hu
X-WR-CALDESC:Események SWLT Egyesület
REFRESH-INTERVAL;VALUE=DURATION:PT1H
X-Robots-Tag:noindex
X-PUBLISHED-TTL:PT1H
BEGIN:VTIMEZONE
TZID:UTC
BEGIN:STANDARD
TZOFFSETFROM:+0000
TZOFFSETTO:+0000
TZNAME:UTC
DTSTART:20230101T000000
END:STANDARD
END:VTIMEZONE
BEGIN:VEVENT
DTSTART;TZID=UTC:20240901T140000
DTEND;TZID=UTC:20240901T200000
DTSTAMP:20260422T065450
CREATED:20240528T194455Z
LAST-MODIFIED:20240729T150245Z
UID:1788-1725199200-1725220800@swlt.hu
SUMMARY:SexEduBest- Elő-Játék és Vak Játékok - érintések és ízlelések - a SexEduFest kedvenc programjaiból
DESCRIPTION:A januári SexEduFest- ről nehéz kiválasztani\, mely programokat szerettétek a legtöbben\, de az biztos\, hogy a Judit által vezetett Elő- Játék és Ors által vezetett Vak Játékok minden kétséget kizáróan bejöttek Nektek 😉 \nMíg előbbi főleg a kezdőknek nyújt egy biztonságos teret\, amelyben kipróbálhatják érzéseiket\, vágyaikat\, érinthetnek másokat és érinthetik mások- mindezt még ruhában\, szabályok és határok által övezve\, addig a folytatásban már megszabadulunk a ruháktól és ki a saját párjával\, ki máséval\, bekötött szemmel\, vakon izgatja a testek különböző érzéki pontjait\, hogy aztán mivé fajul\, az mindig az aktuális társaságon múlik… \nMi teret adunk annak\, hogy megéld minden vágyadat\, vagy épp maradj a saját komfortzónádon belül\, ha épp azt szeretnéd.\nA tér és a társaság\, az irányító\, figyelő játékmesterek biztonságos játékot kínálnak. \nJátékmesterek: Simon Judit és Molnár Ors\nHelyszín: Bp.- Zugló\, SWLT Központ \nLétszám: maximum 20 fő \nRészvételi díj:\nFanatikus tagjainknak: 15 000 Ft/pár\nCsapatjátékos tagjainknak: 18 000 Ft/pár\nMegfigyelő tagjainknak: 20 000 Ft/pár\nSzóló férfiaknak a fenti díjak per fő értendők!\nSzóló hölgyeknek a fenti díjból 10 000 Ft kedvezményt biztosítunk! \nA részvételi díj tartalmazza:\nEgyesület támogatói díját\, teljes helyszín használatát (szextér\, étkező- közösségi tér\, fürdőszoba\, öltöző\, terasz\, udvar)\, programokat\, zárható szekrényt\, karszalagot\, törülközőt\, lepedőt\, óvszereket\, játékszerek szabad használatát\, snacket\, gyümölcsöt\, alkoholmentes italokat korlátlan mennyiségben\, 2 alkoholos\, szabadon választott welcome drinket (Whisky\, pálinka\, Jager\, Aperol spritz\, borok\, pezsgő\, gin\, vodka\, rum)\, válogatott vendégkör\, diszkréció. \nRegisztráció eseményünkre:
URL:https://swlt.hu/event/sexedubest-elo-jatek-es-vak-jatekok-erintesek-es-izlelesek-a-sexedufest-kedvenc-programjaibol/
END:VEVENT
END:VCALENDAR