BEGIN:VCALENDAR
VERSION:2.0
PRODID:-//SWLT Egyesület - ECPv6.15.20//NONSGML v1.0//EN
CALSCALE:GREGORIAN
METHOD:PUBLISH
X-ORIGINAL-URL:https://swlt.hu
X-WR-CALDESC:Események SWLT Egyesület
REFRESH-INTERVAL;VALUE=DURATION:PT1H
X-Robots-Tag:noindex
X-PUBLISHED-TTL:PT1H
BEGIN:VTIMEZONE
TZID:UTC
BEGIN:STANDARD
TZOFFSETFROM:+0000
TZOFFSETTO:+0000
TZNAME:UTC
DTSTART:20230101T000000
END:STANDARD
END:VTIMEZONE
BEGIN:VEVENT
DTSTART;TZID=UTC:20240824T173000
DTEND;TZID=UTC:20240825T030000
DTSTAMP:20260422T081832
CREATED:20240424T112022Z
LAST-MODIFIED:20240729T150652Z
UID:1655-1724520600-1724554800@swlt.hu
SUMMARY:SexEduBest- a SexEduFest kedvenc programjaiból... Meztelen hangfürdő és Sokkezes Masszázsok...
DESCRIPTION:Tartsatok velünk erre a varázslatos napra! \nA programo egy Meztelen Hangfürdővel kezdjük\, majd Sokkezes masszázzsal zárjuk 🙂 \nA hangfürdő során a résztvevők a földön/raklapbútorkon fekszenek matracokon\, Anett pedig hangtálakkal\, gongokkal\, és más különleges hangszerekkel egy rezgésekben és hangokban gazdag közeget teremt\, mely nagyon hamar mély meditatív állapotba visz. Ezt az élményt a csoda hangú Gabriella Németh szakrális mantra éneklése teszi most a szokásosnál is mélyebbé\, különlegesebbé és egyedibbè. A hangmeditáció segít megtalálni a békét és a harmóniàt illetve oldja a stresszt és az energetikai blokkokat. \nA hangfürdő után frissítőkkel várunk Benneteket\, átrendezzük a teret és kezdetét veszi Sokkezes masszázs programunk. \nA program jellegéből adódóan meztelen és nagyjából egyenlő számban vesznek rajta részt férfiak és nők.A kellemes hangfürdő megteremtette a nyugalmas\, intim és biztonságos teret ahhoz\, hogy utána a nők és a ferfiak is egyesével felfeküdjenek egy masszázságyra és élvezzék a több ellenkező nemű résztvevő érintését.Varázslatos érzés\, ha 4-6-8 kéz érint egyszerre. A befogádást pedig megélheted úgy\, hogy egyszerűen csak élvezed amit kapsz\, de dönthetsz úgy is\, hogy megfogalmazod a kéréseidet\, és instrukciókat adsz a resztvevőknek\, hogy hogyan érintsenek. Természetesen arra is lesz lehetőséged\, hogy nemet mondj\, ha valakitől nem szeretnél érintést kapni vagy adni.Egy kellemes sok kezes masszázs bőrébe bújtatott komplex önismereti program ez\, amely során közelebb kerülhetsz a saját érzésvilágodhoz. \nA masszázs akár át is fordulhat gabalyodásba- a tér adott és nyitott\, a résztvevők alakítják. \nMax létszám: 14 fő\, kérlek jelentkezz időben! \nElőadóink: \n\nBordás Anett\nNémeth Gabriella\nNyiri Enikő\n\n\nRészvételi díj:\nFanatikus tagjainknak: 15 000 Ft/pár\nCsapatjátékos tagjainknak: 18 000 Ft/pár\nMegfigyelő tagjainknak: 20 000 Ft/pár\nSzóló férfiaknak a fenti díjak per fő értendők!\nSzóló hölgyeknek a fenti díjból 10 000 Ft kedvezményt biztosítunk!\n\nA részvételi díj tartalmazza:\nTeljes helyszín használatát (szextér\, étkező- közösségi tér\, fürdőszoba\, öltöző\, terasz\, udvar)\, programokat\, zárható szekrényt\, karszalagot\, törülközőt\, lepedőt\, óvszereket\, játékszerek szabad használatát\, snacket\, gyümölcsöt\, alkoholmentes italokat korlátlan mennyiségben\, 2 alkoholos\, szabadon választott welcome drinket (Whisky\, pálinka\, Jager\, Aperol spritz\, borok\, pezsgő\, gin\, vodka\, rum)\, válogatott vendégkör\, diszkréció.\n\nRegisztráció eseményünkre:\nhttps://form.jotform.com/230092022813039
URL:https://swlt.hu/event/sexedubest-a-sexedufest-kedvenc-programjaibol-meztelen-hangfurdo-es-sokkezes-masszazsok/
END:VEVENT
END:VCALENDAR