BEGIN:VCALENDAR
VERSION:2.0
PRODID:-//SWLT Egyesület - ECPv6.15.20//NONSGML v1.0//EN
CALSCALE:GREGORIAN
METHOD:PUBLISH
X-ORIGINAL-URL:https://swlt.hu
X-WR-CALDESC:Események SWLT Egyesület
REFRESH-INTERVAL;VALUE=DURATION:PT1H
X-Robots-Tag:noindex
X-PUBLISHED-TTL:PT1H
BEGIN:VTIMEZONE
TZID:UTC
BEGIN:STANDARD
TZOFFSETFROM:+0000
TZOFFSETTO:+0000
TZNAME:UTC
DTSTART:20230101T000000
END:STANDARD
END:VTIMEZONE
BEGIN:VEVENT
DTSTART;TZID=UTC:20240810T180000
DTEND;TZID=UTC:20240811T060000
DTSTAMP:20260422T081925
CREATED:20240528T192836Z
LAST-MODIFIED:20240806T112111Z
UID:1786-1723312800-1723356000@swlt.hu
SUMMARY:SEXY SUMMER- Játék Party – ismerkedős játékest az SWLT Központban
DESCRIPTION:Ismét egy kalandos- játékos\, extra vidám éjszakába hívlak Benneteket 🙂\nVáltozatos játékokkal várunk Benneteket! \nEzúttal a tematikánk a SEXY SUMMER – vagyis vetkőztetünk\, fagyit nyalunk egymásról\, ismert nyári slágereket ismerünk fel\, koktélokat fejtünk meg és egyéb fura\, sexy\, vicces\, laza játékokat fundáltam ki Nektek 😉 \nA program során 3-6 fős csapatokban\, különböző erotikus töltetű\, vicces és zenés\, táncos\, furmányos játék és feladvány során juthatnak a csapatok pontokhoz és közben ismerhetik meg egymást mélyebben és mélyebben… \nA győzteseket ezúttal is sokkezes masszázzsal kényeztetjük\, de aztán folytatódhat a játék egészen pirkadatig\, akárcsak legutóbb 😉 \nA programot kifejezetten ajánljuk Kezdő swingereknek\, akik úgy érzik\, egyelőre csak ismerkedni szeretnének hasonló gondolkodásúakkal. \nJátékmester: Ors\nHelyszín: Bp.- Zugló\, SWLT Központ \nLétszám: maximum 30 fő\n\nRészvételi díj:\nFanatikus tagjainknak: 15 000 Ft/pár\nCsapatjátékos tagjainknak: 18 000 Ft/pár\nMegfigyelő tagjainknak: 20 000 Ft/pár\nSzóló férfiaknak a fenti díjak per fő értendők!\nSzóló hölgyeknek a fenti díjból 10 000 Ft kedvezményt biztosítunk!\n\nA részvételi díj tartalmazza:\nEgyesület támogatói díját\, teljes helyszín használatát (szextér\, étkező- közösségi tér\, fürdőszoba\, öltöző\, terasz\, udvar)\, programokat\, zárható szekrényt\, karszalagot\, törülközőt\, lepedőt\, óvszereket\, játékszerek szabad használatát\, snacket\, gyümölcsöt\, alkoholmentes italokat korlátlan mennyiségben\, 2 alkoholos\, szabadon választott welcome drinket (Whisky\, pálinka\, Jager\, Aperol spritz\, borok\, pezsgő\, gin\, vodka\, rum)\, válogatott vendégkör\, diszkréció.\n\nRegisztráció eseményünkre:\nhttps://form.jotform.com/230092022813039
URL:https://swlt.hu/event/jatek-party-ismerkedos-jatekest-az-swlt-kozpontban/
END:VEVENT
END:VCALENDAR