BEGIN:VCALENDAR
VERSION:2.0
PRODID:-//SWLT Egyesület - ECPv6.15.20//NONSGML v1.0//EN
CALSCALE:GREGORIAN
METHOD:PUBLISH
X-WR-CALNAME:SWLT Egyesület
X-ORIGINAL-URL:https://swlt.hu
X-WR-CALDESC:Események SWLT Egyesület
REFRESH-INTERVAL;VALUE=DURATION:PT1H
X-Robots-Tag:noindex
X-PUBLISHED-TTL:PT1H
BEGIN:VTIMEZONE
TZID:UTC
BEGIN:STANDARD
TZOFFSETFROM:+0000
TZOFFSETTO:+0000
TZNAME:UTC
DTSTART:20230101T000000
END:STANDARD
END:VTIMEZONE
BEGIN:VEVENT
DTSTART;TZID=UTC:20240621T190000
DTEND;TZID=UTC:20240622T040000
DTSTAMP:20260422T105937
CREATED:20240410T211342Z
LAST-MODIFIED:20240410T211342Z
UID:1646-1718996400-1719028800@swlt.hu
SUMMARY:SWLT Éjszakai Meztelen Túra
DESCRIPTION:Június 21. a Meztelen Túrázás Világnapja 🙂 \nTavaly nyáron fantasztikusan sikerült az éjszakai kilátótúránk\, szuper társaság jött össze és akarva- akaratlanul\, lekerültek a ruhadarabok is\, szóval most eleve így hirdetnénk meg egy újabb közös estét Veletek 🙂 \nTalálkozó Budapesten 19.00- kor. A pontos útvonalat és távot a jelentkezőkkel egyeztetjük! \nRészvételi díj: 3 500 ft/fő – mellyel az Egyesületet támogatjátok 🙂\nFanatikus tagjainknak a túra DÍJMENTES! \nRegisztráció az eseményre:\n \nGyertek! 😉
URL:https://swlt.hu/event/swlt-ejszakai-meztelen-tura/
END:VEVENT
BEGIN:VEVENT
DTSTART;TZID=UTC:20240622T180000
DTEND;TZID=UTC:20240623T050000
DTSTAMP:20260422T105937
CREATED:20240529T101104Z
LAST-MODIFIED:20240529T101104Z
UID:1790-1719079200-1719118800@swlt.hu
SUMMARY:Hot Salsa Night- latin zenés- táncos swinger party az SWLT Központban
DESCRIPTION:Huhhh\, itt a nyár\, forró a hangulat\, de mi még forróbbá varázsoljuk Nektek 😉 Mielőtt belemerülnénk a IV. Swinger Fesztivál kínálta varázslatos világba\, bulizzunk még egy nagyot 😉 \nEgy igazi pörgős\, latin táncos\, koktélos estére invitálunk Benneteket 😉 \nNe ijedjetek meg\, ha nem vagytok táncbajnokok\, az alap lépéseket megtanítjuk Nektek 😉 \n  \nProgram: \n18.00 – Kapunyitás\, KOKTÉL BÁR NYITÁSA- nyári\, frissítő koktélok bármixerünkkel\, Lacival \n18.00- 20.00 Salsa tánclépések Gyurival\, az SWLT mentorprogramunk vezetőjével\, aki 30 éve a salsa szerelmese 😉 \n20.00- 22.00 Latin Dance Party- a parkett a Tiétek 😉 DJ Csabeeval 😉 \n22.00- tól felforrósodik a hangulat\, a táncteret felváltja a küzdőtér és vízszíntesben is folytatódik a tánc 😉 – igény esetén Ors ráhangoló játékaival 😉 \nHelyszín: Bp.- Zugló\, SWLT Központ \nLétszám: maximum 25 fő\nDresscode: latin\, nyárias\, laza\, színes\, szexi öltözet\n\nRészvételi díj:\nFanatikus tagjainknak: 15 000 Ft/pár\nCsapatjátékos tagjainknak: 18 000 Ft/pár\nMegfigyelő tagjainknak: 20 000 Ft/pár\nSzóló férfiaknak a fenti díjak per fő értendők!\nSzóló hölgyeknek a fenti díjból 10 000 Ft kedvezményt biztosítunk!\n\nA részvételi díj tartalmazza:\nEgyesület támogatói díját\, teljes helyszín használatát (szextér\, étkező- közösségi tér\, fürdőszoba\, öltöző\, terasz\, udvar)\, programokat\, zárható szekrényt\, karszalagot\, törülközőt\, lepedőt\, óvszereket\, játékszerek szabad használatát\, snacket\, gyümölcsöt\, alkoholmentes italokat korlátlan mennyiségben\, 2 alkoholos\, szabadon választott welcome drinket (Whisky\, pálinka\, Jager\, Aperol spritz\, borok\, pezsgő\, gin\, vodka\, rum)\, válogatott vendégkör\, diszkréció.\n\nRegisztráció eseményünkre:\nhttps://form.jotform.com/230092022813039
URL:https://swlt.hu/event/hot-salsa-night-latin-zenes-tancos-swinger-party-az-swlt-kozpontban/
END:VEVENT
END:VCALENDAR