BEGIN:VCALENDAR
VERSION:2.0
PRODID:-//SWLT Egyesület - ECPv6.15.20//NONSGML v1.0//EN
CALSCALE:GREGORIAN
METHOD:PUBLISH
X-ORIGINAL-URL:https://swlt.hu
X-WR-CALDESC:Események SWLT Egyesület
REFRESH-INTERVAL;VALUE=DURATION:PT1H
X-Robots-Tag:noindex
X-PUBLISHED-TTL:PT1H
BEGIN:VTIMEZONE
TZID:UTC
BEGIN:STANDARD
TZOFFSETFROM:+0000
TZOFFSETTO:+0000
TZNAME:UTC
DTSTART:20230101T000000
END:STANDARD
END:VTIMEZONE
BEGIN:VEVENT
DTSTART;TZID=UTC:20240620T180000
DTEND;TZID=UTC:20240620T230000
DTSTAMP:20260422T121941
CREATED:20240529T103524Z
LAST-MODIFIED:20240529T103524Z
UID:1794-1718906400-1718924400@swlt.hu
SUMMARY:Swinger Rapid Randi – Kávéházi ismerkedés swingereknek
DESCRIPTION:Szívesen ismerkednél\, de a hagyományos társkeresőkön mindig falakba ütközöl mikor megemlíted\, hogy nyitott vagy szexuálisan?\nJobban szeretsz személyesen ismerkedni mint online?\nÉrdekel a swinger világ\, de egy bulira még nincsen bátorságod jelentkezni? \nHa eltöltenél egy estét nyitott gondolkodású emberek társaságában gyere el hozzánk az SWLT Központba egy Swinger Rapid Randira. \nJátékmester: Ors\nHelyszín: Bp.- Zugló\, SWLT Központ \nLétszám: maximum 30 fő\nA programot 4 hölgy és 4 úr jelentkezése esetén tartjuk meg. \nRészvételi díj:\nFanatikus tagjainknak: 8 000 Ft/pár\nCsapatjátékos tagjainknak: 9 000 Ft/pár\nMegfigyelő tagjainknak: 10 000 Ft/pár \nSzóló férfiaknak a fenti díjak per fő értendők!\nSzóló hölgyeknek a fenti díjból 5 000 Ft kedvezményt biztosítunk! \nA részvételi díj tartalmazza:\nTeljes helyszín használatát\, programokat\, zárható szekrényt\, snacket\, alkoholmentes italokat korlátlan mennyiségben\, 2 alkoholos\, szabadon választott welcome drinket (Whisky\, pálinka\, Jager\, Aperol spritz\, borok\, pezsgő\, gin\, vodka\, rum). \nHa jól sikerül a randi lehetőség van a helyszínen tovább maradni 😊 \nRegisztráció eseményünkre: \n \n 
URL:https://swlt.hu/event/swinger-rapid-randi-kavehazi-ismerkedes-swingereknek-2/
END:VEVENT
END:VCALENDAR