BEGIN:VCALENDAR
VERSION:2.0
PRODID:-//SWLT Egyesület - ECPv6.15.20//NONSGML v1.0//EN
CALSCALE:GREGORIAN
METHOD:PUBLISH
X-WR-CALNAME:SWLT Egyesület
X-ORIGINAL-URL:https://swlt.hu
X-WR-CALDESC:Események SWLT Egyesület
REFRESH-INTERVAL;VALUE=DURATION:PT1H
X-Robots-Tag:noindex
X-PUBLISHED-TTL:PT1H
BEGIN:VTIMEZONE
TZID:UTC
BEGIN:STANDARD
TZOFFSETFROM:+0000
TZOFFSETTO:+0000
TZNAME:UTC
DTSTART:20230101T000000
END:STANDARD
END:VTIMEZONE
BEGIN:VEVENT
DTSTART;TZID=UTC:20240611T180000
DTEND;TZID=UTC:20240611T230000
DTSTAMP:20260422T105950
CREATED:20240607T230233Z
LAST-MODIFIED:20240607T230241Z
UID:1806-1718128800-1718146800@swlt.hu
SUMMARY:Menjünk együtt! Boban Markovic Koncert- KEDVEZMÉNYES JEGYEK SWLT- seknek!
DESCRIPTION:Folytatjuk töretlenül a sort 😉\nEgyesületünk ismét remek programra\, remek ajánlatot hozott tagjainak 🙂 \nMenjünk együtt- ezúttal a PARÁDÉ & KONCERT – re\nSzékesfehérvári Balett Színház és Boban Marković Orkestar! \nA produkció egy olyan kortárs táncszínházi mű\, amelynek célja egy speciális hangvételű\, valamint stílus jegyeket hordozó\, mély gyökerekből táplálkozó zenének a dramatizálása és táncszínházi eszközökkel történő vizuális megjelenítése\, illetve színpadra állítása. \nA koncert előtt szokás szerint találkozunk egy italra ismerkedni 😉 Részleteket a jelentkezőkkel osztjuk meg… \n21 900 Ft- os földszinti ülőjegyek MOST NEKTEK hatalmas kedvezménnyel- lásd lentebb! \nFanatikus tagjainknak 21 900 Ft HELYETT CSAK 5 500 Ft!\nCsapatjátékos tagjainknak is CSAK 11 000 Ft\,\nmíg Megfigyelő tagjainknak 16 000 Ft a jegy ára. \nHÉTFŐ estig le kell adnom a létszámot\, így kérlek Benneteket\, gyorsan döntsetek 😉 \nRegisztráció a szokásos felületünkön:\n \nAZ ESEMÉNY VENDÉGLISTÁJA REJTETT\, ÍGY NYUGODTAN JELÖLD\, HOGY OTT LESZEL\, MÁSOK NEM FOGJÁK LÁTNI 😉 \nRészletek\, információk:\n2024. június 11. kedd 20:00 (esőnap: június 12.) \nMargitszigeti Szabadtéri Színpad \nMűsoridő: 120 perc\, 1 szünettel \nI. rész \nPARÁDÉ\na Boban Markovic Orkestar\nés\na Székesfehérvári Balett Színház előadása \nRendező-koreográfus:\nEgerházi Attila \nII. rész \nBOBAN MARKOVIC ORKESTAR\nkoncert \nAz előadás I. részében Parádé címmel mutatjuk be a Boban Markovic Orkestar és a Székesfehérvári Balett Színház közös produkcióját Egerházi Attila rendezésében. \nA Parádé egy életérzést fogalmaz meg a táncszínház nyelvén. Dramaturgiai szerkesztése a Mrak című zenei albumra épülve\, különböző hangulatokat\, életképeket\, szituációkat jelenít meg. Boban Markovic sajátos és rendkívül dinamikus\, életteli\, egyúttal dramatikus zenei világára Egerházi Attila rendező-koreográfus olyan zsánerképeket alkotott meg\, amelyek szarkasztikus és humorral átszőtt jelenetek füzérét alkotva jelenítenek meg egy világot és fogalmaznak meg egy életérzést. \nAz est II. részében pedig a Boban Markovic Orkestar fergeteges koncertje varázsol igazi balkáni hangulatot a Margitszigeti Színház színpadára.
URL:https://swlt.hu/event/menjunk-egyutt-boban-markovic-koncert-kedvezmenyes-jegyek-swlt-seknek/
END:VEVENT
END:VCALENDAR