BEGIN:VCALENDAR
VERSION:2.0
PRODID:-//SWLT Egyesület - ECPv6.15.20//NONSGML v1.0//EN
CALSCALE:GREGORIAN
METHOD:PUBLISH
X-WR-CALNAME:SWLT Egyesület
X-ORIGINAL-URL:https://swlt.hu
X-WR-CALDESC:Események SWLT Egyesület
REFRESH-INTERVAL;VALUE=DURATION:PT1H
X-Robots-Tag:noindex
X-PUBLISHED-TTL:PT1H
BEGIN:VTIMEZONE
TZID:UTC
BEGIN:STANDARD
TZOFFSETFROM:+0000
TZOFFSETTO:+0000
TZNAME:UTC
DTSTART:20230101T000000
END:STANDARD
END:VTIMEZONE
BEGIN:VEVENT
DTSTART;TZID=UTC:20240609T180000
DTEND;TZID=UTC:20240609T180000
DTSTAMP:20260422T110014
CREATED:20240508T091304Z
LAST-MODIFIED:20240508T091304Z
UID:1744-1717956000-1717956000@swlt.hu
SUMMARY:Menjünk együtt színházba!- Francia rúdugrás- Játékszín\, Bp.
DESCRIPTION:Menjünk együtt ismét színházba!\n\nEzúttal a Francia rúdugrás c. darabot nézzük a Játékszínben.\n\nTalálkozó 18.00- kor a Kredit Bárban\, ahonnan együtt megyünk át 19.00- ra a Játékszínbe.\nA darab után ismét beülnénk egy közeli bárba beszélgeti\, ismerkedni\, szórakozni…\n\nA darabról:Szerző: Mohácsi IstvánFRANCIA RÚDUGRÁS (18+)\nszextett két-három részben\n\nSzereplők:Ráth Zsuzsa LÉVAY VIKTÓRIACsemegi Kati LIPTAI CLAUDIASzékács Anikó GUBIK PETRA / ERDÉLYI TIMEARoskovics Ákos DEBRECZENY CSABABíró Gyula NAGY SÁNDORGoldmark Ernő KEREKES JÓZSEF\nRendező: CRESPO RODRIGO\n\nHárom nő és három férfi\, ez egy szextett – bár a szerepek meglepően cserélődnek ezen a viharos éjszakán. Eleinte minden világos\, ki kinek a kicsodája\, ám közbeszól a kémia\, meg egy tudálékos szexuálpszichológus – és csak reménykedni lehet\, hogy sok félreértés és félre…izé után minden jóra fordul.\nElőadásunk alatt durva\, szókimondó kifejezések hangozhatnak el.\n\nAz előadás hossza 2 óra 20 perc\, egy szünettel\n\nÖsszesen 16 db jegyünk van!\n\nJEGYÁR: 13 500 Ft/db\nKérlek\, a jegy árát rögtön\, regisztráció után utald el\, hogy biztosítani tudjam a helyed!\n\nRegisztráció az eseményre:https://form.jotform.com/230092022813039
URL:https://swlt.hu/event/menjunk-egyutt-szinhazba-francia-rudugras-jatekszin-bp/
END:VEVENT
END:VCALENDAR