BEGIN:VCALENDAR
VERSION:2.0
PRODID:-//SWLT Egyesület - ECPv6.15.20//NONSGML v1.0//EN
CALSCALE:GREGORIAN
METHOD:PUBLISH
X-WR-CALNAME:SWLT Egyesület
X-ORIGINAL-URL:https://swlt.hu
X-WR-CALDESC:Események SWLT Egyesület
REFRESH-INTERVAL;VALUE=DURATION:PT1H
X-Robots-Tag:noindex
X-PUBLISHED-TTL:PT1H
BEGIN:VTIMEZONE
TZID:UTC
BEGIN:STANDARD
TZOFFSETFROM:+0000
TZOFFSETTO:+0000
TZNAME:UTC
DTSTART:20230101T000000
END:STANDARD
END:VTIMEZONE
BEGIN:VEVENT
DTSTART;TZID=UTC:20240607T150000
DTEND;TZID=UTC:20240608T230000
DTSTAMP:20260422T105935
CREATED:20240606T051359Z
LAST-MODIFIED:20240606T051403Z
UID:1801-1717772400-1717887600@swlt.hu
SUMMARY:június 7- 8. Menjünk együtt a kétnapos Jazz és Bor Fesztiválra!- Margit- sziget- KEDVEZMÉNYES JEGYEK!
DESCRIPTION:Egyesületünk ismét remek programra\, remek ajánlatot hozott tagjainak \n\nMenjünk együtt- ezúttal a Jazz és Bor Fesztiválra!\n\nJazz\, bor\, kulináris élmények a Margitszigeti Színházban a Víztorony udvarán!\n\n21 900 Ft- os\, KÉTNAPOS jegyek MOST NEKTEK hatalmas kedvezménnyel– lásd lentebb! Földszinti ülőjegyekkel a Csodálatos Magyar Jazz nagykoncertre!\nFanatikus tagjainknak 21 900 Ft HELYETT CSAK 5 500 Ft!Csapatjátékos tagjainknak is CSAK 11 000 Ft\,míg Megfigyelő tagjainknak 16 000 Ft a jegy ára.\n\nCSÜTÖRTÖK estig le kell adnom a létszámot\, így kérlek Benneteket\, gyorsan döntsetek \n\nA Fesztivál programja magában foglalja a Bor Fesztivált\, mini koncerteket\, borkóstolást és a Csodálatos Magyar Jazz nagykoncertet!Mivel kétnapos jegyről van szó\, előtte találkozót nem tartunk\, hiszen különböző időpontokban érkezhettek\, de közös chat csoportot nyitunk\, hogy össze lehessen egyeztetni az érkezést \n\nRegisztráció a szokásos felületünkön:https://form.jotform.com/230092022813039\n\nRészletek\, információk:Csodálatos Magyar Jazz nagykoncert: https://shorturl.at/CJn1IJazz és Bor 2 napos fesztivál: https://shorturl.at/1ZYL8\n\nA Jazz és Bor hétvégén a borkóstoláshoz külön fesztiválpoharat vásárolhattok 1500- Ft/db áron (HELYSZÍNEN).\n\nPROGRAM:\n2024. június 7. péntek\, 14:00-22:0015:00 Orbay Lilla Quintet16:00 Olah Kálmán New Generation17:00 Beszélgetés a borászokkal18:00 Kriszta La Vista19:00 Beszélgetés a borászokkal20:00 Horváth Szabolcs Quartet21:00 Grace & Gravy\n\n2024. június 8.\, szombat\, 10.00 -18:0011.00 Horváth Balázs trió12:00 Beszélgetés a borászokkal13.00 Emingo14:00 Beszélgetés a borászokkal15:00 Fehér Márió Fábió Quartet16:00 Beszélgetés a borászokkal\, VIP borkóstolók20:00 Csodálatos Magyar Jazz nagykoncert\n\nA nagyKONCERTRŐL:A Magyar Jazz Szövetség gálaműsorán több\, mint 50 kiváló magyar jazz zenész lép színpadra olyan formációkkal\, mint a Hot Jazz Band\, a Budapest Ragtime Band vagy a BJC Big Band. Az esemény színvonalát ismert vendég szólisták is emelik\, mint például a világhírű szaxofonos Tony Lakatos és a montreux-i versenygyőztes énekesnő Szőke Nikoletta\, vagy a Magyar Jazz Tiszteletbeli Nagykövete Borlai Gergő.\nAz egyedülálló zenei élményhez különleges borokat\, sajtokat és más gasztronómiai csodákat kínálunk\, mert ez az az esemény a városban\, ami minden érzékünket kényezteti.\nAz esemény a Magyar Jazz Szövetség és a Margitszigeti Szabadtéri Színház közös szervezésében valósul meg.\n\nA koncert hossza: 120 perc
URL:https://swlt.hu/event/junius-7-8-menjunk-egyutt-a-ketnapos-jazz-es-bor-fesztivalra-margit-sziget-kedvezmenyes-jegyek/
END:VEVENT
END:VCALENDAR