BEGIN:VCALENDAR
VERSION:2.0
PRODID:-//SWLT Egyesület - ECPv6.15.20//NONSGML v1.0//EN
CALSCALE:GREGORIAN
METHOD:PUBLISH
X-WR-CALNAME:SWLT Egyesület
X-ORIGINAL-URL:https://swlt.hu
X-WR-CALDESC:Események SWLT Egyesület
REFRESH-INTERVAL;VALUE=DURATION:PT1H
X-Robots-Tag:noindex
X-PUBLISHED-TTL:PT1H
BEGIN:VTIMEZONE
TZID:UTC
BEGIN:STANDARD
TZOFFSETFROM:+0000
TZOFFSETTO:+0000
TZNAME:UTC
DTSTART:20230101T000000
END:STANDARD
END:VTIMEZONE
BEGIN:VEVENT
DTSTART;TZID=UTC:20240508T190000
DTEND;TZID=UTC:20240509T020000
DTSTAMP:20260422T121822
CREATED:20240506T094943Z
LAST-MODIFIED:20240506T094943Z
UID:1739-1715194800-1715220000@swlt.hu
SUMMARY:Szerdai FFM (női többes) Swinger Party az SWLT Központban
DESCRIPTION:Ismétlődő eseményünk minden hónap második szerdáján azoknak a pároknak és szóló nőknek kedvez\, akik nyitottak a női biszexualitás megélésére… \nSzóló urakat ezúttal NEM tudunk fogadni! \nKezdés: 19.00 – Zárás: 02.00 \nHelyszín: Bp.- Zugló\, SWLT Központ \nLétszám: maximum 30 fő\n\nRészvételi díj:\nFanatikus tagjainknak: 15 000 Ft/pár\nCsapatjátékos tagjainknak: 18 000 Ft/pár\nMegfigyelő tagjainknak: 20 000 Ft/pár\nSzóló hölgyeknek a fenti díjból 10 000 Ft kedvezményt biztosítunk!\n\nA részvételi díj tartalmazza:\nEgyesület támogatói díját\, teljes helyszín használatát (szextér\, étkező- közösségi tér\, fürdőszoba\, öltöző\, terasz\, udvar)\, programokat\, zárható szekrényt\, karszalagot\, törülközőt\, lepedőt\, óvszereket\, játékszerek szabad használatát\, snacket\, gyümölcsöt\, alkoholmentes italokat korlátlan mennyiségben\, 2 alkoholos\, szabadon választott welcome drinket (Whisky\, pálinka\, Jager\, Aperol spritz\, borok\, pezsgő\, gin\, vodka\, rum)\, válogatott vendégkör\, diszkréció.\n\nRegisztráció eseményünkre:\nhttps://form.jotform.com/230092022813039
URL:https://swlt.hu/event/szerdai-ffm-noi-tobbes-swinger-party-az-swlt-kozpontban/
END:VEVENT
END:VCALENDAR