BEGIN:VCALENDAR
VERSION:2.0
PRODID:-//SWLT Egyesület - ECPv6.15.20//NONSGML v1.0//EN
CALSCALE:GREGORIAN
METHOD:PUBLISH
X-ORIGINAL-URL:https://swlt.hu
X-WR-CALDESC:Események SWLT Egyesület
REFRESH-INTERVAL;VALUE=DURATION:PT1H
X-Robots-Tag:noindex
X-PUBLISHED-TTL:PT1H
BEGIN:VTIMEZONE
TZID:UTC
BEGIN:STANDARD
TZOFFSETFROM:+0000
TZOFFSETTO:+0000
TZNAME:UTC
DTSTART:20230101T000000
END:STANDARD
END:VTIMEZONE
BEGIN:VEVENT
DTSTART;TZID=UTC:20240427T140000
DTEND;TZID=UTC:20240427T170000
DTSTAMP:20260422T134857
CREATED:20240328T093249Z
LAST-MODIFIED:20240328T093249Z
UID:1632-1714226400-1714237200@swlt.hu
SUMMARY:Mentor Times Délután- kötetlen beszélgetés kezdőknek
DESCRIPTION:Az SWLT Központ első eseménye mi lenne más\, mint egy Mentor Times délután 🙂 \nMentoraink sok éves tapasztalattal rendelkező swingerek\, akik elkötelezettek amellett\, hogy segítsék azokat a párokat és szólókat\, akik még most kezdenének nyitni kapcsolatukon vagy alapvetően ismerkedni ezzel a világgal. \nA beszélgetés kötetlen\, bár az alapokat mindig igyekszünk érinteni\, de tulajdonképpen a vendégek irányítják a beszélgetést. Igyekszünk megválaszolni minden kérdést és megosztani Veletek tapasztalatainkat. \nA résztvevők száma maximum 20 fő! \nA program díja: 5 000 Ft\, melyet az eseményregisztrációt követően várunk az alábbi számlaszámra: \nSWLT Egyesület- OTP – 11715007-21544086 \nKözlemény: Támogatás 0427 MT
URL:https://swlt.hu/event/mentor-times-delutan-kotetlen-beszelgetes-kezdoknek/
END:VEVENT
BEGIN:VEVENT
DTSTART;TZID=UTC:20240427T190000
DTEND;TZID=UTC:20240428T190000
DTSTAMP:20260422T134857
CREATED:20240402T163054Z
LAST-MODIFIED:20240402T164533Z
UID:1635-1714244400-1714330800@swlt.hu
SUMMARY:Kezdők Éjszakája- kislétszámú (max 30 fő) swinger est kifejezetten kezdőknek az SWLT Központban
DESCRIPTION:Zuglói Központunk állandó eleme a havonta megrendezésre kerülő Kezdők Éjszakája Swinger Party. \nAz estre NEM csak KEZDŐK jelentkezhetnek\, de a régi swingeresek létszámát korlátozzuk maximum 10 főben! \nA bulit megelőzi mindig egy Mentor Times délután\, amikor is lehetőség van az érdeklődők részére egy kötetlen\, laza beszélgetésre mentorainkkkal. A délutáni program DÍJMENTES! \nAz esti swinger party menete: \n19.00- 20.00 Érkezés\, Welcome Drink\, dresscode szerinti öltözet átvétele (hölgyeknek szexi fehérnemű\, magassarkú\, uraknak alsónadrág és ing vagy trikó + nyakkendő vagy csokornyakkendő \n20.00- 21.00 Könnyed ismerkedős játékok \n21.00- tól zene\, tánc\, kis italozás \n22.00- tól Érintéses játékok Orsival- ráhangolódás a nyitásra… \n06.00 Az esemény zárása \n  \nLétszám: maximum 30 fő \n  \nRészvételi díj: \nFanatikus tagjainknak: 15 000 Ft/pár \nCsapatjátékos tagjainknak: 18 000 Ft/pár \nMegfigyelő tagjainknak: 20 000 Ft/pár \nSzóló férfiaknak a fenti díjak per fő értendők! \nSzóló hölgyeknek a fenti díjból 10 000 Ft kedvezményt biztosítunk! \n  \nA részvételi díj tartalmazza: \nEgyesület támogatói díját\, teljes helyszín használatát (szextér\, étkező- közösségi tér\, fürdőszoba\, öltöző\, terasz\, udvar)\, programokat\, zárható szekrényt\, karszalagot\, törülközőt\, lepedőt\, óvszereket\, játékszerek szabad használatát\, snacket\, gyümölcsöt\, alkoholmentes italokat korlátlan mennyiségben\, 2 alkoholos\, szabadon választott welcome drinket (Whisky\, pálinka\, Jager\, Aperol spritz\, borok\, pezsgő\, gin\, vodka\, rum)\, válogatott vendégkör\, diszkréció. \nRegisztráció eseményünkre: \n \n 
URL:https://swlt.hu/event/kezdok-ejszakaja-kisletszamu-max-30-fo-swinger-est-kifejezetten-kezdoknek-az-swlt-kozpontban/
END:VEVENT
END:VCALENDAR