BEGIN:VCALENDAR
VERSION:2.0
PRODID:-//SWLT Egyesület - ECPv6.15.20//NONSGML v1.0//EN
CALSCALE:GREGORIAN
METHOD:PUBLISH
X-WR-CALNAME:SWLT Egyesület
X-ORIGINAL-URL:https://swlt.hu
X-WR-CALDESC:Események SWLT Egyesület
REFRESH-INTERVAL;VALUE=DURATION:PT1H
X-Robots-Tag:noindex
X-PUBLISHED-TTL:PT1H
BEGIN:VTIMEZONE
TZID:UTC
BEGIN:STANDARD
TZOFFSETFROM:+0000
TZOFFSETTO:+0000
TZNAME:UTC
DTSTART:20230101T000000
END:STANDARD
END:VTIMEZONE
BEGIN:VEVENT
DTSTART;TZID=UTC:20240329T180000
DTEND;TZID=UTC:20240330T060000
DTSTAMP:20260422T152510
CREATED:20231220T102252Z
LAST-MODIFIED:20240227T080228Z
UID:928-1711735200-1711778400@swlt.hu
SUMMARY:Ladies Pink Cocktail Night- csak csajoknak!
DESCRIPTION:Ismét egy őrült éjszaka CSAK CSAJOKNAK!! \nEzúttal rózsaszínbe bújunk és fincsi koktélokat keverünk a Delight Klubban egy nálunk is őrültebb női bártender segítségével 😉\nTermészetesen nem maradhatnak ki ezen az estén se a játékok és a mély beszélgetések se 🙂 \nLétszám: maximum 25 fő! \nRészvételi díj:\nFanatikus tagoknak: 13 000 Ft\nCsapatjátékos és Első körös játékosoknak: 16 000 Ft\nMegfigyelő tagoknak: 18 000 Ft\nA díj tartalmazza a nasit\, finger food ételeket\, alkoholos és alkoholmentes italokat korlátlan mennyiségben\, helyszínt és természetesen magát a programot és a jó hangulatot.\nOttalvást tudunk biztosítani! \nAz eseményen csak egyesületi tagok vehetnek részt!!!! \nEgyesületi regisztráció:\n\nRegisztráció a Csajos Partyra:\n \nAz eseményt 10 főtől megtartjuk 🙂 \nKérünk\, a program 5 000 Ft- os regisztrációs díját regisztrációt követő 2 napon belül utald el az alábbi számlaszámra:\nSWLT Egyesület- Revolut IBAN LT51\n3250 0326 6896 7293\nWise:\nSWLT Molnár Orsolya\n12600016-10249771-83760212\nKözleménybe\, TÁMOGATÁS és a tagsági kódodat (ha van)\, valamint az esemény dátumát írd (aki bizonytalan a kódját illetően\, keressen) SEMMI MÁST NE ÍRJATOK KÖZLEMÉNYBE- KÜLÖNÖSEN AZT NE\, HOGY SWINGER BULI 😂Fennmaradó összeg helyszínen KP- ban vagy szintén átutalással fizetendő…\nAz eseményt megelőző 72 órán belüli lemondást már nem áll módunkban elfogadni\, ebben az esetben már a teljes díj fizetendő.
URL:https://swlt.hu/event/csak-csajok-party-est/
END:VEVENT
END:VCALENDAR