BEGIN:VCALENDAR
VERSION:2.0
PRODID:-//SWLT Egyesület - ECPv6.15.20//NONSGML v1.0//EN
CALSCALE:GREGORIAN
METHOD:PUBLISH
X-WR-CALNAME:SWLT Egyesület
X-ORIGINAL-URL:https://swlt.hu
X-WR-CALDESC:Események SWLT Egyesület
REFRESH-INTERVAL;VALUE=DURATION:PT1H
X-Robots-Tag:noindex
X-PUBLISHED-TTL:PT1H
BEGIN:VTIMEZONE
TZID:UTC
BEGIN:STANDARD
TZOFFSETFROM:+0000
TZOFFSETTO:+0000
TZNAME:UTC
DTSTART:20230101T000000
END:STANDARD
END:VTIMEZONE
BEGIN:VEVENT
DTSTART;TZID=UTC:20240322T180000
DTEND;TZID=UTC:20240322T213000
DTSTAMP:20260422T152434
CREATED:20240301T144536Z
LAST-MODIFIED:20240301T144536Z
UID:1486-1711130400-1711143000@swlt.hu
SUMMARY:Menjünk együtt színházba!- RS9 - Urbán Erotika- Gyuricza: Szabadesés c. könyve alapján
DESCRIPTION:Az Urbán Erotika- Kortárs Művészeti Fesztivál keretein belül mutatják be Gyuricza István: Szabadesés c. könyvjének színpadi adaptációját. \nAz előadásra 10 db jegyet vettem szóval\, aki jönne\, most foglaljon!\nAz eseményt egyesületi tagjainknak szervezzük!\nNe felejtsétek\, a darab után ezen az estén a Tik Tak Swinger Klubot vesszük célba 😉 \nUrbán Erotika 18+\nGyuricza Gergely Szabadesés című regényéből színpadra írta Egressy G. Tamás.\nA főszereplő -Petra – kalandján keresztül megérthetjük\, hogy milyen gátlásokkal és szorongásokkal kell megküzdenie egy nőnek\, aki szeretné őszintén megélni a saját szexualitását. \nJegyár: még képlékeny  \nRegisztráció a színházi látogatásra:\n \nKérünk\, 5000 Ft  foglalási díjat regisztrációt követő 2 napon belül utald el az alábbi számlaszámra: \nSWLT Egyesület- Revolut REVTAG: @swlt\nIBAN LT51 3250 0326 6896 7293\nvagy\nSWLT Molnár Orsolya – WISE\n12600016-10249771-83760212 \nKözleménybe\, TÁMOGATÁS és a tagsági kódodat (ha van)\, valamint az esemény dátumát (03.22.) írd (aki bizonytalan a kódját illetően\, keressen) SEMMI MÁST NE ÍRJATOK KÖZLEMÉNYBE- KÜLÖNÖSEN AZT NE\, HOGY SWINGER BULI 😂Fennmaradó összeg helyszínen KP- ban vagy szintén átutalással fizetendő…\nAz eseményt megelőző 72 órán belüli lemondást már nem áll módunkban elfogadni\, ebben az esetben már a teljes díj fizetendő.
URL:https://swlt.hu/event/menjunk-egyutt-szinhazba-rs9-urban-erotika-gyuricza-szabadeses-c-konyve-alapjan/
END:VEVENT
BEGIN:VEVENT
DTSTART;TZID=UTC:20240322T183000
DTEND;TZID=UTC:20240323T040000
DTSTAMP:20260422T152434
CREATED:20231220T101639Z
LAST-MODIFIED:20240301T145819Z
UID:924-1711132200-1711166400@swlt.hu
SUMMARY:Menjünk együtt klubba! - Tik Tak Swinger Club- Budaörs
DESCRIPTION:Ismét közös swingerklub látogatásra hívlak Benneteket! \nA program célja\, hogy azok\, akik nem jártak még a Tik Takban\, velünk együtt\, kisebb csapatban érkezhessenek\, ami talán megkönnyíti az első érkezést. Akik pedig visszajárók\, számukra is buli minden ilyen alkalom\, amikor minél többen megyünk ugyanazon helyszínre együtt 🙂 \nIrány a Tik Tak! \nAz estet ismét megelőzi egy Mentor Times\, 18.00- 19.00 között várjuk azokat a kezdő swingereket\, akik szívesen beszélgetnek tapasztaltabbakkal 🙂\n19.00- tól pedig az est résztvevői is csatlakoznak hozzánk 🙂 \nTalálkozunk a Budapest30 Pub- ban\, ahol a buli előtt tudunk még kicsit ismerkedni… majd 21:00 óra magasságában átmegyünk együtt a klubba. Aki csak később jönne\, az ott is csatlakozhat hozzánk\, de jelöljetek Ott leszek- et\, mert a létszámot le kell adnom. \nSzeretettel invitálom a kezdőket és azokat\, akik még nem jártak a Tik Tak- ban… no persze azokat is\, akik rendszeresen ott töltik a hétvégéket 😁 \nMenjünk együtt klubba! \nAz eseményen csak egyesületi tagok vehetnek részt!\nEgyesületi regisztráció:\n \nRegisztráció a közös programra:\n \nDíjak:\nAz est önköltséges\, a bárban és a klubban mindenki magának fizet\, NE utaljatok az egyesületnek részvételi díjat!\nA bejelentkezést azonban megteszem Helyettetek 🙂 Így más dolgotok nincs\, mint regisztrálni eseményünkre!
URL:https://swlt.hu/event/menjunk-egyutt-klubba-tik-tak-swinger-club-budaors-2/
END:VEVENT
END:VCALENDAR