BEGIN:VCALENDAR
VERSION:2.0
PRODID:-//SWLT Egyesület - ECPv6.15.20//NONSGML v1.0//EN
CALSCALE:GREGORIAN
METHOD:PUBLISH
X-ORIGINAL-URL:https://swlt.hu
X-WR-CALDESC:Események SWLT Egyesület
REFRESH-INTERVAL;VALUE=DURATION:PT1H
X-Robots-Tag:noindex
X-PUBLISHED-TTL:PT1H
BEGIN:VTIMEZONE
TZID:UTC
BEGIN:STANDARD
TZOFFSETFROM:+0000
TZOFFSETTO:+0000
TZNAME:UTC
DTSTART:20230101T000000
END:STANDARD
END:VTIMEZONE
BEGIN:VEVENT
DTSTART;TZID=UTC:20240319T210000
DTEND;TZID=UTC:20240319T230000
DTSTAMP:20260422T153541
CREATED:20240307T085029Z
LAST-MODIFIED:20240307T085029Z
UID:1502-1710882000-1710889200@swlt.hu
SUMMARY:Light Nigthts Club- Zoom beszélgetés tagoknak- Téma: Hogy monjunk Nem- et?! - online
DESCRIPTION:Havonta sorra kerülő esti online beszélgetésünk egy intimebb légkörben töltött klubest\, az otthon kényelmében 🙂 \nMindig más- más témákat boncolgatunk és megosztjuk egymással saját tapasztaltainkat… \nA Zoom linket tagjainknak küldjük emailben! Nem szükséges előzetes regisztráció! \nHa szeretnél Te is részt venni online és élő eseményeinken\, regisztrálj tagjaink közé most! 🙂
URL:https://swlt.hu/event/light-nigthts-club-zoom-beszelgetes-tagoknak-tema-hogy-monjunk-nem-et-online/
END:VEVENT
END:VCALENDAR