BEGIN:VCALENDAR
VERSION:2.0
PRODID:-//SWLT Egyesület - ECPv6.15.20//NONSGML v1.0//EN
CALSCALE:GREGORIAN
METHOD:PUBLISH
X-WR-CALNAME:SWLT Egyesület
X-ORIGINAL-URL:https://swlt.hu
X-WR-CALDESC:Események SWLT Egyesület
REFRESH-INTERVAL;VALUE=DURATION:PT1H
X-Robots-Tag:noindex
X-PUBLISHED-TTL:PT1H
BEGIN:VTIMEZONE
TZID:UTC
BEGIN:STANDARD
TZOFFSETFROM:+0000
TZOFFSETTO:+0000
TZNAME:UTC
DTSTART:20230101T000000
END:STANDARD
END:VTIMEZONE
BEGIN:VEVENT
DTSTART;TZID=UTC:20240302T090000
DTEND;TZID=UTC:20240303T170000
DTSTAMP:20260422T153356
CREATED:20240202T093723Z
LAST-MODIFIED:20240213T082055Z
UID:1039-1709370000-1709485200@swlt.hu
SUMMARY:SWLT- Kriston Intim torna Nőknek és Férfiaknak
DESCRIPTION:A SexEduFesten megismerkedhettetek Annával és Dáviddal és belekóstolhattatok abba\, mit tud adni a szexualitásunkhoz a Kriston Intimtorna. \nA Kriston Intim Torna® egy testet\, lelket megmozgató\, alhas védő tréning\, melyet Kriston Andrea dolgozott ki. A magyar módszer egyedülálló a világon\, a Kriston Intim Torna® teljes biztonsággal\, helyesen\, könnyen\, magabiztosan elsajátítható\, nők\, férfiak és gyerekek számára is. Célja\, hogy biztosítsa a gyenge záróizomból\, rossz tápanyagellátásból\, helytelen szokásokból adódó elváltozások megelőzését\, megszüntetését vagy csökkentését. A gyakorlatok egyszerűek és szórakoztatóak. \nMiben segít a Kriston-módszer®?\nA torna komoly változásokat hoz az életedbe. Örömmel tapasztalod majd\, hogy minden új mozgáselem során nő az önbizalmad\, és egyre magabiztosabb leszel. A Kriston Intim Torna® mozgás anyaga segít leoldani azon érzelmeket az altesti szervekről\, amiket úgy cipelsz\, mintha koloncok lennének rád kötve.\nJelentős változáshoz segít a szexualitás kapcsán\, helyreállítja a vizelet\, székletmegtartási gondokat\, fokozza a termékenységet\, javítja a nemi hormonok termelődését\, megemeli a hólyagot\, a méhet és a végbelet. A torna hatására az aranyér visszahúzódik és fiatalossá tornázható az altest.\nA Kriston Intim Torna® feszültségoldó folyamatai segítenek feltárni azon gátakat\, amik akár tünetfenntartó forgatókönyvként működnek. Ennek eredménye gyakorta a gyors\, megdöbbentő változások sora. Így szűnhet meg gyorsan aktusnál a fájdalmas behatolás\, vaginizmus\, endometriózis\, PCOS\, gyulladási hajlam\, mióma\, ciszta\, orgazmushiány\, női hormon alulműködés\, libidóhiány\, menstruációs görcs\, inkontinencia. A Kriston Intim Torna® tréning jóízű változásokhoz segít nőiességed/férfiasságod megélése kapcsán. Az átalakulás új érzésekkel\, és új hormonállapottal jár. \nA tréning során két teremben\, párhuzamosan vezeti Anna és Dávid a női\, illetve a férfi tornát\, így párok jelentkezését is várjuk! \nA tréninget SWLT tagoknak szervezzük! Ha nem vagy még tag\, itt tudsz regisztrálni:\nEgyesületi regisztráció:\n \nRegisztráció a Kriston intimtorna tanfolyamra:\n \nAz eseményt 7-7 főtől megtartjuk 🙂 \nRészvételi díj kedvezményes SWLT díjon: 52 000 Ft/fő \nKérünk\, a program 5 000 Ft- os regisztrációs díját regisztrációt követő 2 napon belül utald el az alábbi számlaszámra:\nSWLT Egyesület- Revolut: Revtag @swlt\nWise:\nMolnár Orsolya SWLT\n12600016-10249771-83760212 \nKözleménybe\, TÁMOGATÁS és a tagsági kódodat (ha van)\, valamint az esemény dátumát 03.02. írd (aki bizonytalan a kódját illetően\, keressen) SEMMI MÁST NE ÍRJATOK KÖZLEMÉNYBE- KÜLÖNÖSEN AZT NE\, HOGY SWINGER BULI 😂Fennmaradó összeg készpénzben a rendezvényen fizetendő.\nAz eseményt megelőző 72 órán belüli lemondást már nem áll módunkban elfogadni\, ebben az esetben már a teljes díj fizetendő.
URL:https://swlt.hu/event/swlt-kriston-intim-torna-noknek-es-ferfiaknak/
END:VEVENT
END:VCALENDAR