BEGIN:VCALENDAR
VERSION:2.0
PRODID:-//SWLT Egyesület - ECPv6.15.20//NONSGML v1.0//EN
CALSCALE:GREGORIAN
METHOD:PUBLISH
X-ORIGINAL-URL:https://swlt.hu
X-WR-CALDESC:Események SWLT Egyesület
REFRESH-INTERVAL;VALUE=DURATION:PT1H
X-Robots-Tag:noindex
X-PUBLISHED-TTL:PT1H
BEGIN:VTIMEZONE
TZID:UTC
BEGIN:STANDARD
TZOFFSETFROM:+0000
TZOFFSETTO:+0000
TZNAME:UTC
DTSTART:20230101T000000
END:STANDARD
END:VTIMEZONE
BEGIN:VEVENT
DTSTART;TZID=UTC:20240209T200000
DTEND;TZID=UTC:20240209T200000
DTSTAMP:20260422T165058
CREATED:20240117T132342Z
LAST-MODIFIED:20240117T132342Z
UID:1006-1707508800-1707508800@swlt.hu
SUMMARY:Lock Ladies Night- csak csajoknak! (éjféltől férfiak is érkezhetnek)
DESCRIPTION:Újabb kimozdulós csajos estére hívlak Benneteket 😉\n𝐈𝐳𝐳𝐚𝐬𝐳𝐭𝐨́ 𝐩𝐞𝐫𝐜𝐞𝐤\, 𝐝𝐞 𝐧𝐞𝐦 𝐚 𝐤𝐨𝐧𝐝𝐢𝐭𝐞𝐫𝐞𝐦𝐛𝐞𝐧…\n✨Szeretnél egy olyan éjszakát\, ahol csak Te vagy a figyelem középpontjában?\nFebruár 9-én\, pénteken este a Lock Club bemutatja az eredeti 💃🏽𝐋𝐚𝐝𝐢𝐞𝐬 𝐍𝐢𝐠𝐡𝐭 𝐒𝐡𝐨𝐰-t💃🏽\, ahova 22:00-tól éjfélig csak a Hölgyek jöhetnek be\, akiknek egy felejthetetlen✨Luxury Chippendale Show-val✨kedveskedünk.\nEz idő alatt minden hölgy a ház vendége\, azaz korlátlan az italfogyasztás a szebbik nemnek.\nFontos tudnod\, hogy az Urakat csak éjfél után engedjük be!\nProgramok és időpontok:\n20:00 ► SWLT találkozó egy közeli pub- ban- alapozás és ismerkedés\n22:00 ► LOCK Kapunyitás csak Hölgyek részére\n23:00 ► Luxury Chippendale Show\n0:00 ► Az Urak is beléphetnek a szentélybe \n(Age: 18+\, Dress Code: Elegant) \nRészvételi díj a műsor idejére első soros helyeken\, a buli alatt pedig VIP asztalnál:\n25 000 Ft/fő\, melyből 15 000 Ft teljes egészében lefogyasztható!!!\, tovább 1- et fizet\, 2- őt kap akció keretén belül kérhetünk italt.\nHa a párod is szeretne csatlakozni hozzánk éjfél után\, akkor az ő részvételi díja a VIP részben velünk: 15 000 Ft\, mely szintén teljes egészében lefogyasztható!!!\nRegisztráció a csajos estre:\n\nKérünk\, a program teljes díját regisztrációt követő 2 napon belül utald el az alábbi számlaszámra\, hogy a jegyedet és helyedet biztosítani tudjam:\nSWLT Egyesület- Revolut REVTAG: @swlt\nIBAN LT51 3250 0326 6896 7293\nvagy\nSWLT Molnár Orsolya – WISE\n12600016-10249771-83760212\nKözleménybe\, TÁMOGATÁS és a tagsági kódodat (ha van)\, valamint az esemény dátumát (02.09.) írd (aki bizonytalan a kódját illetően\, keressen) SEMMI MÁST NE ÍRJATOK KÖZLEMÉNYBE- KÜLÖNÖSEN AZT NE\, HOGY SWINGER BULI 😂Fennmaradó összeg helyszínen KP- ban vagy szintén átutalással fizetendő…\nAz eseményt megelőző 72 órán belüli lemondást már nem áll módunkban elfogadni\, ebben az esetben már a teljes díj fizetendő.
URL:https://swlt.hu/event/lock-ladies-night-csak-csajoknak-ejfeltol-ferfiak-is-erkezhetnek/
END:VEVENT
END:VCALENDAR