BEGIN:VCALENDAR
VERSION:2.0
PRODID:-//SWLT Egyesület - ECPv6.15.20//NONSGML v1.0//EN
CALSCALE:GREGORIAN
METHOD:PUBLISH
X-WR-CALNAME:SWLT Egyesület
X-ORIGINAL-URL:https://swlt.hu
X-WR-CALDESC:Események SWLT Egyesület
REFRESH-INTERVAL;VALUE=DURATION:PT1H
X-Robots-Tag:noindex
X-PUBLISHED-TTL:PT1H
BEGIN:VTIMEZONE
TZID:UTC
BEGIN:STANDARD
TZOFFSETFROM:+0000
TZOFFSETTO:+0000
TZNAME:UTC
DTSTART:20220101T000000
END:STANDARD
END:VTIMEZONE
BEGIN:VEVENT
DTSTART;TZID=UTC:20231205T170000
DTEND;TZID=UTC:20231205T190000
DTSTAMP:20260422T192733
CREATED:20231010T100428Z
LAST-MODIFIED:20231010T100428Z
UID:756-1701795600-1701802800@swlt.hu
SUMMARY:Menjünk együtt STD szűrésre! - Moszkva Tér Medical Center
DESCRIPTION:Ismét egy délután\, amikor nyitott részünkre a Moszkva Tér Medical Center STD szűrésre 🙂\nIgényes\, barátságos környezet és kedvezmény az SWLT tagjainak 🙂 \nIdőpont miatt hívjátok közvetlenül az egészségközpontot és hivatkozzatok az SWLT- re 🙂 \nNe felejtsétek el!\n– megadni a bejelentkezéskor tagsági kódotok!\n– a negatív lelettel 3 hónapig 50% kedvezménnyel jöhettek rendezvényeinkre 🙂 \nBejelentkezés a szűrésre közvetlenül a Moszkva Tér Medical Centernél: 06 70 616 9690
URL:https://swlt.hu/event/menjunk-egyutt-std-szuresre-moszkva-ter-medical-center-4/
END:VEVENT
BEGIN:VEVENT
DTSTART;TZID=UTC:20231205T190000
DTEND;TZID=UTC:20231205T230000
DTSTAMP:20260422T192733
CREATED:20231018T053718Z
LAST-MODIFIED:20231110T124220Z
UID:762-1701802800-1701817200@swlt.hu
SUMMARY:Menjünk együtt színházba!- Többszörös orgazmus- RS9
DESCRIPTION:Ismét arra invitálunk Titeket\, hogy Menjünk Együtt…. 🙂\nEzúttal színházba… \nMi láttuk az előadást\, kihagyhatatlan 😍\nCSAK A GYÜLEKEZŐT ÍRTAM KI 19.00- RA\, AZ ELŐADÁS 19.30- KOR KEZDŐDIK 🙂 \nAz RS9 Színházban lesz az Anarchista Színház előadása\, a Többszörös Orgazmus\n„Mivel a kultúrák közötti kommunikáció lehetetlen\, ezért meg kell próbálnunk.” – Tadashi Suzuki\nElég színdarab készült már az etikátlan monogám kapcsolatokról\, a Budapesti Anarchista Színház Többszörös Orgazmus című produkciójával tehát az etikus nem-monogám kapcsolatok lehetőségeit járja körül. A „poliamória” vagyis sokszívűség olyan szexuális szubkultúra\, ahol a szerelemnek nem előfeltétele a kizárólagosság\, sem szexuális sem érzelmi értelemben. A darab Dossie Easton és Janet Hardy „The Ethical Slut” című kultkönyvén alapul (magyarul Szexbolondok Illemtana címen jelent meg\, ) és olyan értékeket állít középpontba\, melyek deficitje nem csupán a nemi életünk minőségét ronthatja: becsületesség\, önismeret\, intimitás\, szabadság. Ilyenformán bátran ajánlhatjuk megrögzött monogámoknak is! \nEgy kis ízelítő gondolat a darabból:\n \nRészvételi díj:\n5500 Ft \nEseményeinket regisztrált\, egyesületi tagjainknak szervezzük.\nEgyesületi regisztráció:\n\nRegisztráció a színházi látogatásra:\n \nKérünk\, a program teljes díját regisztrációt követő 2 napon belül utald el az alábbi számlaszámra:\nSWLT Egyesület- Revolut REVTAG: @swlt\nIBAN LT51 3250 0326 6896 7293\nSWLT Molnár Orsolya – WISE\n12600016-10249771-83760212 \nKözleménybe\, TÁMOGATÁS és a tagsági kódodat (ha van)\, valamint az esemény dátumát (12.05.) írd (aki bizonytalan a kódját illetően\, keressen) SEMMI MÁST NE ÍRJATOK KÖZLEMÉNYBE- KÜLÖNÖSEN AZT NE\, HOGY SWINGER BULI 😂Fennmaradó összeg helyszínen KP- ban vagy szintén átutalással fizetendő…\nAz eseményt megelőző 72 órán belüli lemondást már nem áll módunkban elfogadni\, ebben az esetben már a teljes díj fizetendő
URL:https://swlt.hu/event/menjunk-egyutt-szinhazba-tobbszoros-orgazmus-rs9/
END:VEVENT
END:VCALENDAR