BEGIN:VCALENDAR
VERSION:2.0
PRODID:-//SWLT Egyesület - ECPv6.15.20//NONSGML v1.0//EN
CALSCALE:GREGORIAN
METHOD:PUBLISH
X-WR-CALNAME:SWLT Egyesület
X-ORIGINAL-URL:https://swlt.hu
X-WR-CALDESC:Események SWLT Egyesület
REFRESH-INTERVAL;VALUE=DURATION:PT1H
X-Robots-Tag:noindex
X-PUBLISHED-TTL:PT1H
BEGIN:VTIMEZONE
TZID:UTC
BEGIN:STANDARD
TZOFFSETFROM:+0000
TZOFFSETTO:+0000
TZNAME:UTC
DTSTART:20220101T000000
END:STANDARD
END:VTIMEZONE
BEGIN:VEVENT
DTSTART;TZID=UTC:20231118T180000
DTEND;TZID=UTC:20231118T233000
DTSTAMP:20260422T205036
CREATED:20231010T100237Z
LAST-MODIFIED:20231010T100237Z
UID:754-1700330400-1700350200@swlt.hu
SUMMARY:Menjünk együtt Klubba! - Dreamland
DESCRIPTION:Ismét közös swingerklub látogatásra hívlak Benneteket! \nMivel nem járhatunk mindig csak az én kedvenc helyeimre\, a program célja is az\, hogy lehetőség szerint minden hazai klubbot megmutassunk Nektek\, ezért ezúttal\nIrány a Dreamland! \nAz estet ismét megelőzi 18.00- tól 19.00- ig egy Mentor Times\, amire várjuk azokat a kezdő swingereket\, akik szívesen beszélgetnek tapasztaltabbakkal 🙂\n19.00- tól pedig az est résztvevői is csatlakoznak hozzánk 🙂 \nEddig nem találtam olyan Pub- ot\, ami alkalmas lenne előtte a találkára\, így megköszönöm\, ha adtok ötletet 😉\nTalálka tehát megint egy pub lenne a közelben\, ahol a buli előtt tudunk még kicsit ismerkedni… majd 21:00 óra magasságában átmegyünk együtt a klubba. Aki csak később jönne\, az ott is csatlakozhat hozzánk\, de jelöljetek Ott leszek- et\, mert a létszámot le kell adnom.\nSzeretettel invitálom a kezdőket és azokat\, akik még nem jártak a Dreamland- ban… no persze azokat is\, akik rendszeresen ott töltik a hétvégéket 😁 \nMenjünk együtt klubba! \nEgyesületi regisztráció:\n \nRegisztráció a programra:
URL:https://swlt.hu/event/menjunk-egyutt-klubba-dreamland/
END:VEVENT
END:VCALENDAR